BEGIN:VCALENDAR
VERSION:2.0
PRODID:-//City of Moultrie - ECPv6.15.20//NONSGML v1.0//EN
CALSCALE:GREGORIAN
METHOD:PUBLISH
X-WR-CALNAME:City of Moultrie
X-ORIGINAL-URL:https://www.moultriega.com
X-WR-CALDESC:Events for City of Moultrie
REFRESH-INTERVAL;VALUE=DURATION:PT1H
X-Robots-Tag:noindex
X-PUBLISHED-TTL:PT1H
BEGIN:VTIMEZONE
TZID:UTC
BEGIN:STANDARD
TZOFFSETFROM:+0000
TZOFFSETTO:+0000
TZNAME:UTC
DTSTART:20210101T000000
END:STANDARD
END:VTIMEZONE
BEGIN:VEVENT
DTSTART;TZID=UTC:20220826T100000
DTEND;TZID=UTC:20221014T173000
DTSTAMP:20260422T131936
CREATED:20220718T121536Z
LAST-MODIFIED:20220718T121536Z
UID:6357-1661508000-1665768600@www.moultriega.com
SUMMARY:Colquitt County Arts Center Annual Southern Arts Invitational!
DESCRIPTION:
URL:https://www.moultriega.com/event/colquitt-county-arts-center-annual-southern-arts-invitational-2/
LOCATION:GA
END:VEVENT
BEGIN:VEVENT
DTSTART;VALUE=DATE:20220903
DTEND;VALUE=DATE:20220904
DTSTAMP:20260422T131936
CREATED:20220901T183028Z
LAST-MODIFIED:20220901T183207Z
UID:6532-1662163200-1662249599@www.moultriega.com
SUMMARY:National Cinema Day
DESCRIPTION:National Cinema Day is just around the corner! Grab your friends and enjoy $3 tickets to every film at every showtime\, only on Saturday September 3.
URL:https://www.moultriega.com/event/national-cinema-day/
LOCATION:GA
END:VEVENT
BEGIN:VEVENT
DTSTART;TZID=UTC:20220903T180000
DTEND;TZID=UTC:20220903T190000
DTSTAMP:20260422T131936
CREATED:20220829T171935Z
LAST-MODIFIED:20220829T171935Z
UID:6519-1662228000-1662231600@www.moultriega.com
SUMMARY:Guided Wildlife Hike at Reed Bingham State Park
DESCRIPTION: Guided Wildlife\n Saturday\, September 3rd\, 6:00 PM to 7:00 PM\n $3 plus $5 parking\n Join a ranger for a guided tour on our beautiful nature trails. Meeting point: Little River Trail entrance.\n Bring your binoculars\, as we’ll also be on the lookout for wildlife.\n Be sure to bring a bug spray and wear comfortable shoes.\n Dogs are welcome!\n Register at the Visitor Center.\n Visit or call the park for questions.
URL:https://www.moultriega.com/event/guided-wildlife-hike-at-reed-bingham-state-park/
LOCATION:GA
END:VEVENT
END:VCALENDAR