BEGIN:VCALENDAR
VERSION:2.0
PRODID:-//City of Moultrie - ECPv6.15.20//NONSGML v1.0//EN
CALSCALE:GREGORIAN
METHOD:PUBLISH
X-WR-CALNAME:City of Moultrie
X-ORIGINAL-URL:https://www.moultriega.com
X-WR-CALDESC:Events for City of Moultrie
REFRESH-INTERVAL;VALUE=DURATION:PT1H
X-Robots-Tag:noindex
X-PUBLISHED-TTL:PT1H
BEGIN:VTIMEZONE
TZID:UTC
BEGIN:STANDARD
TZOFFSETFROM:+0000
TZOFFSETTO:+0000
TZNAME:UTC
DTSTART:20210101T000000
END:STANDARD
END:VTIMEZONE
BEGIN:VEVENT
DTSTART;TZID=UTC:20220826T100000
DTEND;TZID=UTC:20221014T173000
DTSTAMP:20260424T113313
CREATED:20220718T121536Z
LAST-MODIFIED:20220718T121536Z
UID:6357-1661508000-1665768600@www.moultriega.com
SUMMARY:Colquitt County Arts Center Annual Southern Arts Invitational!
DESCRIPTION:
URL:https://www.moultriega.com/event/colquitt-county-arts-center-annual-southern-arts-invitational-2/
LOCATION:GA
END:VEVENT
BEGIN:VEVENT
DTSTART;VALUE=DATE:20220923
DTEND;VALUE=DATE:20220926
DTSTAMP:20260424T113313
CREATED:20220920T202818Z
LAST-MODIFIED:20220920T202818Z
UID:6623-1663891200-1664150399@www.moultriega.com
SUMMARY:2028 and Beyond Coaches & Athletes Skills Camp
DESCRIPTION:
URL:https://www.moultriega.com/event/2028-and-beyond-coaches-athletes-skills-camp/
LOCATION:GA
END:VEVENT
BEGIN:VEVENT
DTSTART;TZID=UTC:20220924T180000
DTEND;TZID=UTC:20220924T190000
DTSTAMP:20260424T113313
CREATED:20220923T125021Z
LAST-MODIFIED:20220923T125021Z
UID:6631-1664042400-1664046000@www.moultriega.com
SUMMARY:Guided Historical Trail Tour Reed Bingham State Park
DESCRIPTION:
URL:https://www.moultriega.com/event/guided-historical-trail-tour-reed-bingham-state-park/
LOCATION:GA
END:VEVENT
END:VCALENDAR