BEGIN:VCALENDAR
VERSION:2.0
PRODID:-//City of Moultrie - ECPv6.15.20//NONSGML v1.0//EN
CALSCALE:GREGORIAN
METHOD:PUBLISH
X-ORIGINAL-URL:https://www.moultriega.com
X-WR-CALDESC:Events for City of Moultrie
REFRESH-INTERVAL;VALUE=DURATION:PT1H
X-Robots-Tag:noindex
X-PUBLISHED-TTL:PT1H
BEGIN:VTIMEZONE
TZID:UTC
BEGIN:STANDARD
TZOFFSETFROM:+0000
TZOFFSETTO:+0000
TZNAME:UTC
DTSTART:20220101T000000
END:STANDARD
END:VTIMEZONE
BEGIN:VEVENT
DTSTART;TZID=UTC:20231012T180000
DTEND;TZID=UTC:20231012T200000
DTSTAMP:20260422T082952
CREATED:20230818T181315Z
LAST-MODIFIED:20230818T181315Z
UID:8132-1697133600-1697140800@www.moultriega.com
SUMMARY:
DESCRIPTION:Halloween Cookie Decorating\nThursday\, October 12 | 6-8 pm\n\n\nElizabeth Dean will host a Halloween Cookie decorating class. $50 per person. Register online at https://www.artscenterofmoultrie.com/…/halloween-cookie… or call us at 229-985-1922.
URL:https://www.moultriega.com/event/8132/
LOCATION:The Arts Center\, 401 7th Avenue S.W.\, Moultrie\, GA\, 31768\, United States
END:VEVENT
BEGIN:VEVENT
DTSTART;TZID=UTC:20231012T180000
DTEND;TZID=UTC:20231012T200000
DTSTAMP:20260422T082952
CREATED:20230919T130652Z
LAST-MODIFIED:20230919T130652Z
UID:8221-1697133600-1697140800@www.moultriega.com
SUMMARY:Halloween Cookie Decorating
DESCRIPTION:6-8 pm | Elizabeth Medley will host a Halloween Cookie decorating class. $50 per person.
URL:https://www.moultriega.com/event/halloween-cookie-decorating/
LOCATION:The Arts Center\, 401 7th Avenue S.W.\, Moultrie\, GA\, 31768\, United States
END:VEVENT
BEGIN:VEVENT
DTSTART;TZID=UTC:20231012T183000
DTEND;TZID=UTC:20231012T183000
DTSTAMP:20260422T082952
CREATED:20230825T121427Z
LAST-MODIFIED:20230825T121427Z
UID:8152-1697135400-1697135400@www.moultriega.com
SUMMARY:Serenity House Candlelight Vigil
DESCRIPTION:
URL:https://www.moultriega.com/event/serenity-house-candlelight-vigil/
LOCATION:GA
END:VEVENT
END:VCALENDAR