BEGIN:VCALENDAR
VERSION:2.0
PRODID:-//City of Moultrie - ECPv6.15.20//NONSGML v1.0//EN
CALSCALE:GREGORIAN
METHOD:PUBLISH
X-ORIGINAL-URL:https://www.moultriega.com
X-WR-CALDESC:Events for City of Moultrie
REFRESH-INTERVAL;VALUE=DURATION:PT1H
X-Robots-Tag:noindex
X-PUBLISHED-TTL:PT1H
BEGIN:VTIMEZONE
TZID:UTC
BEGIN:STANDARD
TZOFFSETFROM:+0000
TZOFFSETTO:+0000
TZNAME:UTC
DTSTART:20230101T000000
END:STANDARD
END:VTIMEZONE
BEGIN:VEVENT
DTSTART;TZID=UTC:20240223T170000
DTEND;TZID=UTC:20240223T170000
DTSTAMP:20260426T001322
CREATED:20240215T143749Z
LAST-MODIFIED:20240215T143749Z
UID:8814-1708707600-1708707600@www.moultriega.com
SUMMARY:Pickleball Learn to Play at Tommy Meredith Gym
DESCRIPTION:Pickleball Learn and Play is FREE and open to seasoned players as well as beginners. We just need to know if your coming so sign up today at https://secure.rec1.com/GA/moultrie-parks-recreation/catalog?filter=c2VhcmNoPTI5MTcyOTU=
URL:https://www.moultriega.com/event/pickleball-learn-to-play-at-tommy-meredith-gym/
LOCATION:Tommy Meredith Gym\, 1100 11th Ave SW\, Moultrie\, GA\, 31768\, United States
END:VEVENT
BEGIN:VEVENT
DTSTART;TZID=UTC:20240223T190000
DTEND;TZID=UTC:20240223T210000
DTSTAMP:20260426T001322
CREATED:20240220T205418Z
LAST-MODIFIED:20240220T205418Z
UID:8832-1708714800-1708722000@www.moultriega.com
SUMMARY:Sp-INGO BINGO at The Speakeasy on Main
DESCRIPTION:
URL:https://www.moultriega.com/event/sp-ingo-bingo-at-the-speakeasy-on-main-2/
LOCATION:The Speakeasy on Main\, 14 S Main St\, Moultrie\, GA\, 31768\, United States
END:VEVENT
END:VCALENDAR