BEGIN:VCALENDAR
VERSION:2.0
PRODID:-//City of Moultrie - ECPv6.15.20//NONSGML v1.0//EN
CALSCALE:GREGORIAN
METHOD:PUBLISH
X-WR-CALNAME:City of Moultrie
X-ORIGINAL-URL:https://www.moultriega.com
X-WR-CALDESC:Events for City of Moultrie
REFRESH-INTERVAL;VALUE=DURATION:PT1H
X-Robots-Tag:noindex
X-PUBLISHED-TTL:PT1H
BEGIN:VTIMEZONE
TZID:UTC
BEGIN:STANDARD
TZOFFSETFROM:+0000
TZOFFSETTO:+0000
TZNAME:UTC
DTSTART:20230101T000000
END:STANDARD
END:VTIMEZONE
BEGIN:VEVENT
DTSTART;TZID=UTC:20240224T100000
DTEND;TZID=UTC:20240224T120000
DTSTAMP:20260425T223709
CREATED:20240129T145746Z
LAST-MODIFIED:20240129T145746Z
UID:8767-1708768800-1708776000@www.moultriega.com
SUMMARY:Spring Lamb Workshop at Dustmade
DESCRIPTION:
URL:https://www.moultriega.com/event/spring-lamb-workshop-at-dustmade/
LOCATION:Dustmade Studio\, 1201 1st Street NE\, Moultrie\, GA\, 31768\, United States
END:VEVENT
BEGIN:VEVENT
DTSTART;TZID=UTC:20240224T190000
DTEND;TZID=UTC:20240224T190000
DTSTAMP:20260425T223709
CREATED:20240222T134408Z
LAST-MODIFIED:20240222T134408Z
UID:8841-1708801200-1708801200@www.moultriega.com
SUMMARY:Monty DeVita at Bandwagon Brewing Company
DESCRIPTION:Join us this Saturday for live music and beer! \n\n 
URL:https://www.moultriega.com/event/monty-devita-at-bandwagon-brewing-company/
LOCATION:Bandwagon Brewing Company\, 33 West Central Ave.\, Moultrie\, GA\, 31768\, United States
END:VEVENT
BEGIN:VEVENT
DTSTART;TZID=UTC:20240224T200000
DTEND;TZID=UTC:20240224T200000
DTSTAMP:20260425T223709
CREATED:20240220T205527Z
LAST-MODIFIED:20240220T205527Z
UID:8833-1708804800-1708804800@www.moultriega.com
SUMMARY:Karaoke Night Party at The Speakeasy on Main
DESCRIPTION:
URL:https://www.moultriega.com/event/karaoke-night-party-at-the-speakeasy-on-main-2/
LOCATION:The Speakeasy on Main\, 14 S Main St\, Moultrie\, GA\, 31768\, United States
END:VEVENT
END:VCALENDAR