BEGIN:VCALENDAR
VERSION:2.0
PRODID:-//City of Moultrie - ECPv6.15.20//NONSGML v1.0//EN
CALSCALE:GREGORIAN
METHOD:PUBLISH
X-WR-CALNAME:City of Moultrie
X-ORIGINAL-URL:https://www.moultriega.com
X-WR-CALDESC:Events for City of Moultrie
REFRESH-INTERVAL;VALUE=DURATION:PT1H
X-Robots-Tag:noindex
X-PUBLISHED-TTL:PT1H
BEGIN:VTIMEZONE
TZID:UTC
BEGIN:STANDARD
TZOFFSETFROM:+0000
TZOFFSETTO:+0000
TZNAME:UTC
DTSTART:20230101T000000
END:STANDARD
END:VTIMEZONE
BEGIN:VEVENT
DTSTART;VALUE=DATE:20240307
DTEND;VALUE=DATE:20240311
DTSTAMP:20260423T114717
CREATED:20240104T185826Z
LAST-MODIFIED:20240104T185826Z
UID:8708-1709769600-1710115199@www.moultriega.com
SUMMARY:Sunset Country Club Pot O’ Gold Pro-AM
DESCRIPTION:
URL:https://www.moultriega.com/event/sunset-country-club-pot-o-gold-pro-am/
LOCATION:Sunset Country Club\, 2730 South Main Street\, Moultrie\, GA\, 31768\, United States
END:VEVENT
BEGIN:VEVENT
DTSTART;TZID=UTC:20240307T173000
DTEND;TZID=UTC:20240307T183000
DTSTAMP:20260423T114717
CREATED:20240223T185118Z
LAST-MODIFIED:20240223T185118Z
UID:8846-1709832600-1709836200@www.moultriega.com
SUMMARY:2024 Youth Art Month Exhibition Opening Reception & Awards
DESCRIPTION:Support our CCHS artists selected to present their work at the 2024 Youth Art Month Exhibition at The Arts Center of Moultrie.\n\n\nOpening Reception & Awards\nThursday\, March 7 | 5:30 – 6:30 pm\n​\nExhibition On View\nMarch 8 – April 5 | M-F\, 10 am – 5:30 pm
URL:https://www.moultriega.com/event/2024-youth-art-month-exhibition-opening-reception-awards/
LOCATION:The Arts Center\, 401 7th Avenue S.W.\, Moultrie\, GA\, 31768\, United States
END:VEVENT
BEGIN:VEVENT
DTSTART;TZID=UTC:20240307T190000
DTEND;TZID=UTC:20240307T190000
DTSTAMP:20260423T114717
CREATED:20240305T135555Z
LAST-MODIFIED:20240305T135555Z
UID:8877-1709838000-1709838000@www.moultriega.com
SUMMARY:Sp-INGO BINGO!! at The Speakeasy on Main
DESCRIPTION:
URL:https://www.moultriega.com/event/sp-ingo-bingo-at-the-speakeasy-on-main-3/
LOCATION:The Speakeasy on Main\, 14 S Main St\, Moultrie\, GA\, 31768\, United States
END:VEVENT
END:VCALENDAR