BEGIN:VCALENDAR
VERSION:2.0
PRODID:-//City of Moultrie - ECPv6.15.20//NONSGML v1.0//EN
CALSCALE:GREGORIAN
METHOD:PUBLISH
X-ORIGINAL-URL:https://www.moultriega.com
X-WR-CALDESC:Events for City of Moultrie
REFRESH-INTERVAL;VALUE=DURATION:PT1H
X-Robots-Tag:noindex
X-PUBLISHED-TTL:PT1H
BEGIN:VTIMEZONE
TZID:UTC
BEGIN:STANDARD
TZOFFSETFROM:+0000
TZOFFSETTO:+0000
TZNAME:UTC
DTSTART:20230101T000000
END:STANDARD
END:VTIMEZONE
BEGIN:VEVENT
DTSTART;TZID=UTC:20240404T080000
DTEND;TZID=UTC:20240406T170000
DTSTAMP:20260419T175202
CREATED:20240104T145309Z
LAST-MODIFIED:20240222T134009Z
UID:8704-1712217600-1712422800@www.moultriega.com
SUMMARY:48th Annual Spring Moultrie Automotive Swap Meet and Car Corral
DESCRIPTION:
URL:https://www.moultriega.com/event/48th-annual-spring-moultrie-automotive-swap-meet-and-car-corral/
LOCATION:SunBelt Expo\, 290-G Harper Blvd\, Moultrie\, GA\, 31788
END:VEVENT
END:VCALENDAR