BEGIN:VCALENDAR
VERSION:2.0
PRODID:-//City of Moultrie - ECPv6.15.20//NONSGML v1.0//EN
CALSCALE:GREGORIAN
METHOD:PUBLISH
X-WR-CALNAME:City of Moultrie
X-ORIGINAL-URL:https://www.moultriega.com
X-WR-CALDESC:Events for City of Moultrie
REFRESH-INTERVAL;VALUE=DURATION:PT1H
X-Robots-Tag:noindex
X-PUBLISHED-TTL:PT1H
BEGIN:VTIMEZONE
TZID:UTC
BEGIN:STANDARD
TZOFFSETFROM:+0000
TZOFFSETTO:+0000
TZNAME:UTC
DTSTART:20230101T000000
END:STANDARD
END:VTIMEZONE
BEGIN:VEVENT
DTSTART;TZID=UTC:20240422T073000
DTEND;TZID=UTC:20240426T163000
DTSTAMP:20260423T100029
CREATED:20240404T183021Z
LAST-MODIFIED:20240404T183021Z
UID:8975-1713771000-1714149000@www.moultriega.com
SUMMARY:Annual Spring Cleanup week
DESCRIPTION:April has been designated Keep Georgia Beautiful Month\, and in conjunction with Keep America Beautiful’s Great American Cleanup\, the City of Moultrie is proud to sponsor its Annual Spring Cleanup Week from Monday\, April 22\, 2024\, to Friday\, April 26\, 2024. During this weeklong cleanup event\, City of Moultrie residents can clean their properties of litter\, debris\, appliances\, junk automobiles\, and other discarded items at no additional cost. Just place the items in their normal collection location at each address\, and City workers will collect them. Alternatively\, a trailer will be located at the City of Moultrie Service Center at 1108 1st St NE\, and residents can bring and unload their own discarded items at no additional cost. Junk automobiles will also be collected at no additional cost by local salvage and wrecker services – call the City of Moultrie Public Works Department at 229-668-5423 for a list of participating haulers.\nPlease note that free pickup is reserved for City of Moultrie residents only\, excluding commercial businesses and vacant rental properties. Items are limited to non-trash items\, excluding limbs\, leaves\, other yard waste\, hazardous wastes\, and building demolition. There is a volume limit of 25 cubic yards per address.\nAlso\, there will be an electronic recycling event on Wednesday\, April 24\, 2024 from 9 AM until 3 PM whereby City of Moultrie residents can bring their discarded electronic appliances to a recycling trailer which will be located at the Georgia State Farmers Market.\nThanks for your continued cooperation as we strive to keep Moultrie a clean and pleasant place to live!\nCity of Moultrie Public Works Department\n(229) 668-5423
URL:https://www.moultriega.com/event/annual-spring-cleanup-week-2/
LOCATION:City of Moultrie Service Center\, 1108 1st ST NE\, Moultrie\, GA\, 31768\, United States
END:VEVENT
BEGIN:VEVENT
DTSTART;TZID=UTC:20240425T190000
DTEND;TZID=UTC:20240425T190000
DTSTAMP:20260423T100029
CREATED:20240404T181712Z
LAST-MODIFIED:20240404T181712Z
UID:8972-1714071600-1714071600@www.moultriega.com
SUMMARY:Trivia Night at Bandwagon Brewing Company
DESCRIPTION:BEER\, FOOD\, and TRIVIA! Get ready for weekly fun starting March 14th at Bandwagon Brewing Company! Every Thursday night\, we’re hosting Trivia Night\, where you can challenge your brain while sipping our fantastic brews. And guess what? We’ve got your taste buds covered too\, thanks to Weezy’s Food Truck\, which will be parked out front each Thursday!\nGrab your crew\, bring your A-game\, and compete for the top three spots to snag some awesome prizes. Whether you’re a trivia whiz or just out for a good time\, join us for laughter\, camaraderie\, and brain-teasing excitement. Mark your calendars\, and we’ll see you there!\nFree to play. Game hosted by Challenge Entertainment
URL:https://www.moultriega.com/event/trivia-night-at-bandwagon-brewing-company-7/
LOCATION:Bandwagon Brewing Company\, 33 West Central Ave.\, Moultrie\, GA\, 31768\, United States
END:VEVENT
BEGIN:VEVENT
DTSTART;TZID=UTC:20240425T190000
DTEND;TZID=UTC:20240425T190000
DTSTAMP:20260423T100029
CREATED:20240424T195848Z
LAST-MODIFIED:20240424T195848Z
UID:9011-1714071600-1714071600@www.moultriega.com
SUMMARY:SP-INGO Night at The Speakeasy on Main
DESCRIPTION:
URL:https://www.moultriega.com/event/sp-ingo-night-at-the-speakeasy-on-main-3/
LOCATION:The Speakeasy on Main\, 14 S Main St\, Moultrie\, GA\, 31768\, United States
END:VEVENT
END:VCALENDAR