BEGIN:VCALENDAR
VERSION:2.0
PRODID:-//City of Moultrie - ECPv6.15.20//NONSGML v1.0//EN
CALSCALE:GREGORIAN
METHOD:PUBLISH
X-WR-CALNAME:City of Moultrie
X-ORIGINAL-URL:https://www.moultriega.com
X-WR-CALDESC:Events for City of Moultrie
REFRESH-INTERVAL;VALUE=DURATION:PT1H
X-Robots-Tag:noindex
X-PUBLISHED-TTL:PT1H
BEGIN:VTIMEZONE
TZID:UTC
BEGIN:STANDARD
TZOFFSETFROM:+0000
TZOFFSETTO:+0000
TZNAME:UTC
DTSTART:20230101T000000
END:STANDARD
END:VTIMEZONE
BEGIN:VEVENT
DTSTART;TZID=UTC:20241209T173000
DTEND;TZID=UTC:20241209T183000
DTSTAMP:20260419T145857
CREATED:20241118T140823Z
LAST-MODIFIED:20241118T140823Z
UID:9962-1733765400-1733769000@www.moultriega.com
SUMMARY:Love Light 2024 at Kate Jeter Serenity Garden CRMC
DESCRIPTION:Experience the magic of the season at the lighting of The Love Light Garden on Monday\, December 9th! It will be fun for the whole family with a hot cocoa bar and pictures with Santa!
URL:https://www.moultriega.com/event/love-light-2024-at-kate-jeter-serenity-garden-crmc/
LOCATION:Colquitt Regional Medical Center\, 3131 S Main St\,\, Moultrie\, GA\, 31768\, United States
END:VEVENT
BEGIN:VEVENT
DTSTART;TZID=UTC:20241209T173000
DTEND;TZID=UTC:20241209T200000
DTSTAMP:20260419T145857
CREATED:20241203T161138Z
LAST-MODIFIED:20241203T161138Z
UID:10010-1733765400-1733774400@www.moultriega.com
SUMMARY:Merry Market at Market on the Square
DESCRIPTION:Merry Christmas!Market on the Square would like to invite you to our Merry Market December 9th from 5:30 to 8:00! We will have a variety of vendors presents as well as letters to Santa and Pictures with the Grinch! As well as door prizes! Make sure to stay tuned for all the wonderful vendors that will be set up!We can’t wait to see you there and spread the Holiday cheer!
URL:https://www.moultriega.com/event/merry-market-at-market-on-the-square/
LOCATION:Market on the Square\, 15 East Central Ave.\, Moultrie\, GA\, 31768\, United States
END:VEVENT
END:VCALENDAR