BEGIN:VCALENDAR
VERSION:2.0
PRODID:-//City of Moultrie - ECPv6.15.20//NONSGML v1.0//EN
CALSCALE:GREGORIAN
METHOD:PUBLISH
X-WR-CALNAME:City of Moultrie
X-ORIGINAL-URL:https://www.moultriega.com
X-WR-CALDESC:Events for City of Moultrie
REFRESH-INTERVAL;VALUE=DURATION:PT1H
X-Robots-Tag:noindex
X-PUBLISHED-TTL:PT1H
BEGIN:VTIMEZONE
TZID:UTC
BEGIN:STANDARD
TZOFFSETFROM:+0000
TZOFFSETTO:+0000
TZNAME:UTC
DTSTART:20240101T000000
END:STANDARD
END:VTIMEZONE
BEGIN:VEVENT
DTSTART;TZID=UTC:20250106T080000
DTEND;TZID=UTC:20250106T160000
DTSTAMP:20260424T182055
CREATED:20241217T192232Z
LAST-MODIFIED:20241217T192232Z
UID:10071-1736150400-1736179200@www.moultriega.com
SUMMARY:School's Out Mini-Camp at Tommy Meredith Gym
DESCRIPTION: School’s Out Mini Camp! No school? No problem! Join us for two days of fun\, friends\, and activities at our School’s Out Mini Camp! When: January 6th & 7th Where: Tommy Meredith Gym Activities Include:Creative crafts Fun games Indoor pickleball And so much more! Open to kids ages 5-12 looking to stay active and entertained while school is out! Spaces are limited\, so sign up today! Call 229-668-0028 or visit https://mccpra.recdesk.com/Community/Program/Detail… to register.Let’s kick off the new year with energy\, smiles\, and nonstop fun! #SchoolsOutCamp #MiniCampFun #StayActive #KidsActivities #FunTimesAheadRegister today at https://mccpra.recdesk.com/Community/Program/Detail…
URL:https://www.moultriega.com/event/schools-out-mini-camp-at-tommy-meredith-gym/
LOCATION:Tommy Meredith Gym\, 1100 11th Ave SW\, Moultrie\, GA\, 31768\, United States
END:VEVENT
END:VCALENDAR