BEGIN:VCALENDAR
VERSION:2.0
PRODID:-//City of Moultrie - ECPv6.15.20//NONSGML v1.0//EN
CALSCALE:GREGORIAN
METHOD:PUBLISH
X-WR-CALNAME:City of Moultrie
X-ORIGINAL-URL:https://www.moultriega.com
X-WR-CALDESC:Events for City of Moultrie
REFRESH-INTERVAL;VALUE=DURATION:PT1H
X-Robots-Tag:noindex
X-PUBLISHED-TTL:PT1H
BEGIN:VTIMEZONE
TZID:UTC
BEGIN:STANDARD
TZOFFSETFROM:+0000
TZOFFSETTO:+0000
TZNAME:UTC
DTSTART:20240101T000000
END:STANDARD
END:VTIMEZONE
BEGIN:VEVENT
DTSTART;TZID=UTC:20250127T160000
DTEND;TZID=UTC:20250127T160000
DTSTAMP:20260419T132630
CREATED:20250115T151650Z
LAST-MODIFIED:20250115T151650Z
UID:10251-1737993600-1737993600@www.moultriega.com
SUMMARY:South Georgia Showdown at Needmore Speedway
DESCRIPTION:!\n\nThe countdown is on for the    at  \, and we’re thrilled to share the ticket prices and event schedule!\nMark your calendars for this can’t-miss doubleheader of high-speed action Monday\, January 27 and Tuesday\, January 28 as both the Hunt the Front Super Dirt Series and Needmore Speedway take center stage for the first during Speedweeks! \n    for general admission are available now at https://www.myracepass.com/series/2068/tickets —don’t wait to secure your spot at the South Georgia Showdown!\n The   and ticket prices are included in the flyer below. Get ready for two huge nights of racing featuring top dirt drivers battling for big money on the red clay at Needmore!\n $\,     for Super Late Models — featuring the stars of the HTF Series plus invaders from the World of Outlaws and Lucas Oil Series looking to bag extra money during their Speeweeks trip!\n $\,     for the IMCA Modified Lite STARS Series — featuring drivers from all over the country and even Canada during their Speedweeks tour!\n\nMake your plans now\, and let us know in the comments who you’re most excited to see in action!\n\n\n  \n  \n 
URL:https://www.moultriega.com/event/south-georgia-showdown-at-needmore-speedway/
LOCATION:Needmore Speedway\, 1060 John Vickers Rd\, Norman Park\, GA\, 31771\, United States
END:VEVENT
END:VCALENDAR