BEGIN:VCALENDAR
VERSION:2.0
PRODID:-//City of Moultrie - ECPv6.15.20//NONSGML v1.0//EN
CALSCALE:GREGORIAN
METHOD:PUBLISH
X-ORIGINAL-URL:https://www.moultriega.com
X-WR-CALDESC:Events for City of Moultrie
REFRESH-INTERVAL;VALUE=DURATION:PT1H
X-Robots-Tag:noindex
X-PUBLISHED-TTL:PT1H
BEGIN:VTIMEZONE
TZID:UTC
BEGIN:STANDARD
TZOFFSETFROM:+0000
TZOFFSETTO:+0000
TZNAME:UTC
DTSTART:20240101T000000
END:STANDARD
END:VTIMEZONE
BEGIN:VEVENT
DTSTART;TZID=UTC:20250719T120000
DTEND;TZID=UTC:20250719T160000
DTSTAMP:20260423T084736
CREATED:20250715T190542Z
LAST-MODIFIED:20250715T190542Z
UID:11012-1752926400-1752940800@www.moultriega.com
SUMMARY:Bandwagon Farmer's Market & Lobster Dogs Food Truck
DESCRIPTION: Want to vend?Reach out to Kimberly Carreras ONLY at: Cheers@BandwagonBrewing.com No other contacts are official — protect yourself from scams.\n Bandwagon Brewing Co. | Off the Downtown Square Saturday\, July 19th Market Hours: 12PM–4PM Lobster Dogs Food Truck: 1PM–8PM (or until sold out!)\n This isn’t just a market — it’s a local celebration.We’re turning up the good vibes and packing the block with community spirit\, farm-fresh finds\, ice-cold drinks\, and one seriously beloved food truck.\n Cool off with Bandwagon’s small-batch craft brews or our frozen hard seltzers — yes\, the ones everyone’s raving about. Stroll the market and discover:• Local produce\, eggs\, herbs\, honey• Freshly baked breads & sweets• Handmade goods\, art\, home essentials & more• Moultrie makers and growers doing what they do best\n And YES — Lobster Dogs is pulling up from 1–8PM!You already know: they will sell out. Don’t miss your shot at the best lobster rolls and stuffed avocados in town.
URL:https://www.moultriega.com/event/bandwagon-farmers-market-lobster-dogs-food-truck/
LOCATION:Bandwagon Brewing Company\, 33 West Central Ave.\, Moultrie\, GA\, 31768\, United States
END:VEVENT
BEGIN:VEVENT
DTSTART;TZID=UTC:20250719T140000
DTEND;TZID=UTC:20250719T140000
DTSTAMP:20260423T084736
CREATED:20250603T143929Z
LAST-MODIFIED:20250603T143929Z
UID:10872-1752933600-1752933600@www.moultriega.com
SUMMARY:Reader's Theater Performance: Miss Nelson is Missing!
DESCRIPTION:READER’S THEATER WITH MAEGAN: Miss Nelson is Missing!Performance: Saturday\, July 19 at 2 pm
URL:https://www.moultriega.com/event/readers-theater-performance-miss-nelson-is-missing/
LOCATION:The Arts Center\, 401 7th Avenue S.W.\, Moultrie\, GA\, 31768\, United States
END:VEVENT
BEGIN:VEVENT
DTSTART;TZID=UTC:20250719T203000
DTEND;TZID=UTC:20250719T203000
DTSTAMP:20260423T084736
CREATED:20250717T135918Z
LAST-MODIFIED:20250717T135918Z
UID:11044-1752957000-1752957000@www.moultriega.com
SUMMARY:Randy Wiley at The Speakeasy on Main
DESCRIPTION:Live Music\n\n 
URL:https://www.moultriega.com/event/randy-wiley-at-the-speakeasy-on-main-9/
LOCATION:The Speakeasy on Main\, 14 S Main St\, Moultrie\, GA\, 31768\, United States
END:VEVENT
END:VCALENDAR