BEGIN:VCALENDAR
VERSION:2.0
PRODID:-//City of Moultrie - ECPv6.15.20//NONSGML v1.0//EN
CALSCALE:GREGORIAN
METHOD:PUBLISH
X-ORIGINAL-URL:https://www.moultriega.com
X-WR-CALDESC:Events for City of Moultrie
REFRESH-INTERVAL;VALUE=DURATION:PT1H
X-Robots-Tag:noindex
X-PUBLISHED-TTL:PT1H
BEGIN:VTIMEZONE
TZID:UTC
BEGIN:STANDARD
TZOFFSETFROM:+0000
TZOFFSETTO:+0000
TZNAME:UTC
DTSTART:20240101T000000
END:STANDARD
END:VTIMEZONE
BEGIN:VEVENT
DTSTART;TZID=UTC:20250728T080000
DTEND;TZID=UTC:20250801T170000
DTSTAMP:20260423T164451
CREATED:20250603T144559Z
LAST-MODIFIED:20250603T144559Z
UID:10879-1753689600-1754067600@www.moultriega.com
SUMMARY:Youth Summer Camp: Comics & Cartoons at The Arts Center
DESCRIPTION:REGISTRATION OPENS MARCH 1\, 2025.Presented by United Way of Colquitt County.\nComics & Cartoons | July 28 – August 1 – Campers will learn how to create various cartoon characters using multiple mediums. Students will explore the world of comics\, cartoons\, and storytelling.\nInstructor: Kathy NelsonDates: Monday – FridayTime: 8:00 am – 5:00 pmAges: Rising 3rd – Rising 6th GradersFee: $100 per camper\nScholarships are available for those who need financial assistance. Please email finance@moultriearts.org for more information.\nCamps include morning and afternoon instruction in art\, music\, theater\, and pottery. Campers will go to the MCCPRA pool to swim Wednesday afternoon. Please bring lunch and a water bottle. Snack will be provided\, but campers may bring an additional snack\, if desired.\nDaily Schedule:\nEarly Arrival (must be approved) – 7:45 amStandard Arrival – 8:00 amClass Instruction Begins – 9:00 amLunch – 12:00 pmSnack – 3:00 pmPickup – 4:00 – 5:00 pm\nCamp registration closes at midnight on the Thursday before camp begins. Please contact us at 229-985-1922 if you need assistance.\nRegister at https://www.moultriearts.org/camps.
URL:https://www.moultriega.com/event/youth-summer-camp-comics-cartoons-at-the-arts-center/
LOCATION:The Arts Center\, 401 7th Avenue S.W.\, Moultrie\, GA\, 31768\, United States
END:VEVENT
BEGIN:VEVENT
DTSTART;TZID=UTC:20250729T180000
DTEND;TZID=UTC:20250729T180000
DTSTAMP:20260423T164451
CREATED:20250603T133459Z
LAST-MODIFIED:20250603T133459Z
UID:10857-1753812000-1753812000@www.moultriega.com
SUMMARY:Once Upon a Tide Summer Book Club Tea Party at Moultrie Library
DESCRIPTION:Choose between reading either Under the Whispering Door by TJ Klune or Remarkably Bright Creatures by Shelby Van Pelt and join us at the Moultrie-Colquitt County Library for a cozy\, ocean-inspired afternoon as we discuss the books and sip on a variety of teas and enjoy treats while surrounded by dreamy under-the-sea décor. Explore themes of friendship\, healing\, and magic\, and create your own custom tea blend to take home!\nSigning up on this form lets us know which book to reserve for you—and we’ll give you a call when it’s ready for pickup!Your sign-up also counts as your RSVP for the book club tea party. Spots are limited\, so don’t miss out!\nhttps://docs.google.com/…/1FAIpQLScAQRcPpvo…/viewform…
URL:https://www.moultriega.com/event/once-upon-a-tide-summer-book-club-tea-party-at-moultrie-library/
LOCATION:Moultrie-Colquitt County Library System\, 204 5th St SE\, Moultrie\, GA\, 31768\, United States
END:VEVENT
END:VCALENDAR