BEGIN:VCALENDAR
VERSION:2.0
PRODID:-//City of Moultrie - ECPv6.15.20//NONSGML v1.0//EN
CALSCALE:GREGORIAN
METHOD:PUBLISH
X-ORIGINAL-URL:https://www.moultriega.com
X-WR-CALDESC:Events for City of Moultrie
REFRESH-INTERVAL;VALUE=DURATION:PT1H
X-Robots-Tag:noindex
X-PUBLISHED-TTL:PT1H
BEGIN:VTIMEZONE
TZID:UTC
BEGIN:STANDARD
TZOFFSETFROM:+0000
TZOFFSETTO:+0000
TZNAME:UTC
DTSTART:20240101T000000
END:STANDARD
END:VTIMEZONE
BEGIN:VEVENT
DTSTART;TZID=UTC:20250819T180000
DTEND;TZID=UTC:20250819T180000
DTSTAMP:20260424T000905
CREATED:20240906T174604Z
LAST-MODIFIED:20240906T174604Z
UID:9591-1755626400-1755626400@www.moultriega.com
SUMMARY:City Council Meeting
DESCRIPTION:City Council Room 2nd Floor \n21 1st Avenue NE\nMoultrie\, GA 31768
URL:https://www.moultriega.com/event/city-council-meeting-166/
LOCATION:City Council Room\, 21 1st Avenue NE\, Moultrie\, GA\, 31768\, United States
END:VEVENT
BEGIN:VEVENT
DTSTART;TZID=UTC:20250819T180000
DTEND;TZID=UTC:20250819T180000
DTSTAMP:20260424T000905
CREATED:20250716T175933Z
LAST-MODIFIED:20250716T175933Z
UID:11018-1755626400-1755626400@www.moultriega.com
SUMMARY:Canvas Bag Art Night at Moultrie Library
DESCRIPTION:Get ready to paint\, design\, and decorate your very own canvas tote bag! We’ll provide all the supplies (fabric paint\, stencils\, brushes\, and plenty of creative inspiration.)\nWhether you want bold patterns\, fun shapes\, or something completely one-of-a-kind\, your tote will be uniquely you.\nSpace is limited\, so be sure to save your spot! RSVP by calling (229) 985-6540.
URL:https://www.moultriega.com/event/canvas-bag-art-night-at-moultrie-library/
LOCATION:Moultrie-Colquitt County Library System\, 204 5th St SE\, Moultrie\, GA\, 31768\, United States
END:VEVENT
END:VCALENDAR