BEGIN:VCALENDAR
VERSION:2.0
PRODID:-//City of Moultrie - ECPv6.15.20//NONSGML v1.0//EN
CALSCALE:GREGORIAN
METHOD:PUBLISH
X-ORIGINAL-URL:https://www.moultriega.com
X-WR-CALDESC:Events for City of Moultrie
REFRESH-INTERVAL;VALUE=DURATION:PT1H
X-Robots-Tag:noindex
X-PUBLISHED-TTL:PT1H
BEGIN:VTIMEZONE
TZID:UTC
BEGIN:STANDARD
TZOFFSETFROM:+0000
TZOFFSETTO:+0000
TZNAME:UTC
DTSTART:20240101T000000
END:STANDARD
END:VTIMEZONE
BEGIN:VEVENT
DTSTART;TZID=UTC:20251209T173000
DTEND;TZID=UTC:20251209T173000
DTSTAMP:20260423T153445
CREATED:20251126T193659Z
LAST-MODIFIED:20251126T193659Z
UID:11525-1765301400-1765301400@www.moultriega.com
SUMMARY:Painting with Pints hosted by Rio Davies & Let's Paint It at Bandwagon Brewing Company
DESCRIPTION:Join us at Bandwagon Brewing Company for a festive Holiday Paint & Sip! Whether you’re coming with friends or flying solo\, get ready for a fun and creative night out. Grab a brush\, order your favorite drink\, and create a masterpiece—no experience needed!\nOur talented artist Rio will guide you step-by-step.Located in the heart of Downtown Moultrie\, our brewery features a wide selection of handcrafted beers (20+ on tap) along with beer cocktails\, fruity hard seltzers\, cask ale\, and delicious non-alcoholic specialty sodas. Bar snacks including kettle chips\, nuts\, and truffle popcorn are available for purchase or BYO food.\nLet’s raise a glass and a paintbrush to great brews\, a family-friendly atmosphere\, and an evening filled with painting\, tasting\, and unforgettable memories. Unleash your inner artist—we’ll see you there!\nLocation: 33 W Central Ave Moultrie\, GA 31768\nDate & Time: Tuesday December 9th | 5:30pm–8:00pm\nCost:$40 per person\nhttps://checkout.square.site/…/SCHOM3OEPPSIYZPN5OK5UA2C…\n(All painting supplies included!)Drinks and snacks are not included in the ticket price and can be purchased separately. Must be 21+ to drink. Please arrive 5–10 minutes early.\n\nQuestions? infoletspaintit@gmail.com Message us or “Let’s Paint It” on Messenger
URL:https://www.moultriega.com/event/painting-with-pints-hosted-by-rio-davies-lets-paint-it-at-bandwagon-brewing-company/
LOCATION:Bandwagon Brewing Company\, 33 West Central Ave.\, Moultrie\, GA\, 31768\, United States
END:VEVENT
END:VCALENDAR