BEGIN:VCALENDAR
VERSION:2.0
PRODID:-//City of Moultrie - ECPv6.15.20//NONSGML v1.0//EN
CALSCALE:GREGORIAN
METHOD:PUBLISH
X-WR-CALNAME:City of Moultrie
X-ORIGINAL-URL:https://www.moultriega.com
X-WR-CALDESC:Events for City of Moultrie
REFRESH-INTERVAL;VALUE=DURATION:PT1H
X-Robots-Tag:noindex
X-PUBLISHED-TTL:PT1H
BEGIN:VTIMEZONE
TZID:UTC
BEGIN:STANDARD
TZOFFSETFROM:+0000
TZOFFSETTO:+0000
TZNAME:UTC
DTSTART:20250101T000000
END:STANDARD
END:VTIMEZONE
BEGIN:VEVENT
DTSTART;TZID=UTC:20260213T180000
DTEND;TZID=UTC:20260213T210000
DTSTAMP:20260423T114727
CREATED:20260120T200128Z
LAST-MODIFIED:20260120T200128Z
UID:11664-1771005600-1771016400@www.moultriega.com
SUMMARY:Night To Shine at Heritage Church
DESCRIPTION:Night to Shine is coming up Friday\, February 13 from 6 to 9 PM. Presented by the Breathe Organization and the Tim Tebow Foundation. Music\, dance\, and a red carpet experience all to make our special needs participants and family members feel celebrated and loved. This event is a blast for everyone\, so please register today.This event needs more than 300 volunteers to make it possible. We would love to have you volunteer for Night to Shine and make a special need participant feel celebrated and loved! No experience necessary. Sign up to serve here!https://subspla.sh/rhj5z2hSign up for participants:https://subspla.sh/7z458v4
URL:https://www.moultriega.com/event/night-to-shine-at-heritage-church-2/
LOCATION:Heritage Church\, 844 GA Highway 33 S\, Moultrie\, GA\, 31788\, United States
END:VEVENT
BEGIN:VEVENT
DTSTART;TZID=UTC:20260213T200000
DTEND;TZID=UTC:20260213T200000
DTSTAMP:20260423T114727
CREATED:20260212T160902Z
LAST-MODIFIED:20260212T160902Z
UID:11718-1771012800-1771012800@www.moultriega.com
SUMMARY:Heavy Metal Concert| Jeff Hill\, The Stronghold\, Vanara\, & Torn to Life at Bandwagon Brewing Co.
DESCRIPTION:Heavy Metal Friday the 13th at Bandwagon Brewing Company!\nJoin us for our first-ever heavy metal show at Bandwagon Brewing Company on Friday the 13th\, and we are so excited to bring a night like this to Moultrie.\nJoin us at 33 W Central Ave\, Moultrie\, GA 31768. The brewery will be open with special hours from 12PM–12AM.Starting at 8PM\, the evening becomes a ticketed concert event.\n$5 cash at the doorConcert setup starts at 7PM | Performances start at 8PMAll ages welcome (teens and up encouraged)21+ to drink – IDs will be checked\nWe have a stacked lineup of performers includingJEFF HILL (AKA CARBOMBSERMON)\, TORN TO LIFE\, VANARA\, & THE STRONGHOLD! Something for every kind of heavy music fan.\nJEFF HILL (Opener)Jeff Hill kicks off the night with a solo set that blends spoken word\, comedy\, and honest storytelling. A published author and poet\, he’s spent nearly two decades touring in metal and punk bands—including as the vocalist for hardcore band Machinist! His solo performances mix humor\, improvisation\, and moments that really land. He knows how to grab a room and set the tone. Jeff has opened up for WWE superstar Mic Foley as well as Preston Lacey from Jackass. This is a set you wont want to miss!\nTORN TO LIFETorn To Life brings heavy riffs\, raw aggression\, with a psychedelic edge to keep things interesting. Mixing classic metal roots with hardcore and thrash energy\, they deliver big grooves\, pounding drums\, and soaring hooks!\nVANARAComing out of Albany\, GA\, VANARA delivers groove/death metal the way it’s meant to be—thick\, driving riffs\, pounding drums\, and serious intensity. Inspired by Lamb of God\, Sepultura\, and Gojira\, their sound blends crushing heaviness with tight\, rhythmic groove that hits hard and keeps the crowd moving. It’s aggressive\, locked in\, and built for a live setting.\nHeadliner: THE STRONGHOLDHailing from Tallahassee\, The Stronghold closes out the night. Formed in 2006\, they’ve built a reputation on their heavy\, groove-driven sound with a bit of unpredictability mixed in. They’ve shared the stage with All That Remains\, Norma Jean\, Soulfly\, Animals As Leaders\, Thy Art Is Murder\, and more. Now a solid four-piece with Ed Jones on vocals\, they’re still bringing the weight.\nWe know Moultrie doesn’t have a huge metal scene—but we also know there are plenty of metal fans out here. If you’ve been waiting for a night like this\, you don’t want to miss it.\nBandwagon prides itself on creating an inclusive space for everyone\, and we’re proud to open our doors to the heavy metal music community.\nShare this event with your friends and join us at Bandwagon for an unforgettable night of heavy metal music\, movement\, and community!
URL:https://www.moultriega.com/event/heavy-metal-concert-jeff-hill-the-stronghold-vanara-torn-to-life-at-bandwagon-brewing-co/
LOCATION:Bandwagon Brewing Company\, 33 West Central Ave.\, Moultrie\, GA\, 31768\, United States
END:VEVENT
BEGIN:VEVENT
DTSTART;TZID=UTC:20260213T203000
DTEND;TZID=UTC:20260213T203000
DTSTAMP:20260423T114727
CREATED:20260212T161423Z
LAST-MODIFIED:20260212T161423Z
UID:11723-1771014600-1771014600@www.moultriega.com
SUMMARY:Valentine Karaoke Party at The Speakeasy on Main
DESCRIPTION:
URL:https://www.moultriega.com/event/valentine-karaoke-party-at-the-speakeasy-on-main/
LOCATION:The Speakeasy on Main\, 14 S Main St\, Moultrie\, GA\, 31768\, United States
END:VEVENT
END:VCALENDAR