BEGIN:VCALENDAR
VERSION:2.0
PRODID:-//City of Moultrie - ECPv6.15.20//NONSGML v1.0//EN
CALSCALE:GREGORIAN
METHOD:PUBLISH
X-ORIGINAL-URL:https://www.moultriega.com
X-WR-CALDESC:Events for City of Moultrie
REFRESH-INTERVAL;VALUE=DURATION:PT1H
X-Robots-Tag:noindex
X-PUBLISHED-TTL:PT1H
BEGIN:VTIMEZONE
TZID:UTC
BEGIN:STANDARD
TZOFFSETFROM:+0000
TZOFFSETTO:+0000
TZNAME:UTC
DTSTART:20250101T000000
END:STANDARD
END:VTIMEZONE
BEGIN:VEVENT
DTSTART;TZID=UTC:20260403T080000
DTEND;TZID=UTC:20260403T170000
DTSTAMP:20260420T130358
CREATED:20260227T152847Z
LAST-MODIFIED:20260227T152847Z
UID:11787-1775203200-1775235600@www.moultriega.com
SUMMARY:50th Anniversary Spring Moultrie Automotive Swap Meet & Car Corral
DESCRIPTION:Big surprise coming soon! Stay tuned!\nLike and share\, you won’t want to miss this event!
URL:https://www.moultriega.com/event/50th-anniversary-spring-moultrie-automotive-swap-meet-car-corral-3/
LOCATION:Spence Field\, W Yount St\, Moultrie\, GA\, 31788\, United States
END:VEVENT
END:VCALENDAR