BEGIN:VCALENDAR
VERSION:2.0
PRODID:-//City of Moultrie - ECPv6.15.20//NONSGML v1.0//EN
CALSCALE:GREGORIAN
METHOD:PUBLISH
X-ORIGINAL-URL:https://www.moultriega.com
X-WR-CALDESC:Events for City of Moultrie
REFRESH-INTERVAL;VALUE=DURATION:PT1H
X-Robots-Tag:noindex
X-PUBLISHED-TTL:PT1H
BEGIN:VTIMEZONE
TZID:UTC
BEGIN:STANDARD
TZOFFSETFROM:+0000
TZOFFSETTO:+0000
TZNAME:UTC
DTSTART:20240101T000000
END:STANDARD
END:VTIMEZONE
BEGIN:VEVENT
DTSTART;TZID=UTC:20250414T180000
DTEND;TZID=UTC:20250414T200000
DTSTAMP:20260423T105723
CREATED:20250324T191100Z
LAST-MODIFIED:20250324T191100Z
UID:10476-1744653600-1744660800@www.moultriega.com
SUMMARY:Pocket Vase + Flower Arranging Workshop with Better Half Farms
DESCRIPTION:It’s that time of year! It’s time for BLOOMS! Enjoy this spring season with a handmade ceramic vase made by YOU and filled with gorgeous flowers from Better Half Farms! \nPart One: Monday\, April 14th       *LOCATED AT DUSTMADE STUDIO* \n-An ideal pottery workshop for beginners\, Leah will guide you through the hand building process to create a vase! You will create ONE ceramic vase \n*Pieces will be hand built out of a sand-color\, stoneware clay. After you have hand built your piece\, Leah will take back to her studio to glaze each one the color of your choosing! \nPart Two: Monday\, May 5th         *LOCATED AT BETTER HALF FARMS* \n -You’ll start the evening discussing flowers and end the night making a take home flower arrangement in YOUR VASE! \nDate:  April 14th and May 5th \nTime: 6 pm – 8 pm EST \nLocation:  \nPart 1 – Dustmade Studio – 120 South Main St.  Moultrie\, GA 31768 \nPart 2 – Better Half Farms – 939 Kendallwood Church Rd – Moultrie\, GA 31768 \nDetails: \nThis is a two-part workshop. \n*If you are unable to attend Part 2 at the farm\, your vase + flowers will be available for pickup the next day at Dustmade Studio  . \n* Note * Once you have purchased a workshop ticket\, your spot is reserved and we are unable to refund or exchange your spot.
URL:https://www.moultriega.com/event/pocket-vase-flower-arranging-workshop-with-better-half-farms/
LOCATION:GA
END:VEVENT
BEGIN:VEVENT
DTSTART;TZID=UTC:20250415T180000
DTEND;TZID=UTC:20250415T180000
DTSTAMP:20260423T105723
CREATED:20240906T174223Z
LAST-MODIFIED:20240906T174223Z
UID:9586-1744740000-1744740000@www.moultriega.com
SUMMARY:City Council Meeting
DESCRIPTION:City Council Room 2nd Floor \n21 1st Avenue NE\nMoultrie\, GA 31768
URL:https://www.moultriega.com/event/city-council-meeting-158/
LOCATION:City Council Room\, 21 1st Avenue NE\, Moultrie\, GA\, 31768\, United States
END:VEVENT
BEGIN:VEVENT
DTSTART;TZID=UTC:20250417T084500
DTEND;TZID=UTC:20250417T150000
DTSTAMP:20260423T105723
CREATED:20250328T124430Z
LAST-MODIFIED:20250328T124430Z
UID:10529-1744879500-1744902000@www.moultriega.com
SUMMARY:AARP Smart Drivers Course at Magnolia Manor South
DESCRIPTION:
URL:https://www.moultriega.com/event/aarp-smart-drivers-course-at-magnolia-manor-south/
LOCATION:Magnolia Manor South\, 3011 Veterans Parkway South\, Moultrie\, GA\, 31788\, United States
END:VEVENT
BEGIN:VEVENT
DTSTART;TZID=UTC:20250417T180000
DTEND;TZID=UTC:20250417T200000
DTSTAMP:20260423T105723
CREATED:20250416T135929Z
LAST-MODIFIED:20250416T135929Z
UID:10594-1744912800-1744920000@www.moultriega.com
SUMMARY:2025 Missions Campaign Kick Off  at Bandwagon Brewing Company
DESCRIPTION:Save the date! Come support our Missions Campaign at the Bandwagon Brewery. For every purchase made\, $1 will be donated to the YMCA Missions Campaign. We hope to see you there!
URL:https://www.moultriega.com/event/2025-missions-campaign-kick-off-at-bandwagon-brewing-company/
LOCATION:Bandwagon Brewing Company\, 33 West Central Ave.\, Moultrie\, GA\, 31768\, United States
END:VEVENT
BEGIN:VEVENT
DTSTART;TZID=UTC:20250417T190000
DTEND;TZID=UTC:20250417T190000
DTSTAMP:20260423T105723
CREATED:20250416T134623Z
LAST-MODIFIED:20250416T134623Z
UID:10588-1744916400-1744916400@www.moultriega.com
SUMMARY:SP-IBGO BINGO at The Speakeasy on Main
DESCRIPTION:win prizes and shots!
URL:https://www.moultriega.com/event/sp-ibgo-bingo-at-the-speakeasy-on-main/
LOCATION:The Speakeasy on Main\, 14 S Main St\, Moultrie\, GA\, 31768\, United States
END:VEVENT
BEGIN:VEVENT
DTSTART;TZID=UTC:20250418T080000
DTEND;TZID=UTC:20250418T170000
DTSTAMP:20260423T105723
CREATED:20250404T131955Z
LAST-MODIFIED:20250404T131955Z
UID:10563-1744963200-1744995600@www.moultriega.com
SUMMARY:Scrap Tire Amnesty Event at Recycling Facility
DESCRIPTION:Colquitt County and the City of Moultrie are holding a Scrap Tire Amnesty Event. It will be from 8:00 AM – 5:00 PM on April 18 & 19\, 2025. Citizens of Colquitt County and its municipalities can bring scrap tires to the Recycling Facility located at 245 23rd Street NE during this two-day window.Scrap tires can only be passenger\, tractor-trailer\, or front and rear farm tractor scrap tires.No heavy equipment tires\, especially skidder tires\, will be accepted. No scrap tires will be accepted from retail tire dealers or commercial scrap tire generators.The specifications for this event will be strictly enforced by Colquitt County and EPD. There will be no exceptions to the dates\, times\, or tire types.No tires will be accepted at the landfill at any time.For more information\, please contact the Colquitt County Solid Waste Department at 229-616-7405.
URL:https://www.moultriega.com/event/scrap-tire-amnesty-event-at-recycling-facility/
LOCATION:Recycling Facility\, 245 23rd Street NE\, Moultrie\, GA\, 31788\, United States
END:VEVENT
BEGIN:VEVENT
DTSTART;TZID=UTC:20250418T173000
DTEND;TZID=UTC:20250418T173000
DTSTAMP:20260423T105723
CREATED:20250328T125247Z
LAST-MODIFIED:20250328T125247Z
UID:10533-1744997400-1744997400@www.moultriega.com
SUMMARY:Good Friday Evening Service at Frist Baptist Church of Moultrie Georgia
DESCRIPTION:
URL:https://www.moultriega.com/event/good-friday-evening-service-at-frist-baptist-church-of-moultrie-georgia/
LOCATION:First Baptist Church Moultrie\, 400 South Main Street\, Moultrie\, GA\, 31768\, United States
END:VEVENT
BEGIN:VEVENT
DTSTART;TZID=UTC:20250418T190000
DTEND;TZID=UTC:20250418T210000
DTSTAMP:20260423T105723
CREATED:20250108T150351Z
LAST-MODIFIED:20250108T150351Z
UID:10180-1745002800-1745010000@www.moultriega.com
SUMMARY:Spring Fling & Backyard BBQ Festival Kick-Off Concert
DESCRIPTION:The next Spring Fling and Backyard BBQ Festival will be held April 18th & 19th\, 2025.\nFriday kick-off concert: 7:00 PM – 9:00 PM.\nSaturday: 9:00 AM – 4:00 PM.\nSpring is in the air\, and soon the smell of BBQ will be too. Downtown Moultrie’s Spring Fling and Backyard BBQ Festival is held on the 3rd weekend in April. In 2024 more than 200 vendors set up around the square. Jewelry\, lawn art\, leather belts\, food\, and so much more was sold! With the Kiwanis Club Pancake Breakfast\, Entertainment\, Kids Activities\, a BBQ Competition\, and Arts & Crafts\, you’ll be able to find something the whole family is sure to love!
URL:https://www.moultriega.com/event/spring-fling-backyard-bbq-festival-kick-off-concert-2/
LOCATION:Downtown Moultrie\, MOULTRIE\, GA\, 31776
END:VEVENT
BEGIN:VEVENT
DTSTART;TZID=UTC:20250418T210000
DTEND;TZID=UTC:20250418T210000
DTSTAMP:20260423T105723
CREATED:20250416T134824Z
LAST-MODIFIED:20250416T134824Z
UID:10590-1745010000-1745010000@www.moultriega.com
SUMMARY:Spring Fling Night at The Speakeasy on Main
DESCRIPTION:DJ TRACY HUNTER
URL:https://www.moultriega.com/event/spring-fling-night-at-the-speakeasy-on-main/
LOCATION:The Speakeasy on Main\, 14 S Main St\, Moultrie\, GA\, 31768\, United States
END:VEVENT
BEGIN:VEVENT
DTSTART;TZID=UTC:20250419T080000
DTEND;TZID=UTC:20250419T170000
DTSTAMP:20260423T105723
CREATED:20250404T132131Z
LAST-MODIFIED:20250404T132131Z
UID:10565-1745049600-1745082000@www.moultriega.com
SUMMARY:Scrap Tire Amnesty Event at Recycling Facility
DESCRIPTION:Colquitt County and the City of Moultrie are holding a Scrap Tire Amnesty Event. It will be from 8:00 AM – 5:00 PM on April 18 & 19\, 2025. Citizens of Colquitt County and its municipalities can bring scrap tires to the Recycling Facility located at 245 23rd Street NE during this two-day window.Scrap tires can only be passenger\, tractor-trailer\, or front and rear farm tractor scrap tires.No heavy equipment tires\, especially skidder tires\, will be accepted. No scrap tires will be accepted from retail tire dealers or commercial scrap tire generators.The specifications for this event will be strictly enforced by Colquitt County and EPD. There will be no exceptions to the dates\, times\, or tire types.No tires will be accepted at the landfill at any time.For more information\, please contact the Colquitt County Solid Waste Department at 229-616-7405.
URL:https://www.moultriega.com/event/scrap-tire-amnesty-event-at-recycling-facility-2/
LOCATION:Recycling Facility\, 245 23rd Street NE\, Moultrie\, GA\, 31788\, United States
END:VEVENT
BEGIN:VEVENT
DTSTART;TZID=UTC:20250419T090000
DTEND;TZID=UTC:20250419T160000
DTSTAMP:20260423T105723
CREATED:20240906T173614Z
LAST-MODIFIED:20250108T150649Z
UID:9579-1745053200-1745078400@www.moultriega.com
SUMMARY:Spring Fling & Backyard BBQ Festival
DESCRIPTION:The next Spring Fling and Backyard BBQ Festival will be held April 18th & 19th\, 2025.\nFriday kick-off concert: 7:00 PM – 9:00 PM.\nSaturday: 9:00 AM – 4:00 PM.\nSpring is in the air\, and soon the smell of BBQ will be too. Downtown Moultrie’s Spring Fling and Backyard BBQ Festival is held on the 3rd weekend in April. In 2024 more than 200 vendors set up around the square. Jewelry\, lawn art\, leather belts\, food\, and so much more was sold! With the Kiwanis Club Pancake Breakfast\, Entertainment\, Kids Activities\, a BBQ Competition\, and Arts & Crafts\, you’ll be able to find something the whole family is sure to love!
URL:https://www.moultriega.com/event/spring-fling-backyard-bbq-festival-2/
LOCATION:Downtown Moultrie\, MOULTRIE\, GA\, 31776
END:VEVENT
BEGIN:VEVENT
DTSTART;TZID=UTC:20250419T100000
DTEND;TZID=UTC:20250419T100000
DTSTAMP:20260423T105723
CREATED:20250328T125008Z
LAST-MODIFIED:20250328T125008Z
UID:10531-1745056800-1745056800@www.moultriega.com
SUMMARY:Easter Egg Hunt at Main Street Park
DESCRIPTION:
URL:https://www.moultriega.com/event/easter-egg-hunt-at-main-street-park/
LOCATION:Main Street Park\, 1220 South Main Street\, Moultrie\, GA\, 31768\, United States
END:VEVENT
BEGIN:VEVENT
DTSTART;TZID=UTC:20250419T100000
DTEND;TZID=UTC:20250419T100000
DTSTAMP:20260423T105723
CREATED:20250402T163253Z
LAST-MODIFIED:20250402T163438Z
UID:10555-1745056800-1745056800@www.moultriega.com
SUMMARY:Annual Egg Hunt at Berlin VFD
DESCRIPTION:All ages are welcome. Come on out and enjoy our annual egg hunt!!! Snacks\, game\, prizes and more. We can’t wait to see everyone!!!!!
URL:https://www.moultriega.com/event/annual-egg-hunt-at-berlin-vfd/
LOCATION:Berlin VFD\, 174 Wilkes Street\, Berlin\, GA\, 31722\, United States
END:VEVENT
BEGIN:VEVENT
DTSTART;TZID=UTC:20250419T120000
DTEND;TZID=UTC:20250419T160000
DTSTAMP:20260423T105723
CREATED:20250331T130900Z
LAST-MODIFIED:20250331T130900Z
UID:10543-1745064000-1745078400@www.moultriega.com
SUMMARY:Pop-up Farmers Market at Bandwagon Brewing Company
DESCRIPTION:Come join us at Bandwagon Brewing Company for Downtown Moultrie’s Annual Spring Fling Festival and discover our vibrant Pop-Up Vendor Market\, featuring over 18 amazing local vendors! From locally foraged mushrooms and pickled vegetables to hot sauces\, sourdough bread\, art\, self-care products\, sweet treats\, instruments\, and much more – there’s something for everyone!\nEnjoy TWO live music performances throughout the day: John Pitts will be rocking the stage from 2-5pm\, and Zach Mannino takes over from 7-10pm. These incredibly talented artists are sure to make the day even more unforgettable!\nSupport small businesses\, shop local\, and help our community thrive together. Bandwagon Brewing will be pouring a fantastic selection of in-house craft beers\, and Lobster Dogs will be serving up delicious food to keep you fueled all day long.\nWe can’t wait to celebrate with you – see you there!
URL:https://www.moultriega.com/event/pop-up-farmers-market-at-bandwagon-brewing-company/
LOCATION:Bandwagon Brewing Company\, 33 West Central Ave.\, Moultrie\, GA\, 31768\, United States
END:VEVENT
BEGIN:VEVENT
DTSTART;TZID=UTC:20250419T203000
DTEND;TZID=UTC:20250419T203000
DTSTAMP:20260423T105723
CREATED:20250416T135035Z
LAST-MODIFIED:20250416T135035Z
UID:10592-1745094600-1745094600@www.moultriega.com
SUMMARY:Karaoke Night Hosted by Rusty Hanna at The Speakeasy on Main
DESCRIPTION:Karaoke hosted by Rusty Hanna
URL:https://www.moultriega.com/event/karaoke-night-hosted-by-rusty-hanna-at-the-speakeasy-on-main/
LOCATION:The Speakeasy on Main\, 14 S Main St\, Moultrie\, GA\, 31768\, United States
END:VEVENT
BEGIN:VEVENT
DTSTART;TZID=UTC:20250420T090000
DTEND;TZID=UTC:20250420T090000
DTSTAMP:20260423T105723
CREATED:20250328T125427Z
LAST-MODIFIED:20250328T125456Z
UID:10534-1745139600-1745139600@www.moultriega.com
SUMMARY:the King is Alive Easter at First Baptist Church of Moultrie Georgia
DESCRIPTION:
URL:https://www.moultriega.com/event/the-king-is-alive-easter-at-first-baptist-church-of-moultrie-georgia/
LOCATION:First Baptist Church Moultrie\, 400 South Main Street\, Moultrie\, GA\, 31768\, United States
END:VEVENT
BEGIN:VEVENT
DTSTART;TZID=UTC:20250420T110000
DTEND;TZID=UTC:20250420T110000
DTSTAMP:20260423T105723
CREATED:20250328T125545Z
LAST-MODIFIED:20250328T125545Z
UID:10535-1745146800-1745146800@www.moultriega.com
SUMMARY:the King is Alive Easter at First Baptist Church of Moultrie Georgia
DESCRIPTION:
URL:https://www.moultriega.com/event/the-king-is-alive-easter-at-first-baptist-church-of-moultrie-georgia-2/
LOCATION:First Baptist Church Moultrie\, 400 South Main Street\, Moultrie\, GA\, 31768\, United States
END:VEVENT
BEGIN:VEVENT
DTSTART;TZID=UTC:20250421T080000
DTEND;TZID=UTC:20250425T170000
DTSTAMP:20260423T105723
CREATED:20241231T184753Z
LAST-MODIFIED:20241231T190145Z
UID:10137-1745222400-1745600400@www.moultriega.com
SUMMARY:Spring Clean-up Week
DESCRIPTION:It is officially Spring Clean-Up Week in Moultrie\, GA! Clean up your property of debris\, appliances\, junk automobiles\, and other discarded items at no additional cost. See the graphic below for more details.
URL:https://www.moultriega.com/event/spring-clean-up-week-2/
LOCATION:GA
END:VEVENT
BEGIN:VEVENT
DTSTART;TZID=UTC:20250421T180000
DTEND;TZID=UTC:20250421T200000
DTSTAMP:20260423T105723
CREATED:20250324T191248Z
LAST-MODIFIED:20250324T191248Z
UID:10479-1745258400-1745265600@www.moultriega.com
SUMMARY:Ceramic Pressed Floral CUP\, VASE or MUG
DESCRIPTION:Enjoy this spring/summer season with a ceramic Pressed Floral Piece made by YOU! Unlock your creativity in this hands-on ceramic workshop\, where you’ll design and craft your own cup\, vase\, stein or mug. Using natural dried flowers\, you’ll learn how to press them into clay to create beautiful\, one-of-a-kind textures and patterns. An ideal pottery workshop for beginners\, Leah will guide you through the hand building process to create your piece! \n*Pieces will be hand built out of brown speckled stoneware clay. After you have hand built your piece\, Leah will take back to her studio to glaze the color scheme of your choosing. \nDate: Monday\, April 21st \nTime: 6 – 8pm EST \nLocation: Dustmade Studio. 120 S Main St\, Moultrie\, GA 31768 \nDetails: \nThis is a one part workshop. \n*Pieces will be ready for pickup 2-3 weeks following workshop. \n* Note * Once you have purchased a workshop ticket\, your spot is reserved and we are unable to refund or exchange your spot.
URL:https://www.moultriega.com/event/ceramic-pressed-floral-cup-vase-or-mug/
LOCATION:GA
END:VEVENT
BEGIN:VEVENT
DTSTART;TZID=UTC:20250423T090000
DTEND;TZID=UTC:20250423T150000
DTSTAMP:20260423T105723
CREATED:20241231T140146Z
LAST-MODIFIED:20241231T140146Z
UID:10135-1745398800-1745420400@www.moultriega.com
SUMMARY:Electronic Recycling Event
DESCRIPTION:
URL:https://www.moultriega.com/event/electronic-recycling-event-2/
LOCATION:GA
END:VEVENT
BEGIN:VEVENT
DTSTART;TZID=UTC:20250424T173000
DTEND;TZID=UTC:20250424T193000
DTSTAMP:20260423T105723
CREATED:20250422T145748Z
LAST-MODIFIED:20250422T145748Z
UID:10599-1745515800-1745523000@www.moultriega.com
SUMMARY:Dogs in the Drive-Thru at Chick-fil-A Moultrie
DESCRIPTION:IT’S BACK\nDogs in the Drive-Thru event!\nBring your dog(s) through the drive-thru THIS Thursday\, April 24th from 5:30pm-7:30pm & receive a Chick-fil-A fetch toy & pup cup with any purchase made! We can’t wait to see your fur babies!\n•Dog(s) must be present!\n•1 item per dog\n•Drive-Thru only!\n•While supplies last!
URL:https://www.moultriega.com/event/dogs-in-the-drive-thru-at-chick-fil-a-moultrie/
LOCATION:Chick-fil-A\, 502 Lane St\, Moultrie\, GA\, 31768\, United States
END:VEVENT
BEGIN:VEVENT
DTSTART;TZID=UTC:20250424T190000
DTEND;TZID=UTC:20250424T190000
DTSTAMP:20260423T105723
CREATED:20250423T142819Z
LAST-MODIFIED:20250423T142819Z
UID:10601-1745521200-1745521200@www.moultriega.com
SUMMARY:SP-INGO BINGO at The Speakeasy on Main
DESCRIPTION:Our version of BINGO
URL:https://www.moultriega.com/event/sp-ingo-bingo-at-the-speakeasy-on-main-9/
LOCATION:The Speakeasy on Main\, 14 S Main St\, Moultrie\, GA\, 31768\, United States
END:VEVENT
BEGIN:VEVENT
DTSTART;TZID=UTC:20250425T150000
DTEND;TZID=UTC:20250426T150000
DTSTAMP:20260423T105723
CREATED:20250425T180005Z
LAST-MODIFIED:20250425T180005Z
UID:10619-1745593200-1745679600@www.moultriega.com
SUMMARY:Borderline Brawl at Needmore Speedway
DESCRIPTION:It’s RACEWEEK!!!! Or should i say BRAWL WEEK\n\n\nDRIVERS AND FANS PLEASE READ\, ALL INFORMATION IS BELOW. This Thursday-Saturday Needmore Speedway is the place to be as the 9th Annual Borderline Brawl is taking place. This event is going to be one you can’t miss.\n\n\nThursday- Open Practice for all divisions\nFriday- prelims for Factory stock ($500 to win $100 to start heats) and Crown Vics ($250 to win prelim features) + complete shows for 602 sportsmans and Street Stocks\nSaturday- Factory stock bmains/main event ($3\,000 to win $300 to start) and heats/bmains/main event for Crown Vics ($750 to win) + complete show for 604 Late Models and Super Street\n\n\n and Prices:\nTHURSDAY- Pits open at 5pm\, Practice 7-10pm/ Pits $25 single day or 3day $80\nFRIDAY- Pits open at 3pm\, Grandstands at 6pm\, and Hotlaps at 7:30/Grandstands $10\, Pits $30 Single day or $65 2day (Kids 12 and Under Free)\nSATURDAY- Pits open at 3pm\, Grandstands at 5pm and Hotlaps at 7pm/ Pits $35 and Grandstands $15 (kids 12 and under FREE)\n\n\nCROWN VIC RACERS: Friday there will be multiple $250 to win features. Car count will determine how many (each driver will on run in 1 of the features)\, but everyone will race. For example if there is 30 cars\, then there will be two 15 car features. The top 2 finishers of each feature are automatically locked into Saturday night. IF YOU CANT COME UNTIL Saturday\, there will be plenty of opportunities for track time and to have a good starting position. We will run heats on Saturday as well (lined up based off of Friday\, if you are a need entry you will simply start in the back of the heat only) and then bmains and then the feature.\n\n\nEntry Fees: includes transponder\nFactory Stock- $125 (entire weekend)\nCrown Vics- $50 (entire weekend)\nAll other classes will just have transponder fee\n\n\nATVs: Must be 16 or older to operate\nThursday- $25 weekend only\nFriday- $20 Weekend only\nSaturday- $15\n\n\nWant a fence parking spot so you can tailgate/grill and be up close and personal? Contact Jenny at 229-561-0836 to reserve your spot. They are $30 for the spot + your Grandstand or Pit passes.\n\n\nThere will be a Easter Egg Hunt for the kids on Saturday\, so make sure to bring bags for your children. Also we are taking up donations for Mattie’s Mission and are encouraging anyone and everyone to bring a toy of any kind to donate.\n\n\nIf you haven’t already done so please make your plans to join us now for this great event!!
URL:https://www.moultriega.com/event/borderline-brawl-at-needmore-speedway/
LOCATION:Needmore Speedway\, 1060 John Vickers Rd\, Norman Park\, GA\, 31771\, United States
END:VEVENT
BEGIN:VEVENT
DTSTART;TZID=UTC:20250425T180000
DTEND;TZID=UTC:20250425T220000
DTSTAMP:20260423T105723
CREATED:20250324T194421Z
LAST-MODIFIED:20250324T194421Z
UID:10496-1745604000-1745618400@www.moultriega.com
SUMMARY:Groovin' for a Cure - Relay for Life
DESCRIPTION:
URL:https://www.moultriega.com/event/groovin-for-a-cure-relay-for-life/
LOCATION:GA
END:VEVENT
BEGIN:VEVENT
DTSTART;TZID=UTC:20250425T190000
DTEND;TZID=UTC:20250425T200000
DTSTAMP:20260423T105723
CREATED:20250416T134405Z
LAST-MODIFIED:20250416T134405Z
UID:10586-1745607600-1745611200@www.moultriega.com
SUMMARY:Swing Dance Workshop at The Arts Center
DESCRIPTION: SWING INTO SPRING Looking to add some new moves to your dance floor repertoire? Look no further than our upcoming Swing Dance Workshop!Visit the link below to learn more and sign up!https://bit.ly/4jumPIV
URL:https://www.moultriega.com/event/swing-dance-workshop-at-the-arts-center/
LOCATION:The Arts Center\, 401 7th Avenue S.W.\, Moultrie\, GA\, 31768\, United States
END:VEVENT
BEGIN:VEVENT
DTSTART;TZID=UTC:20250425T203000
DTEND;TZID=UTC:20250425T203000
DTSTAMP:20260423T105723
CREATED:20250423T143415Z
LAST-MODIFIED:20250423T143415Z
UID:10603-1745613000-1745613000@www.moultriega.com
SUMMARY:Karaoke hosted by Tracy Hunter at The Speakeasy on Main
DESCRIPTION:Karaoke & Dance music
URL:https://www.moultriega.com/event/karaoke-hosted-by-tracy-hunter-at-the-speakeasy-on-main-2/
LOCATION:The Speakeasy on Main\, 14 S Main St\, Moultrie\, GA\, 31768\, United States
END:VEVENT
BEGIN:VEVENT
DTSTART;TZID=UTC:20250426T100000
DTEND;TZID=UTC:20250426T150000
DTSTAMP:20260423T105723
CREATED:20250328T171429Z
LAST-MODIFIED:20250328T171429Z
UID:10536-1745661600-1745679600@www.moultriega.com
SUMMARY:Spring Market at Wilkes Family Farm
DESCRIPTION:We are excited to celebrate our second annual spring market! We will have homemade blueberry ice cream\, u-pick blueberries\, vendors with all kinds of goodies\, and activities for the whole family! Lots of fun you don’t want to miss!
URL:https://www.moultriega.com/event/spring-market-at-wilkes-family-farm-2/
LOCATION:Wilkes Family Farm\, 907 Ellenton Norman Park Rd\, Norman Aprk\, GA\, 31771\, United States
END:VEVENT
BEGIN:VEVENT
DTSTART;TZID=UTC:20250426T190000
DTEND;TZID=UTC:20250426T190000
DTSTAMP:20260423T105723
CREATED:20250320T174031Z
LAST-MODIFIED:20250320T174031Z
UID:10455-1745694000-1745694000@www.moultriega.com
SUMMARY:Pickin' Pear at Bandwagon Brewing Company
DESCRIPTION:Tia Martini and Leon Elam create an original modern sound on two traditional instruments. Together the Pickin’ Pear take the banjo and ukulele down the road of folk\, rock\, and bluegrass. Sometimes the ukulele will launch you straight into outer space! A blend of top-notch songwriting and improvisational jamming makes each performance exciting and new. The Pickin’ Pear are happy to bring their organic and all-natural blend of folk ‘n’ roll to stages across the U.S.
URL:https://www.moultriega.com/event/pickin-pear-at-bandwagon-brewing-company/
LOCATION:Bandwagon Brewing Company\, 33 West Central Ave.\, Moultrie\, GA\, 31768\, United States
END:VEVENT
BEGIN:VEVENT
DTSTART;TZID=UTC:20250426T203000
DTEND;TZID=UTC:20250426T203000
DTSTAMP:20260423T105723
CREATED:20250423T143622Z
LAST-MODIFIED:20250423T143622Z
UID:10605-1745699400-1745699400@www.moultriega.com
SUMMARY:Heath Deloach at The Speakeasy on Main
DESCRIPTION:Live music
URL:https://www.moultriega.com/event/heath-deloach-at-the-speakeasy-on-main-6/
LOCATION:The Speakeasy on Main\, 14 S Main St\, Moultrie\, GA\, 31768\, United States
END:VEVENT
BEGIN:VEVENT
DTSTART;TZID=UTC:20250501T190000
DTEND;TZID=UTC:20250501T190000
DTSTAMP:20260423T105723
CREATED:20250501T185022Z
LAST-MODIFIED:20250501T185022Z
UID:10643-1746126000-1746126000@www.moultriega.com
SUMMARY:SP-INGO BINGO Night at The Speakeasy on Main
DESCRIPTION:Our version of BINGO
URL:https://www.moultriega.com/event/sp-ingo-bingo-night-at-the-speakeasy-on-main-10/
LOCATION:The Speakeasy on Main\, 14 S Main St\, Moultrie\, GA\, 31768\, United States
END:VEVENT
END:VCALENDAR