BEGIN:VCALENDAR
VERSION:2.0
PRODID:-//City of Moultrie - ECPv6.15.20//NONSGML v1.0//EN
CALSCALE:GREGORIAN
METHOD:PUBLISH
X-ORIGINAL-URL:https://www.moultriega.com
X-WR-CALDESC:Events for City of Moultrie
REFRESH-INTERVAL;VALUE=DURATION:PT1H
X-Robots-Tag:noindex
X-PUBLISHED-TTL:PT1H
BEGIN:VTIMEZONE
TZID:UTC
BEGIN:STANDARD
TZOFFSETFROM:+0000
TZOFFSETTO:+0000
TZNAME:UTC
DTSTART:20240101T000000
END:STANDARD
END:VTIMEZONE
BEGIN:VEVENT
DTSTART;TZID=UTC:20250903T180000
DTEND;TZID=UTC:20250903T200000
DTSTAMP:20260423T162927
CREATED:20250815T141920Z
LAST-MODIFIED:20250815T141920Z
UID:11112-1756922400-1756929600@www.moultriega.com
SUMMARY:Boots & Brews Line Dancing Night! at Bandwagon Brewing Company
DESCRIPTION:Moultrie\, it’s time to dance\, connect\, and cut loose! Whether you’re 7 or 77\, flying solo or bringing the whole crew\, Line Dancing Night at Bandwagon Brewing Co. is your midweek invitation to let go\, have fun\, and be part of something special. Everyone’s welcome—no rhythm\, boots\, or partner required! Meet Your Instructor – Narvareaz “Reaz” Colson!We’re thrilled to welcome the talented Reaz to lead the night with her signature energy and encouragement!With over 25 years of experience\, Reaz is a certified instructor\, choreographer\, and community builder who’s helped dancers of all ages find confidence and joy on the dance floor. From soulful two-steps to high-energy stomps\, her easy-to-follow style makes everyone feel like a natural. You might’ve seen her at the YMCA\, local festivals\, or private events—and now she’s bringing those moves to Bandwagon!
URL:https://www.moultriega.com/event/boots-brews-line-dancing-night-at-bandwagon-brewing-company/
LOCATION:Bandwagon Brewing Company\, 33 West Central Ave.\, Moultrie\, GA\, 31768\, United States
END:VEVENT
BEGIN:VEVENT
DTSTART;TZID=UTC:20250904T190000
DTEND;TZID=UTC:20250904T190000
DTSTAMP:20260423T162927
CREATED:20250902T165248Z
LAST-MODIFIED:20250902T165248Z
UID:11146-1757012400-1757012400@www.moultriega.com
SUMMARY:SPINGO BINGO at The Speakeasy on Main
DESCRIPTION:BINGO Night
URL:https://www.moultriega.com/event/spingo-bingo-at-the-speakeasy-on-main-2/
LOCATION:The Speakeasy on Main\, 14 S Main St\, Moultrie\, GA\, 31768\, United States
END:VEVENT
BEGIN:VEVENT
DTSTART;TZID=UTC:20250905T183000
DTEND;TZID=UTC:20250905T183000
DTSTAMP:20260423T162927
CREATED:20250903T131536Z
LAST-MODIFIED:20250903T131536Z
UID:11152-1757097000-1757097000@www.moultriega.com
SUMMARY:FAM JAM! at Heritage Church
DESCRIPTION:Elementary Families\, Join us Friday\, September 5th for FAM JAM at Heritage Church!\n6:30PM- Doughboys Pizza available by the slice ($1) & Pre-show Fun!\n7:00 PM- The Show Starts!!\nFam Jam is an opportunity for elementary kids and their families to have fun\, learn\, and grow together in a free Friday night experience!\nDon’t miss the fun starting at 6:30 PM\, with the show starting at 7:00 PM! Bring your friends!!
URL:https://www.moultriega.com/event/fam-jam-at-heritage-church-6/
LOCATION:Heritage Church\, 844 GA Highway 33 S\, Moultrie\, GA\, 31788\, United States
END:VEVENT
BEGIN:VEVENT
DTSTART;TZID=UTC:20250905T203000
DTEND;TZID=UTC:20250905T203000
DTSTAMP:20260423T162927
CREATED:20250902T165512Z
LAST-MODIFIED:20250902T165512Z
UID:11148-1757104200-1757104200@www.moultriega.com
SUMMARY:Lilly King at The Speakeasy on Main
DESCRIPTION:Lilly King
URL:https://www.moultriega.com/event/lilly-king-at-the-speakeasy-on-main-3/
LOCATION:The Speakeasy on Main\, 14 S Main St\, Moultrie\, GA\, 31768\, United States
END:VEVENT
BEGIN:VEVENT
DTSTART;TZID=UTC:20250910T180000
DTEND;TZID=UTC:20250910T180000
DTSTAMP:20260423T162927
CREATED:20250728T180019Z
LAST-MODIFIED:20250728T180019Z
UID:11075-1757527200-1757527200@www.moultriega.com
SUMMARY:The 9th Annual Be the Light Night
DESCRIPTION:
URL:https://www.moultriega.com/event/the-9th-annual-be-the-light-night/
LOCATION:Downtown Moultrie\, MOULTRIE\, GA\, 31776
END:VEVENT
BEGIN:VEVENT
DTSTART;TZID=UTC:20250911T120000
DTEND;TZID=UTC:20250911T120000
DTSTAMP:20260423T162927
CREATED:20241226T132050Z
LAST-MODIFIED:20241226T132050Z
UID:10115-1757592000-1757592000@www.moultriega.com
SUMMARY:Downtown Development Authority Moultrie
DESCRIPTION:
URL:https://www.moultriega.com/event/downtown-development-authority-moultrie-20/
LOCATION:Downtown Moultrie Welcome Center\, 31 East Central Ave.\, Moultrie\, GA\, 31768\, United States
END:VEVENT
BEGIN:VEVENT
DTSTART;TZID=UTC:20250911T190000
DTEND;TZID=UTC:20250911T190000
DTSTAMP:20260423T162927
CREATED:20250909T202648Z
LAST-MODIFIED:20250909T202648Z
UID:11169-1757617200-1757617200@www.moultriega.com
SUMMARY:SPINGO BINGO at The Speakeasy on Main
DESCRIPTION:BINGO Night!
URL:https://www.moultriega.com/event/spingo-bingo-at-the-speakeasy-on-main-3/
LOCATION:The Speakeasy on Main\, 14 S Main St\, Moultrie\, GA\, 31768\, United States
END:VEVENT
BEGIN:VEVENT
DTSTART;TZID=UTC:20250912T140000
DTEND;TZID=UTC:20250912T140000
DTSTAMP:20260423T162927
CREATED:20250815T173927Z
LAST-MODIFIED:20250819T200209Z
UID:11119-1757685600-1757685600@www.moultriega.com
SUMMARY:World of Outlaws Needmore Late Model Showdown at Needmore Speedway
DESCRIPTION:Outlaws head down to Georgia A Peach State doubleheader kicks off with a return to Needmore Speedway for the first time since 2011!
URL:https://www.moultriega.com/event/world-of-outlaws-needmore-late-modle-showdown-at-needmore-speedway/
LOCATION:Needmore Speedway\, 1060 John Vickers Rd\, Norman Park\, GA\, 31771\, United States
END:VEVENT
BEGIN:VEVENT
DTSTART;TZID=UTC:20250912T203000
DTEND;TZID=UTC:20250912T203000
DTSTAMP:20260423T162927
CREATED:20250909T202810Z
LAST-MODIFIED:20250909T202810Z
UID:11171-1757709000-1757709000@www.moultriega.com
SUMMARY:Bill Morris at The Speakeasy on Main
DESCRIPTION:Live Music
URL:https://www.moultriega.com/event/bill-morris-at-the-speakeasy-on-main-9/
LOCATION:The Speakeasy on Main\, 14 S Main St\, Moultrie\, GA\, 31768\, United States
END:VEVENT
BEGIN:VEVENT
DTSTART;TZID=UTC:20250913T100000
DTEND;TZID=UTC:20250913T180000
DTSTAMP:20260423T162927
CREATED:20250103T180330Z
LAST-MODIFIED:20250103T180330Z
UID:10158-1757757600-1757786400@www.moultriega.com
SUMMARY:Second Saturday
DESCRIPTION:Visit Downtown Moultrie for Second Saturday! Downtown merchants will be holding sidewalk sales\, and several area food trucks will gather around the Courthouse Square. Select downtown eateries will be open as well! For more information on the event\, call 229-890-5455.
URL:https://www.moultriega.com/event/second-saturday-14/
LOCATION:Downtown Moultrie\, MOULTRIE\, GA\, 31776
END:VEVENT
BEGIN:VEVENT
DTSTART;TZID=UTC:20250913T120000
DTEND;TZID=UTC:20250913T120000
DTSTAMP:20260423T162927
CREATED:20250903T143136Z
LAST-MODIFIED:20250903T143136Z
UID:11156-1757764800-1757764800@www.moultriega.com
SUMMARY:Farmers Market at Bandwagon Brewing Company
DESCRIPTION: This isn’t just a market — it’s a local celebration.We’re turning up the good vibes and packing the block with community spirit\, farm-fresh finds\, ice-cold drinks\, and all the local charm you love.\n Cool off with Bandwagon’s small-batch craft brews or our frozen hard seltzers — yes\, the ones everyone’s raving about. Stroll the market and discover:• Local produce\, eggs\, herbs\, and honey• Freshly baked breads & sweets• Handmade goods\, art\, home essentials & more• Moultrie makers and growers doing what they do best
URL:https://www.moultriega.com/event/farmers-market-at-bandwagon-brewing-company-7/
LOCATION:Bandwagon Brewing Company\, 33 West Central Ave.\, Moultrie\, GA\, 31768\, United States
END:VEVENT
BEGIN:VEVENT
DTSTART;TZID=UTC:20250913T190000
DTEND;TZID=UTC:20250913T210000
DTSTAMP:20260423T162927
CREATED:20250903T135818Z
LAST-MODIFIED:20250903T135818Z
UID:11154-1757790000-1757797200@www.moultriega.com
SUMMARY:Titus Ranch Presents Just June at Bandwagon Brewing Co.
DESCRIPTION: Join Us for an Evening of Music\, Food & Purpose! Hosted by Titus Ranch at Bandwagon Brewing Co. 33 W Central Ave Friday\, September 13th 7:00 PM – 9:00 PMEnjoy a fun night out with live music from Just June\, tasty food\, and a silent auction — all supporting a meaningful cause! Your ticket includes: Admission for one One FREE drink All proceeds help Titus Ranch provide training and support to adults who mentor local youth facing challenges.
URL:https://www.moultriega.com/event/titus-ranch-presents-just-june-at-bandwagon-brewing-co/
LOCATION:Bandwagon Brewing Company\, 33 West Central Ave.\, Moultrie\, GA\, 31768\, United States
END:VEVENT
BEGIN:VEVENT
DTSTART;TZID=UTC:20250913T203000
DTEND;TZID=UTC:20250913T203000
DTSTAMP:20260423T162927
CREATED:20250909T202948Z
LAST-MODIFIED:20250909T202948Z
UID:11172-1757795400-1757795400@www.moultriega.com
SUMMARY:Karaoke & Dance Night Hosted by Tracy Hunter
DESCRIPTION:Karaoke & Dance Night Hosted by Tracy Hunter
URL:https://www.moultriega.com/event/karaoke-dance-night-hosted-by-tracy-hunter/
LOCATION:The Speakeasy on Main\, 14 S Main St\, Moultrie\, GA\, 31768\, United States
END:VEVENT
BEGIN:VEVENT
DTSTART;TZID=UTC:20250914T140000
DTEND;TZID=UTC:20250914T140000
DTSTAMP:20260423T162927
CREATED:20250913T122949Z
LAST-MODIFIED:20250913T122949Z
UID:11183-1757858400-1757858400@www.moultriega.com
SUMMARY:Prayer on the Square
DESCRIPTION:
URL:https://www.moultriega.com/event/prayer-on-the-square/
LOCATION:GA
END:VEVENT
BEGIN:VEVENT
DTSTART;TZID=UTC:20250916T180000
DTEND;TZID=UTC:20250916T180000
DTSTAMP:20260423T162927
CREATED:20240906T174652Z
LAST-MODIFIED:20240906T174652Z
UID:9592-1758045600-1758045600@www.moultriega.com
SUMMARY:City Council Meeting
DESCRIPTION:City Council Room 2nd Floor \n21 1st Avenue NE\nMoultrie\, GA 31768
URL:https://www.moultriega.com/event/city-council-meeting-167/
LOCATION:City Council Room\, 21 1st Avenue NE\, Moultrie\, GA\, 31768\, United States
END:VEVENT
BEGIN:VEVENT
DTSTART;TZID=UTC:20250918T180000
DTEND;TZID=UTC:20250918T180000
DTSTAMP:20260423T162927
CREATED:20250904T163600Z
LAST-MODIFIED:20250904T163600Z
UID:11164-1758218400-1758218400@www.moultriega.com
SUMMARY:Colquitt County High School Homecoming Parade
DESCRIPTION:
URL:https://www.moultriega.com/event/colquitt-county-high-school-homecoming-parade-2/
LOCATION:Downtown Moultrie\, MOULTRIE\, GA\, 31776
END:VEVENT
BEGIN:VEVENT
DTSTART;VALUE=DATE:20250920
DTEND;VALUE=DATE:20250921
DTSTAMP:20260423T162927
CREATED:20250709T195117Z
LAST-MODIFIED:20250709T195117Z
UID:10993-1758326400-1758412799@www.moultriega.com
SUMMARY:South Georgia Prime Olympics at Moultrie-Colquitt County Parks and Recreation Authority
DESCRIPTION:The 2025 South Georgia Prime Olympics are coming to Moultrie! \nJoin us on Saturday\, September 20\, 2025\, for a fun-filled day of friendly competition\, fitness\, and community connection—just for adults ages 50+!\n\n\nThis exciting event includes:\n Pickleball\n 3v3 Basketball\n Cornhole\n Swimming\n Tennis\n Running & Walking Events\n Clock Golf\n Basketball Throw\n…and so much more!\n\n\n Location: Moultrie\, GA\n Open to participants 50+ as of January 1\, 2025\n Build friendships\, stay active\, and compete in events you’ll love!\n\n\n For more info:\n-Visit https://www.mccpra.com/programs-plus to learn more and download your registration form\n– Stop by our office at 1020 4th Street SW to pick up a packet\n– Or email Connie.Fritz@mccpra.com to receive a packet by email\n\n\nProudly sponsored by @Colquitt Regional Medical Center \n#SouthGeorgiaPrimeOlympics #MCCPRA #ActiveAdults #50PlusFun #MoultrieGA #StayActive #HealthyLiving #PrimeOlympics2025
URL:https://www.moultriega.com/event/south-georgia-prime-olympics-at-moultrie-colquitt-county-parks-and-recreation-authority/
LOCATION:Moultrie-Colquitt County Parks & Recreation Authority\, 1020 4th Street SW\, Moultrie\, GA\, 31768\, United States
ORGANIZER;CN="Colquitt Regional Medical Center":MAILTO:info@colquittregional.com
END:VEVENT
BEGIN:VEVENT
DTSTART;TZID=UTC:20250920T090000
DTEND;TZID=UTC:20250920T130000
DTSTAMP:20260423T162927
CREATED:20250904T144544Z
LAST-MODIFIED:20250904T144544Z
UID:11163-1758358800-1758373200@www.moultriega.com
SUMMARY:Days for Kids at Downtown Moultrie
DESCRIPTION: It’s time for a day full of FUN!Join the Boys & Girls Clubs of Moultrie/Colquitt County for Day for Kids – a FREE community event designed to celebrate the joy of childhood.  Saturday\, Sept. 20\, 2025 Downtown Square 9:00 AM – 1:00 PMThere will be games\, activities\, laughter\, and memories waiting to be made!  Because every child deserves a day to simply be a child.
URL:https://www.moultriega.com/event/days-for-kids-at-downtown-moultrie/
LOCATION:Downtown Moultrie\, MOULTRIE\, GA\, 31776
ORGANIZER;CN="Boys-Girls Clubs Moultrie":MAILTO:info@bgcmoultrie.org
END:VEVENT
BEGIN:VEVENT
DTSTART;TZID=UTC:20250923T180000
DTEND;TZID=UTC:20250923T180000
DTSTAMP:20260423T162927
CREATED:20250716T181310Z
LAST-MODIFIED:20250716T181310Z
UID:11024-1758650400-1758650400@www.moultriega.com
SUMMARY:Music BINGO at Moultrie Library
DESCRIPTION:Get ready for a night of music\, memories\, and friendly competition! Join us for Music Bingo\, where classic bingo meets your favorite tunes. Listen closely\, mark off the songs you recognize\, and compete for fun prizes. No singing required! Just bring your listening ears and a love for great music!
URL:https://www.moultriega.com/event/music-bingo-at-moultrie-library/
LOCATION:Moultrie-Colquitt County Library System\, 204 5th St SE\, Moultrie\, GA\, 31768\, United States
END:VEVENT
BEGIN:VEVENT
DTSTART;TZID=UTC:20250925T170000
DTEND;TZID=UTC:20250925T180000
DTSTAMP:20260423T162927
CREATED:20250911T135618Z
LAST-MODIFIED:20250911T135618Z
UID:11174-1758819600-1758823200@www.moultriega.com
SUMMARY:Whoville Gingerbread Workshop at Shaw Gym
DESCRIPTION: Whoville Gingerbread Workshop! Get into the holiday spirit early and join us for the first of two Whoville Gingerbread Workshops leading up to our big Whoville Gingerbread Competition in November! Date: Wednesday\, September 25 Time: 5:00 – 6:00 PM Location: Shaw Gym Craft RoomThis is your chance to learn tips\, tricks\, and creative ideas for building your best gingerbread creation.  The second workshop will take place in October\, and then it’s time to show off your masterpiece at the final competition in November!Don’t miss out on this sweet kickoff to the Whoville fun! Register here > https://mccpra.recdesk.com/Community/Program/Detail…
URL:https://www.moultriega.com/event/whoville-gingerbread-workshop-at-shaw-gym/
LOCATION:Shaw Gymnasium\, 615 5th Avenue NW\, Moultrie\, GA\, 31768\, United States
END:VEVENT
BEGIN:VEVENT
DTSTART;TZID=UTC:20250925T190000
DTEND;TZID=UTC:20250925T190000
DTSTAMP:20260423T162927
CREATED:20250924T145002Z
LAST-MODIFIED:20250924T145002Z
UID:11236-1758826800-1758826800@www.moultriega.com
SUMMARY:SPINGO BINGO Night at The Speakeasy on Main
DESCRIPTION:Games start at 7:00 this week$15 entry includes slushy or beer!5 rounds!!Win prizes!!
URL:https://www.moultriega.com/event/spingo-bingo-night-at-the-speakeasy-on-main-5/
LOCATION:The Speakeasy on Main\, 14 S Main St\, Moultrie\, GA\, 31768\, United States
END:VEVENT
BEGIN:VEVENT
DTSTART;TZID=UTC:20250925T190000
DTEND;TZID=UTC:20250925T220000
DTSTAMP:20260423T162927
CREATED:20250917T151550Z
LAST-MODIFIED:20250917T151550Z
UID:11210-1758826800-1758837600@www.moultriega.com
SUMMARY:Tyler Hogan at Doughboys Downtown
DESCRIPTION:Tyler Hogan live at Doughboys Downtown. Come listen to awesome music while enjoying a meal. 7 PM – 10 PM!
URL:https://www.moultriega.com/event/tyler-hogan-at-doughboys-downtown/
LOCATION:DoughBoys Downtown\, 25 1st St SE\, Moultrie\, GA\, 31768\, United States
END:VEVENT
BEGIN:VEVENT
DTSTART;TZID=UTC:20250927T100000
DTEND;TZID=UTC:20250927T123000
DTSTAMP:20260423T162927
CREATED:20250915T182117Z
LAST-MODIFIED:20250915T182117Z
UID:11197-1758967200-1758976200@www.moultriega.com
SUMMARY:Fall Rag Wreath Workshop at Shaw Gym
DESCRIPTION: Fall Rag Wreath Workshop Add a touch of autumn charm to your home! Using bright and beautiful fall fabrics\, you’ll learn how to tie strips onto a wreath form to create a stunning rag wreath that you can enjoy for years to come.  Date: Saturday\, September 27 Time: 10:00 AM – 12:30 PM Location: Shaw Gym Craft RoomFee = $10 per person | Pre-registration is requiredBring your creativity\, enjoy some fun\, and head home with a one-of-a-kind fall decoration!  Register today: https://mccpra.recdesk.com/Community/Program/Detail…
URL:https://www.moultriega.com/event/fall-rag-wreath-workshop-at-shaw-gym/
LOCATION:Shaw Gymnasium\, 615 5th Avenue NW\, Moultrie\, GA\, 31768\, United States
END:VEVENT
BEGIN:VEVENT
DTSTART;TZID=UTC:20250927T120000
DTEND;TZID=UTC:20250927T120000
DTSTAMP:20260423T162927
CREATED:20250903T143356Z
LAST-MODIFIED:20250903T143356Z
UID:11157-1758974400-1758974400@www.moultriega.com
SUMMARY:Farmers Market at Bandwagon Brewing Company
DESCRIPTION: This isn’t just a market — it’s a local celebration.We’re turning up the good vibes and packing the block with community spirit\, farm-fresh finds\, ice-cold drinks\, and all the local charm you love.\n Cool off with Bandwagon’s small-batch craft brews or our frozen hard seltzers — yes\, the ones everyone’s raving about. Stroll the market and discover:• Local produce\, eggs\, herbs\, and honey• Freshly baked breads & sweets• Handmade goods\, art\, home essentials & more• Moultrie makers and growers doing what they do best
URL:https://www.moultriega.com/event/farmers-market-at-bandwagon-brewing-company-8/
LOCATION:Bandwagon Brewing Company\, 33 West Central Ave.\, Moultrie\, GA\, 31768\, United States
END:VEVENT
BEGIN:VEVENT
DTSTART;TZID=UTC:20250927T140000
DTEND;TZID=UTC:20250927T140000
DTSTAMP:20260423T162927
CREATED:20250815T174616Z
LAST-MODIFIED:20250815T174616Z
UID:11121-1758981600-1758981600@www.moultriega.com
SUMMARY:Childhood Cancer Night at Needmore Speedway
DESCRIPTION:
URL:https://www.moultriega.com/event/childhood-cancer-night-at-needmore-speedway/
LOCATION:Needmore Speedway\, 1060 John Vickers Rd\, Norman Park\, GA\, 31771\, United States
END:VEVENT
BEGIN:VEVENT
DTSTART;TZID=UTC:20250927T190000
DTEND;TZID=UTC:20250927T190000
DTSTAMP:20260423T162927
CREATED:20250924T143903Z
LAST-MODIFIED:20250924T143903Z
UID:11233-1758999600-1758999600@www.moultriega.com
SUMMARY:Karaoke Night after the GA Game @The Speakeasy on Main
DESCRIPTION:Wear your best dressed GA outfit for a chance to win a $30 bar tab!! Prize for male and female!!! Karaoke to follow!! Hosted by Tracy Hunter
URL:https://www.moultriega.com/event/karaoke-night-after-the-ga-game-the-speakeasy-on-main/
LOCATION:The Speakeasy on Main\, 14 S Main St\, Moultrie\, GA\, 31768\, United States
END:VEVENT
BEGIN:VEVENT
DTSTART;TZID=UTC:20250929T160000
DTEND;TZID=UTC:20250929T170000
DTSTAMP:20260423T162927
CREATED:20250915T181044Z
LAST-MODIFIED:20250915T181044Z
UID:11192-1759161600-1759165200@www.moultriega.com
SUMMARY:Let's Create "Stepping Stone Workshop" at William Bryant Park
DESCRIPTION: Let’s Create! Stepping Stone Workshop Add a little art to your garden!  Join us for a hands-on workshop where you’ll design your very own stepping stone to take home and enjoy. Date: September 29th Time: 4:00 – 5:00 PM Location: William Bryant Pavilion This event is free thanks to a grant through the Georgia Council for the Arts Pre-registration requiredSpaces are limited—don’t miss this chance to create something beautiful and lasting!  Register here: https://mccpra.recdesk.com/Community/Program/Detail…
URL:https://www.moultriega.com/event/lets-create-stepping-stone-workshop-at-william-bryant-park/
LOCATION:William Bryant Park\, 616 5th Ave NW\, Moultrie\, GA\, 31768\, United States
END:VEVENT
BEGIN:VEVENT
DTSTART;TZID=UTC:20251001T180000
DTEND;TZID=UTC:20251001T180000
DTSTAMP:20260423T162927
CREATED:20250924T180542Z
LAST-MODIFIED:20250924T180542Z
UID:11240-1759341600-1759341600@www.moultriega.com
SUMMARY:Boots & Brews Line Dancing & Jethro's Seafood at Bandwagon Brewing Company
DESCRIPTION: FREE to join | All ages welcome – bring your granny and your grandkids!Moultrie\, you ready to hit the floor again? Let’s crank up the fun this fall! Line Dancing Night is BACK at Bandwagon Brewing Co.\, and we’re bringing the energy\, the community\, and the dance moves you didn’t know you had.Whether you’re stepping out for your very first dance or you’ve been boot-scootin’ for years\, this is your midweek moment to move\, groove\, and cut loose. No partner\, no problem—and no experience needed! Featuring Local Dance Legend – Narvareaz “Reaz” Colson!We’re beyond excited to welcome back Reaz\, the powerhouse choreographer who brings pure joy to every step. With 25+ years under her belt\, Reaz is known for making everyone—from complete beginners to seasoned steppers—feel like they were born to dance.You might recognize her from her popular classes at the YMCA or local festivals—but now she’s lighting up the brewery floor with her signature moves and magnetic energy.
URL:https://www.moultriega.com/event/boots-brews-line-dancing-jethros-seafood-at-bandwagon-brewing-company/
LOCATION:Bandwagon Brewing Company\, 33 West Central Ave.\, Moultrie\, GA\, 31768\, United States
END:VEVENT
BEGIN:VEVENT
DTSTART;TZID=UTC:20251002T160000
DTEND;TZID=UTC:20251002T164500
DTSTAMP:20260423T162927
CREATED:20250915T181455Z
LAST-MODIFIED:20250915T181455Z
UID:11194-1759420800-1759423500@www.moultriega.com
SUMMARY:Let's Create "Paint A Canvas" Session 1 at Shaw Gym
DESCRIPTION: Let’s Create! Paint a Canvas Unleash your inner artist! Join us for a fun\, hands-on workshop where you’ll paint your very own canvas to take home. No experience needed—just bring your creativity and enjoy!  Date: October 2nd Time: (2 sessions) 4:00 – 4:45 and 4:45 – 5:30 PM Location: Shaw Gym Craft Room Cost: FREE!This event is made possible through a grant from the Georgia Council for the Arts. Pre-registration required: https://mccpra.recdesk.com/Community/Program
URL:https://www.moultriega.com/event/lets-create-paint-a-canvas-session-1-at-shaw-gym/
LOCATION:Shaw Gymnasium\, 615 5th Avenue NW\, Moultrie\, GA\, 31768\, United States
END:VEVENT
BEGIN:VEVENT
DTSTART;TZID=UTC:20251002T164500
DTEND;TZID=UTC:20251002T173000
DTSTAMP:20260423T162927
CREATED:20250915T181626Z
LAST-MODIFIED:20250915T181626Z
UID:11196-1759423500-1759426200@www.moultriega.com
SUMMARY:Let’s Create “Paint A Canvas” Session 2 at Shaw Gym
DESCRIPTION: Let’s Create! Paint a Canvas Unleash your inner artist! Join us for a fun\, hands-on workshop where you’ll paint your very own canvas to take home. No experience needed—just bring your creativity and enjoy!  Date: October 2nd Time: (2 sessions) 4:00 – 4:45 and 4:45 – 5:30 PM Location: Shaw Gym Craft Room Cost: FREE!This event is made possible through a grant from the Georgia Council for the Arts. Pre-registration required: https://mccpra.recdesk.com/Community/Program
URL:https://www.moultriega.com/event/lets-create-paint-a-canvas-session-2-at-shaw-gym/
LOCATION:Shaw Gymnasium\, 615 5th Avenue NW\, Moultrie\, GA\, 31768\, United States
END:VEVENT
END:VCALENDAR