BEGIN:VCALENDAR
VERSION:2.0
PRODID:-//City of Moultrie - ECPv6.15.20//NONSGML v1.0//EN
CALSCALE:GREGORIAN
METHOD:PUBLISH
X-ORIGINAL-URL:https://www.moultriega.com
X-WR-CALDESC:Events for City of Moultrie
REFRESH-INTERVAL;VALUE=DURATION:PT1H
X-Robots-Tag:noindex
X-PUBLISHED-TTL:PT1H
BEGIN:VTIMEZONE
TZID:UTC
BEGIN:STANDARD
TZOFFSETFROM:+0000
TZOFFSETTO:+0000
TZNAME:UTC
DTSTART:20240101T000000
END:STANDARD
END:VTIMEZONE
BEGIN:VEVENT
DTSTART;TZID=UTC:20251014T080000
DTEND;TZID=UTC:20251014T170000
DTSTAMP:20260423T235516
CREATED:20250108T152717Z
LAST-MODIFIED:20250108T152717Z
UID:10192-1760428800-1760461200@www.moultriega.com
SUMMARY:Sunbelt Ag Expo
DESCRIPTION:As North America’s Premier Farm Show\, we host 1\,200 commercial exhibitors with over 4\,000 product lines that feature the latest goods and services\, technological savvy and labor-saving devices. Unique to the Expo is our 600 acre working research farm where manufacturers and dealers can demonstrate their latest developments. You are invited to take a front row seat and see the most innovative products and cutting edge technology in the marketplace. Be informed. Be entertained. Be wowed. A multitude of free seminars and demonstrations featuring some of the agricultural industry’s top experts are also offered during the Expo. This is a unique opportunity for the show’s attendees to gain additional insight into the present and future of the farming industry from renowned experts.
URL:https://www.moultriega.com/event/sunbelt-ag-expo-11/
LOCATION:Spence Field\, W Yount St\, Moultrie\, GA\, 31788\, United States
END:VEVENT
BEGIN:VEVENT
DTSTART;TZID=UTC:20251014T080000
DTEND;TZID=UTC:20251031T170000
DTSTAMP:20260423T235516
CREATED:20250916T202750Z
LAST-MODIFIED:20250916T202750Z
UID:11207-1760428800-1761930000@www.moultriega.com
SUMMARY:Early Voting at Courthouse Annex
DESCRIPTION:
URL:https://www.moultriega.com/event/early-voting-at-courthouse-annex/
LOCATION:Courthouse Annex\, 101 East Central Avenue\, Moultrie\, GA\, 31776\, United States
END:VEVENT
BEGIN:VEVENT
DTSTART;TZID=UTC:20251014T170000
DTEND;TZID=UTC:20251014T190000
DTSTAMP:20260423T235516
CREATED:20251013T175200Z
LAST-MODIFIED:20251013T175200Z
UID:11298-1760461200-1760468400@www.moultriega.com
SUMMARY:"Swiftie" Painting Workshop at The Arts Center
DESCRIPTION:We’re in our creative era… Join us tomorrow\, October 14th\, for a T-Swift-inspired acrylic painting workshop! Paint your very own bookshelf-style lineup of Taylor Swift albums in this guided\, step-by-step class. All skill levels are welcome! Visit the link below to sign up! https://bit.ly/47Kf7XX
URL:https://www.moultriega.com/event/swiftie-painting-workshop-at-the-arts-center/
LOCATION:The Arts Center\, 401 7th Avenue S.W.\, Moultrie\, GA\, 31768\, United States
END:VEVENT
BEGIN:VEVENT
DTSTART;TZID=UTC:20251015T080000
DTEND;TZID=UTC:20251015T170000
DTSTAMP:20260423T235516
CREATED:20250108T152829Z
LAST-MODIFIED:20250108T152829Z
UID:10193-1760515200-1760547600@www.moultriega.com
SUMMARY:Sunbelt Ag Expo
DESCRIPTION:As North America’s Premier Farm Show\, we host 1\,200 commercial exhibitors with over 4\,000 product lines that feature the latest goods and services\, technological savvy and labor-saving devices. Unique to the Expo is our 600 acre working research farm where manufacturers and dealers can demonstrate their latest developments. You are invited to take a front row seat and see the most innovative products and cutting edge technology in the marketplace. Be informed. Be entertained. Be wowed. A multitude of free seminars and demonstrations featuring some of the agricultural industry’s top experts are also offered during the Expo. This is a unique opportunity for the show’s attendees to gain additional insight into the present and future of the farming industry from renowned experts.
URL:https://www.moultriega.com/event/sunbelt-ag-expo-12/
LOCATION:Spence Field\, W Yount St\, Moultrie\, GA\, 31788\, United States
END:VEVENT
BEGIN:VEVENT
DTSTART;TZID=UTC:20251016T083000
DTEND;TZID=UTC:20251016T163000
DTSTAMP:20260423T235516
CREATED:20250108T152926Z
LAST-MODIFIED:20250108T152926Z
UID:10194-1760603400-1760632200@www.moultriega.com
SUMMARY:Sunbelt Ag Expo
DESCRIPTION:As North America’s Premier Farm Show\, we host 1\,200 commercial exhibitors with over 4\,000 product lines that feature the latest goods and services\, technological savvy and labor-saving devices. Unique to the Expo is our 600 acre working research farm where manufacturers and dealers can demonstrate their latest developments. You are invited to take a front row seat and see the most innovative products and cutting edge technology in the marketplace. Be informed. Be entertained. Be wowed. A multitude of free seminars and demonstrations featuring some of the agricultural industry’s top experts are also offered during the Expo. This is a unique opportunity for the show’s attendees to gain additional insight into the present and future of the farming industry from renowned experts.
URL:https://www.moultriega.com/event/sunbelt-ag-expo-13/
LOCATION:Spence Field\, W Yount St\, Moultrie\, GA\, 31788\, United States
END:VEVENT
BEGIN:VEVENT
DTSTART;TZID=UTC:20251016T190000
DTEND;TZID=UTC:20251016T220000
DTSTAMP:20260423T235516
CREATED:20250924T194441Z
LAST-MODIFIED:20250924T194441Z
UID:11246-1760641200-1760652000@www.moultriega.com
SUMMARY:Randy Wiley at Doughboys
DESCRIPTION:Live Music
URL:https://www.moultriega.com/event/randy-wiley-at-doughboys/
LOCATION:DoughBoys Downtown\, 25 1st St SE\, Moultrie\, GA\, 31768\, United States
END:VEVENT
BEGIN:VEVENT
DTSTART;TZID=UTC:20251017T180000
DTEND;TZID=UTC:20251017T180000
DTSTAMP:20260423T235516
CREATED:20251014T133147Z
LAST-MODIFIED:20251014T133147Z
UID:11305-1760724000-1760724000@www.moultriega.com
SUMMARY:Oktoberfest Spirit Night 2025 at Bandwagon Brewing Co.
DESCRIPTION: Oktoberfest Spirit Night is almost here! Join us at Bandwagon Brewing Co. on October 17 at 6 PM for a night full of food\, drinks\, music\, and SINGO – all for a great cause!We’re teaming up with United Way of Colquitt County\, and $1 from every pint sold will go to support their incredible work in our community.  Jethro’s Seafood and More will be serving up delicious bratwurst\, featuring our beer in his beer cheese\, onions & peppers\, plus his full menu of favorites! SINGO kicks off at 7 PM! 33 W Central Ave\, Moultrie\, GACome thirsty\, come hungry\, and come ready to support a great cause!  #OktoberfestSpiritNight #DrinkForACause #BandwagonBrewing #UnitedWayColquitt #SupportLoca
URL:https://www.moultriega.com/event/oktoberfest-spirit-night-2025-at-bandwagon-brewing-co/
LOCATION:Bandwagon Brewing Company\, 33 West Central Ave.\, Moultrie\, GA\, 31768\, United States
END:VEVENT
BEGIN:VEVENT
DTSTART;TZID=UTC:20251017T180000
DTEND;TZID=UTC:20251017T200000
DTSTAMP:20260423T235516
CREATED:20250915T180239Z
LAST-MODIFIED:20250915T180239Z
UID:11188-1760724000-1760731200@www.moultriega.com
SUMMARY:Father-Son Nerf Night at Shaw Gym
DESCRIPTION: Father-Son Nerf Night & Pizza!  Date: Friday\, October 17th Time: 6:00 – 8:00 PM Who: 2nd – 5th Grade sons and their fathers Where: Shaw Gym Cost: $10 per person (includes pizza dinner ) Bring your own Nerf gun if you have one—we’ll supply all the ammo! (Some Nerf guns will also be available to use.) After the battle\, enjoy a pizza supper together. Pre-registration is required! https://mccpra.recdesk.com/Community/Program/Detail…Don’t miss this father-son showdown! 
URL:https://www.moultriega.com/event/father-son-nerf-night-at-shaw-gym/
LOCATION:Shaw Gymnasium\, 615 5th Avenue NW\, Moultrie\, GA\, 31768\, United States
END:VEVENT
BEGIN:VEVENT
DTSTART;TZID=UTC:20251018T100000
DTEND;TZID=UTC:20251018T100000
DTSTAMP:20260423T235516
CREATED:20250916T183512Z
LAST-MODIFIED:20250916T183512Z
UID:11201-1760781600-1760781600@www.moultriega.com
SUMMARY:Down In The Country Annual Fall Trail Ride at Warrior Creek Off-Road Park
DESCRIPTION:
URL:https://www.moultriega.com/event/down-in-the-country-annual-fall-trail-ride-at-warrior-creek-off-road-park/
LOCATION:Warrior Creek Off-Road Park\, 1121 GA highway 256\, Norman Park\, GA\, 31771\, United States
END:VEVENT
BEGIN:VEVENT
DTSTART;TZID=UTC:20251019T100000
DTEND;TZID=UTC:20251019T100000
DTSTAMP:20260423T235516
CREATED:20250916T183733Z
LAST-MODIFIED:20250916T183733Z
UID:11203-1760868000-1760868000@www.moultriega.com
SUMMARY:Down In The Country Annual Fall Trail Ride at Warrior Creek Off-Road Park
DESCRIPTION:
URL:https://www.moultriega.com/event/down-in-the-country-annual-fall-trail-ride-at-warrior-creek-off-road-park-2/
LOCATION:Warrior Creek Off-Road Park\, 1121 GA highway 256\, Norman Park\, GA\, 31771\, United States
END:VEVENT
BEGIN:VEVENT
DTSTART;TZID=UTC:20251020T090000
DTEND;TZID=UTC:20251020T090000
DTSTAMP:20260423T235516
CREATED:20251017T152944Z
LAST-MODIFIED:20251017T153125Z
UID:11335-1760950800-1760950800@www.moultriega.com
SUMMARY:Coffee With A Cop at McDonalds Moultrie
DESCRIPTION:
URL:https://www.moultriega.com/event/coffee-with-a-cop-at-mcdonalds-moultrie/
LOCATION:McDonald’s\, 506 1st Ave SE\, Moultrie\, GA\, 31768\, United States
END:VEVENT
BEGIN:VEVENT
DTSTART;TZID=UTC:20251020T173000
DTEND;TZID=UTC:20251020T190000
DTSTAMP:20260423T235516
CREATED:20251013T135213Z
LAST-MODIFIED:20251013T135213Z
UID:11289-1760981400-1760986800@www.moultriega.com
SUMMARY:Let's Sew Fall Apron at Shaw Gym
DESCRIPTION: There’s still time to register for Let’s Sew: A Fall Apron! Join us for this creative workshop and stitch your very own handcrafted fall apron—just in time for holiday baking\, crafting\, and cozy fall fun!  Registration: $10 The experience (and your new favorite apron)? Priceless! October 20th Shaw Gym Craft Room 5:30 – 7:00 PM Sign up today: https://mccpra.recdesk.com/Community/Program/Detail…
URL:https://www.moultriega.com/event/lets-sew-fall-apron-at-shaw-gym/
LOCATION:Shaw Gymnasium\, 615 5th Avenue NW\, Moultrie\, GA\, 31768\, United States
END:VEVENT
BEGIN:VEVENT
DTSTART;TZID=UTC:20251021T180000
DTEND;TZID=UTC:20251021T180000
DTSTAMP:20260423T235516
CREATED:20240906T174738Z
LAST-MODIFIED:20240906T174738Z
UID:9593-1761069600-1761069600@www.moultriega.com
SUMMARY:City Council Meeting
DESCRIPTION:City Council Room 2nd Floor \n21 1st Avenue NE\nMoultrie\, GA 31768
URL:https://www.moultriega.com/event/city-council-meeting-168/
LOCATION:City Council Room\, 21 1st Avenue NE\, Moultrie\, GA\, 31768\, United States
END:VEVENT
BEGIN:VEVENT
DTSTART;TZID=UTC:20251021T180000
DTEND;TZID=UTC:20251021T180000
DTSTAMP:20260423T235516
CREATED:20250909T152101Z
LAST-MODIFIED:20250909T152101Z
UID:11166-1761069600-1761069600@www.moultriega.com
SUMMARY:Spooky Paint & Sip at Moultrie Library
DESCRIPTION:Join us…if you dare…at the Moultrie-Colquitt County Library for a frightfully fun evening! Painting instructor Ari returns to guide us through a chillingly charming spooky scene\, while we sip on devilishly delicious mocktails.\nRSVP is required! Call us at (229) 985-6540 to reserve your spot.\nThis will be an evening of eerie artistry you won’t soon forget…
URL:https://www.moultriega.com/event/spooky-paint-sip-at-moultrie-library/
LOCATION:Moultrie-Colquitt County Library System\, 204 5th St SE\, Moultrie\, GA\, 31768\, United States
END:VEVENT
BEGIN:VEVENT
DTSTART;VALUE=DATE:20251023
DTEND;VALUE=DATE:20251024
DTSTAMP:20260423T235516
CREATED:20250812T173113Z
LAST-MODIFIED:20250812T173113Z
UID:11108-1761177600-1761263999@www.moultriega.com
SUMMARY:Paint the Town Purple: Wear Purple Day
DESCRIPTION: Paint the Town Purple – Shine a Light on Domestic Violence Domestic violence often hides in the shadows of our community — but together\, we can bring it into the light.This October\, we’re asking local businesses to join us in our “Paint the Town Purple” campaign to raise awareness and show survivors that they are seen\, supported\, and never alone. Decorate your storefront in purple (starter kit will be provided). Host a purple-themed event or special (if you wish). Share information/resources for those in need (we will supply). Wear purple on PURPLE THURSDAY -October 23rd.Your purple display isn’t just decoration — it’s a symbol of hope\, safety\, and strength. Let’s turn our town into a beacon for survivors and a reminder that domestic violence has no place here.For more information email Haley at help@serenityhousega.org
URL:https://www.moultriega.com/event/paint-the-town-purple-wear-purple-day/
LOCATION:GA
END:VEVENT
BEGIN:VEVENT
DTSTART;TZID=UTC:20251023T170000
DTEND;TZID=UTC:20251023T200000
DTSTAMP:20260423T235516
CREATED:20251013T184745Z
LAST-MODIFIED:20251013T185056Z
UID:11300-1761238800-1761249600@www.moultriega.com
SUMMARY:Grand Opening & Christmas Open House at Klutch 21
DESCRIPTION:Surprise!! Things have progressed a lot faster than we anticipated so we will be opening at our new building sooner than planned! Join us NEXT Thursday evening for our Grand Opening and be the first to see all of our Holiday merchandise! We are so excited to show yall everything we have been working on!Tag all of your friends below and we will draw one person to win a $50 gift card to spend that night!
URL:https://www.moultriega.com/event/grand-opening-christmas-open-house-at-klutch-21/
LOCATION:Klutch 21 Boutique\, 7 East Central Ave.\, Moultrie\, GA\, 31768\, United States
END:VEVENT
BEGIN:VEVENT
DTSTART;TZID=UTC:20251023T170000
DTEND;TZID=UTC:20251023T200000
DTSTAMP:20260423T235516
CREATED:20251017T121441Z
LAST-MODIFIED:20251017T121441Z
UID:11333-1761238800-1761249600@www.moultriega.com
SUMMARY:MJWC Pumpkin Painting at Doughboys Downtown
DESCRIPTION:One week away! Join us next Thursday\, October 23rd for FREE Pumpkin Painting!  Bring your family and friends for an evening full of creativity and fall fun! If you aren’t able to attend\, be sure to enjoy dinner from Doughboys Downtown between 5:00-8:00 PM to support MJWC. Proceeds from this event will allow us to give to our community that we all love! \n— with Doughboys Downtown.
URL:https://www.moultriega.com/event/mjwc-pumpkin-painting-at-doughboys-downtown/
LOCATION:DoughBoys Downtown\, 25 1st St SE\, Moultrie\, GA\, 31768\, United States
ORGANIZER;CN="Moultrie Junior Woman's Club":MAILTO:mjwcpresident@gmail.com
END:VEVENT
BEGIN:VEVENT
DTSTART;TZID=UTC:20251023T173000
DTEND;TZID=UTC:20251023T193000
DTSTAMP:20260423T235516
CREATED:20251007T121226Z
LAST-MODIFIED:20251007T121226Z
UID:11272-1761240600-1761247800@www.moultriega.com
SUMMARY:Moultrie Fall Festival at Ameris Bank
DESCRIPTION:Ameris Bank is hosting the Moultrie Fall Festival on Thursday\, October 23rd from 5:30–7:30 PM at the Moultrie Branch (300 S Main St).Bring the whole family for: Fun games Delicious refreshments Trunk-or-Treat And so much more! Game cards are just $5 (available now at any Moultrie Ameris Bank location)\, and all proceeds benefit United Way of Colquitt County!Let’s come together for a night of fun for the littles while giving back to our community.
URL:https://www.moultriega.com/event/moultrie-fall-festival-at-ameris-bank-3/
LOCATION:Ameris Bank Moultie Branch\, 300 South Main Street\, Moultrie\, GA\, 31768\, United States
END:VEVENT
BEGIN:VEVENT
DTSTART;TZID=UTC:20251023T180000
DTEND;TZID=UTC:20251023T200000
DTSTAMP:20260423T235516
CREATED:20251014T134133Z
LAST-MODIFIED:20251014T134133Z
UID:11309-1761242400-1761249600@www.moultriega.com
SUMMARY:Paint & Sip at Hometown Bar & Grill
DESCRIPTION:Let’s Paint it! Join us for a Paint and Sip at Hometown Bar & Grill. Grab your friends and come downtown to the square in Moultrie for a fun and creative evening. No experience necessary – our talented artist Rio will guide you every step of the way.\nHometown Bar & Grill offers a delicious blend of Mexican cuisine\, burgers\, and small hot bites with an impressive selection of beers and cocktails to choose from sure to help your creativity flow! Come join in the fun and unleash your inner artist!\nLocation:125 1st st SE\, Moultrie GaOct 23rd 6pm- 8pm\n$40 per personAll supplies included!\nPlease arrive 5 to 10 mins before start time- see you there!Lets Paint it!\nFor questions : emailPaintapartyusa@gmail.comOr reach out on messenger at Let’s Paint it! Thank you!
URL:https://www.moultriega.com/event/paint-sip-at-hometown-bar-grill/
LOCATION:Hometown Bar & Grill\, 125 1st St. S.E\, Moultrie\, GA\, 31768\, United States
END:VEVENT
BEGIN:VEVENT
DTSTART;TZID=UTC:20251023T193000
DTEND;TZID=UTC:20251023T193000
DTSTAMP:20260423T235516
CREATED:20251021T171525Z
LAST-MODIFIED:20251021T171525Z
UID:11353-1761247800-1761247800@www.moultriega.com
SUMMARY:SPINGO BINGO Night! at The Speakeasy on Main
DESCRIPTION:Games start at 7:30 this week$15 entry includes slushy or beer!5 rounds!!
URL:https://www.moultriega.com/event/spingo-bingo-night-at-the-speakeasy-on-main-6/
LOCATION:The Speakeasy on Main\, 14 S Main St\, Moultrie\, GA\, 31768\, United States
END:VEVENT
BEGIN:VEVENT
DTSTART;TZID=UTC:20251025T100000
DTEND;TZID=UTC:20251025T140000
DTSTAMP:20260423T235516
CREATED:20250911T143114Z
LAST-MODIFIED:20250911T143114Z
UID:11178-1761386400-1761400800@www.moultriega.com
SUMMARY:Ivy Odom Book Signing at Downtown Moultrie
DESCRIPTION:Moultrie native and Southern Living Magazine’s own Ivy Odom is coming home — and she’s bringing a taste of the South with her! Celebrate the release of her debut cookbook\, my southern kitchen\, at a hometown book signing event hosted by Cranfords on Main\, Proper House\, and Tallokas Road.\n Date: Saturday\, October 25\n Time: 10:00 AM – 2:00 PM\n Location: The Covered Breezeway\nStop by to meet Ivy\, get your copy of my southern kitchen signed\, and support a local talent & celebrate Southern culinary traditions.\nBooks will be available for purchase at the event.
URL:https://www.moultriega.com/event/ivy-odom-book-signing-at-downtown-moultrie/
LOCATION:Downtown Moultrie\, MOULTRIE\, GA\, 31776
END:VEVENT
BEGIN:VEVENT
DTSTART;TZID=UTC:20251025T120000
DTEND;TZID=UTC:20251025T160000
DTSTAMP:20260423T235516
CREATED:20251014T140435Z
LAST-MODIFIED:20251014T140435Z
UID:11313-1761393600-1761408000@www.moultriega.com
SUMMARY:Fall Festival at The Flame of Praise Church
DESCRIPTION:Fall festival! Everything is free! Food\, bounce houses\, mechanical bull\, games\, fun\, and friends!
URL:https://www.moultriega.com/event/fall-festival-at-the-flame-of-praise-church/
LOCATION:The Flame of Praise Church\, 177 Anderson Drive\, Moultrie\, GA\, 31768\, United States
END:VEVENT
BEGIN:VEVENT
DTSTART;TZID=UTC:20251025T140000
DTEND;TZID=UTC:20251025T140000
DTSTAMP:20260423T235516
CREATED:20250815T174831Z
LAST-MODIFIED:20250815T174831Z
UID:11123-1761400800-1761400800@www.moultriega.com
SUMMARY:Halloween/ Topless Night at Needmore Speedway
DESCRIPTION:
URL:https://www.moultriega.com/event/halloween-topless-night-at-needmore-speedway/
LOCATION:Needmore Speedway\, 1060 John Vickers Rd\, Norman Park\, GA\, 31771\, United States
END:VEVENT
BEGIN:VEVENT
DTSTART;TZID=UTC:20251025T140000
DTEND;TZID=UTC:20251025T160000
DTSTAMP:20260423T235516
CREATED:20250915T180612Z
LAST-MODIFIED:20250915T180612Z
UID:11190-1761400800-1761408000@www.moultriega.com
SUMMARY:MCCPRA Bike Rodeo at Main Street Park
DESCRIPTION: Bike Donations Needed for the Bike Rodeo! We’re getting ready for the Bike Rodeo on Saturday\, October 25th from 2–4 PM at Main Street Park—and we need your help!We’re accepting bike donations at the MCCPRA office (1020 4th Street SW\, Mon–Fri\, 8 AM–5 PM). Our partners with the Colquitt County Cycling Club will refurbish these bikes and give them to children who don’t have one.  At the Bike Rodeo\, kids will: Learn bike safety from the pros Enjoy door prize drawings  Have the chance to ride away with new skills (and maybe even a refurbished bike!) Don’t forget—bring your bike and helmet to participate! Pre-registration is required.Let’s work together to get more kids rolling safely! https://mccpra.recdesk.com/Community/Program/Detail…
URL:https://www.moultriega.com/event/mccpra-bike-rodeo-at-main-street-park/
LOCATION:Main Street Park\, 1220 South Main Street\, Moultrie\, GA\, 31768\, United States
END:VEVENT
BEGIN:VEVENT
DTSTART;TZID=UTC:20251025T170000
DTEND;TZID=UTC:20251025T210000
DTSTAMP:20260423T235516
CREATED:20250820T175827Z
LAST-MODIFIED:20250820T175827Z
UID:11135-1761411600-1761426000@www.moultriega.com
SUMMARY:Doerun Fall Fest
DESCRIPTION:
URL:https://www.moultriega.com/event/doerun-fall-fest/
LOCATION:City of Doerun\, 223 W. Broad Ave.\, Doerun\, GA\, 31744\, United States
END:VEVENT
BEGIN:VEVENT
DTSTART;TZID=UTC:20251025T174500
DTEND;TZID=UTC:20251025T174500
DTSTAMP:20260423T235516
CREATED:20251015T194224Z
LAST-MODIFIED:20251015T194224Z
UID:11327-1761414300-1761414300@www.moultriega.com
SUMMARY:Costume Contest at Doerun Fall Fest
DESCRIPTION:Come out and enjoy the fun at the Fall Fest–Movie in the park\, food\, games\, and a costume contest.
URL:https://www.moultriega.com/event/costume-contest-at-doerun-fall-fest/
LOCATION:City of Doerun\, 223 W. Broad Ave.\, Doerun\, GA\, 31744\, United States
END:VEVENT
BEGIN:VEVENT
DTSTART;TZID=UTC:20251025T203000
DTEND;TZID=UTC:20251025T233000
DTSTAMP:20260423T235516
CREATED:20251021T172816Z
LAST-MODIFIED:20251021T172816Z
UID:11355-1761424200-1761435000@www.moultriega.com
SUMMARY:Todd Trebony at The Speakeasy on Main
DESCRIPTION:Live Music
URL:https://www.moultriega.com/event/todd-trebony-at-the-speakeasy-on-main-4/
LOCATION:The Speakeasy on Main\, 14 S Main St\, Moultrie\, GA\, 31768\, United States
END:VEVENT
BEGIN:VEVENT
DTSTART;TZID=UTC:20251026T170000
DTEND;TZID=UTC:20251026T190000
DTSTAMP:20260423T235516
CREATED:20251014T134759Z
LAST-MODIFIED:20251014T135259Z
UID:11311-1761498000-1761505200@www.moultriega.com
SUMMARY:Lake-Tober Fest at Lakeside Assembly of God
DESCRIPTION:You’re invited to Lakeside Assembly of God’s annual fall festival! Join us on Sunday\, October 26\, 2025\, from 5:00–7:00 PM at our main campus (146 Tara St\, Moultrie\, GA 31768) for a night of fun\, fellowship\, and fall family traditions.\n What to Expect:• Hayride through the grounds• Trunk-or-Treat for the kids• Fun games for all ages• Delicious food and treats• And so much more!\n This is a free community event\, and everyone is welcome. Bring your family\, invite a friend\, and share the event so others don’t miss out on the fun!
URL:https://www.moultriega.com/event/lake-tober-fest-at-lakeside-assembly-of-god/
LOCATION:Lakeside Assembly of God Church\, 146 Tara Street\, Moultrie\, GA\, 31768\, United States
END:VEVENT
BEGIN:VEVENT
DTSTART;TZID=UTC:20251026T173000
DTEND;TZID=UTC:20251026T200000
DTSTAMP:20260423T235516
CREATED:20251014T133710Z
LAST-MODIFIED:20251014T133832Z
UID:11307-1761499800-1761508800@www.moultriega.com
SUMMARY:Fall Festival at Temple Baptist Church
DESCRIPTION:Join us for an evening full of fun\, games\, sweet shop\, and more.
URL:https://www.moultriega.com/event/fall-festival-at-temple-baptist-church/
LOCATION:Temple Baptist Church\, 2138 US HWY 319 South\, Moultrie\, GA\, 31768\, United States
END:VEVENT
BEGIN:VEVENT
DTSTART;TZID=UTC:20251027T100000
DTEND;TZID=UTC:20251027T133000
DTSTAMP:20260423T235516
CREATED:20250902T183137Z
LAST-MODIFIED:20251105T205543Z
UID:11150-1761559200-1761571800@www.moultriega.com
SUMMARY:Maximum Money Series
DESCRIPTION:
URL:https://www.moultriega.com/event/maximum-money-series/
LOCATION:Downtown Moultrie Welcome Center\, 31 East Central Ave.\, Moultrie\, GA\, 31768\, United States
END:VEVENT
END:VCALENDAR