BEGIN:VCALENDAR
VERSION:2.0
PRODID:-//City of Moultrie - ECPv6.15.20//NONSGML v1.0//EN
CALSCALE:GREGORIAN
METHOD:PUBLISH
X-ORIGINAL-URL:https://www.moultriega.com
X-WR-CALDESC:Events for City of Moultrie
REFRESH-INTERVAL;VALUE=DURATION:PT1H
X-Robots-Tag:noindex
X-PUBLISHED-TTL:PT1H
BEGIN:VTIMEZONE
TZID:UTC
BEGIN:STANDARD
TZOFFSETFROM:+0000
TZOFFSETTO:+0000
TZNAME:UTC
DTSTART:20230101T000000
END:STANDARD
END:VTIMEZONE
BEGIN:VEVENT
DTSTART;TZID=UTC:20241020T080000
DTEND;TZID=UTC:20241020T080000
DTSTAMP:20260422T102300
CREATED:20240701T123048Z
LAST-MODIFIED:20240925T171542Z
UID:9277-1729411200-1729411200@www.moultriega.com
SUMMARY:The Third Annual South Georgia Classic at Moultrie YMCA
DESCRIPTION:
URL:https://www.moultriega.com/event/the-third-annual-soth-georgia-classic-at-moultrie-ymca-2/
LOCATION:Moultrie YMCA\, 601 26th Ave\, SE\, Moultrie\, 31768\, United States
END:VEVENT
BEGIN:VEVENT
DTSTART;TZID=UTC:20241022T170000
DTEND;TZID=UTC:20241022T193000
DTSTAMP:20260422T102300
CREATED:20240930T181913Z
LAST-MODIFIED:20240930T181913Z
UID:9715-1729616400-1729625400@www.moultriega.com
SUMMARY:Kids Night at Chick-fil-A Moultrie
DESCRIPTION:Join us for a spider making craft with beads and enjoy our ice cream bar! Receive a free kids meal with the purchase of an adult meal for dine in orders only.
URL:https://www.moultriega.com/event/kids-night-at-chick-fil-a-moultrie-2/
LOCATION:Chick-fil-A\, 502 Lane St\, Moultrie\, GA\, 31768\, United States
END:VEVENT
BEGIN:VEVENT
DTSTART;TZID=UTC:20241024T160000
DTEND;TZID=UTC:20241024T160000
DTSTAMP:20260422T102300
CREATED:20240910T162617Z
LAST-MODIFIED:20240910T162617Z
UID:9620-1729785600-1729785600@www.moultriega.com
SUMMARY:Pints For Polio at Bandwagon Brewing Company
DESCRIPTION:October 24th is World Polio Day. One Day\, One Focus: Ending Polio.\nJoin the Rotary Club of Moultrie as we raise a pint to the Eradication of Polio! For every pint purchased\, the good people at Bandwagon Brewing will help us send $1 to Rotary’s End Polio Now campaign.\nSmallpox is the only human disease ever eradicated. Let’s make polio the second! Join us in taking action in the global fight to #endpolio.\nLearn more about the fight and the count down to history by visiting https://www.endpolio.org\n#WorldPolioDay #WorldPolioDay2024 #PintsforPolio
URL:https://www.moultriega.com/event/pints-for-polio-at-bandwagon-brewing-company/
LOCATION:Bandwagon Brewing Company\, 33 West Central Ave.\, Moultrie\, GA\, 31768\, United States
END:VEVENT
BEGIN:VEVENT
DTSTART;TZID=UTC:20241024T160000
DTEND;TZID=UTC:20241024T180000
DTSTAMP:20260422T102300
CREATED:20240906T164105Z
LAST-MODIFIED:20240906T164105Z
UID:9567-1729785600-1729792800@www.moultriega.com
SUMMARY:Youth Sewing Workshop Monster Pillow at The Arts Center
DESCRIPTION:October 24\, 2024 @ 4:00PM — 6:00PM Eastern Time (US & Canada) Add to Calendar \n\n\n \n\nThe Arts Center of Moultrie: 401 7th Avenue SW Moultrie\, GA 31768
URL:https://www.moultriega.com/event/youth-sewing-workshop-monster-pillow-at-the-arts-center/
LOCATION:The Arts Center\, 401 7th Avenue S.W.\, Moultrie\, GA\, 31768\, United States
END:VEVENT
BEGIN:VEVENT
DTSTART;TZID=UTC:20241024T160000
DTEND;TZID=UTC:20241024T200000
DTSTAMP:20260422T102300
CREATED:20241021T135838Z
LAST-MODIFIED:20241021T135838Z
UID:9794-1729785600-1729800000@www.moultriega.com
SUMMARY:Christmas Open House at The Carriage House
DESCRIPTION:Grand Opening of The Carriage House Floral and Gift Shoppe with you all! Please join us this Thursday\, Friday and Saturday as we open our doors for our 1st Annual Christmas Open House. We have the finest selection of Holiday and Home Decor\, Florals and Gifts that will be sure to make your season Merry and Bright! Thank you all for the overwhelming amount of love and support shown through this journey. I am forever grateful and I look forward to sharing the Magic of the Christmas Season with you all in downtown Moultrie\, Georgia!
URL:https://www.moultriega.com/event/christmas-open-house-at-the-carriage-house/
LOCATION:The Carriage House\, 323 1st Street SE\, Moultrie\, GA\, 31768\, United States
END:VEVENT
BEGIN:VEVENT
DTSTART;TZID=UTC:20241024T180000
DTEND;TZID=UTC:20241024T180000
DTSTAMP:20260422T102300
CREATED:20241022T182640Z
LAST-MODIFIED:20241022T182640Z
UID:9816-1729792800-1729792800@www.moultriega.com
SUMMARY:Halloween at The Ballfield at Knuck McCrary Complex
DESCRIPTION: ℌ   ! Parents\, bring your little athletes dressed in their best Halloween costumes for games on Thursday\, October 24th! Trick-or-Treating starting at 6 PM at both Knuck and Magnolia.Let’s make this a spooky and fun night for everyone! Don’t forget your candy bags! #HalloweenAtTheBallfields #TrickOrTreat #CostumeFun #FamilyNight #YouthSports
URL:https://www.moultriega.com/event/halloween-at-the-ballfield-at-knuck-mccrary-complex/
LOCATION:Kunck McCrary Complex\, 602 27th St SE\, Moultrie\, GA\, 31788\, United States
END:VEVENT
BEGIN:VEVENT
DTSTART;TZID=UTC:20241024T180000
DTEND;TZID=UTC:20241024T180000
DTSTAMP:20260422T102300
CREATED:20241022T183008Z
LAST-MODIFIED:20241022T183008Z
UID:9818-1729792800-1729792800@www.moultriega.com
SUMMARY:Halloween at The Ballfield at Magnolia Sports Complex
DESCRIPTION: ℌ ! Parents\, bring your little athletes dressed in their best Halloween costumes for games on Thursday\, October 24th! Trick-or-Treating starting at 6 PM at both Knuck and Magnolia.Let’s make this a spooky and fun night for everyone! Don’t forget your candy bags! #HalloweenAtTheBallfields #TrickOrTreat #CostumeFun #FamilyNight #YouthSports
URL:https://www.moultriega.com/event/halloween-at-the-ballfield-at-magnolia-sports-complex/
LOCATION:Magnolia Sports Complex\, 2010 Magnolia Lane\, Moultrie\, GA\, 31788\, United States
END:VEVENT
BEGIN:VEVENT
DTSTART;TZID=UTC:20241024T190000
DTEND;TZID=UTC:20241024T190000
DTSTAMP:20260422T102300
CREATED:20240903T181916Z
LAST-MODIFIED:20240903T181916Z
UID:9535-1729796400-1729796400@www.moultriega.com
SUMMARY:SINGO! at Bandwagon Brewing Company
DESCRIPTION:Feel the Beat\, Know the Beat\, Win with SINGO!\n It’s bingo with a beat\, combining your favorite tunes with the classic game we all love. (singing not required)\nEvery other Thursday night during this fall\, you can jam out\, have fun\, and have a chance to win prizes! \nDoors Open: 4:00 PM\nFood Truck: Check the discussion tab for all things food\nRound 1: 7 PMRound 2: 8 PM\nYou can play either or both—it doesn’t matter which! Prizes are given out each round.\n#BandwagonBrewingCo #SINGO #BingoWithABeat #FridayNightFun #ChallengeEntertainment #CommunityFun #CraftBeer #TriviaNights #HOPontheBandwagon
URL:https://www.moultriega.com/event/singo-at-bandwagon-brewing-company-2/
LOCATION:Bandwagon Brewing Company\, 33 West Central Ave.\, Moultrie\, GA\, 31768\, United States
END:VEVENT
BEGIN:VEVENT
DTSTART;TZID=UTC:20241024T190000
DTEND;TZID=UTC:20241024T190000
DTSTAMP:20260422T102300
CREATED:20241021T142648Z
LAST-MODIFIED:20241021T144909Z
UID:9797-1729796400-1729796400@www.moultriega.com
SUMMARY:SPINGO BINGO at The Speakeasy on Main
DESCRIPTION:
URL:https://www.moultriega.com/event/spingo-ningo-at-the-speakeasy-on-main/
LOCATION:The Speakeasy on Main\, 14 S Main St\, Moultrie\, GA\, 31768\, United States
END:VEVENT
BEGIN:VEVENT
DTSTART;TZID=UTC:20241025T180000
DTEND;TZID=UTC:20241025T190000
DTSTAMP:20260422T102300
CREATED:20241017T160933Z
LAST-MODIFIED:20241017T160933Z
UID:9784-1729879200-1729882800@www.moultriega.com
SUMMARY:Madagascar\, Jr. at The Arts Center
DESCRIPTION:Based on the smash DreamWorks animated motion picture\, Madagascar – A Musical Adventure JR. follows all of your favorite crack-a-lackin’ friends as they escape from their home in New York’s Central Park Zoo and find themselves on an unexpected journey to the madcap world of King Julien’s Madagascar.\nTickets $10
URL:https://www.moultriega.com/event/madagascar-jr-at-the-arts-center/
LOCATION:The Arts Center\, 401 7th Avenue S.W.\, Moultrie\, GA\, 31768\, United States
END:VEVENT
BEGIN:VEVENT
DTSTART;TZID=UTC:20241025T200000
DTEND;TZID=UTC:20241025T200000
DTSTAMP:20260422T102300
CREATED:20241023T123438Z
LAST-MODIFIED:20241023T123438Z
UID:9825-1729886400-1729886400@www.moultriega.com
SUMMARY:Thomas Merritt at The Speakeasy on Main
DESCRIPTION:
URL:https://www.moultriega.com/event/thomas-merritt-at-the-speakeasy-on-main/
LOCATION:The Speakeasy on Main\, 14 S Main St\, Moultrie\, GA\, 31768\, United States
END:VEVENT
BEGIN:VEVENT
DTSTART;TZID=UTC:20241026T080000
DTEND;TZID=UTC:20241026T160000
DTSTAMP:20260422T102300
CREATED:20240919T184911Z
LAST-MODIFIED:20240919T184911Z
UID:9672-1729929600-1729958400@www.moultriega.com
SUMMARY:Fall Vendor Market
DESCRIPTION:
URL:https://www.moultriega.com/event/fall-vendor-market/
END:VEVENT
BEGIN:VEVENT
DTSTART;TZID=UTC:20241026T120000
DTEND;TZID=UTC:20241026T220000
DTSTAMP:20260422T102300
CREATED:20241022T180820Z
LAST-MODIFIED:20241022T180847Z
UID:9810-1729944000-1729980000@www.moultriega.com
SUMMARY:JW Griffin & Lobster Dogs! at Bandwagon Brewing Company
DESCRIPTION:Saturday\, October 26 –  JW Griffin & Lobster Dogs returns to Bandwagon Brewing Company!\nIt’s the perfect place to kick back with friends\, enjoy live music\, feed your hunger\, and quench your thirst with a That 70’s Beer. If you’re feeling adventurous\, we’ve got 19 other craft brews too!\nDoors Open: 12 PMFood Starts: 1 PMMusic: 7 PM
URL:https://www.moultriega.com/event/juw-griffin-lobster-dogs-at-bandwagon-brewing-company/
LOCATION:Bandwagon Brewing Company\, 33 West Central Ave.\, Moultrie\, GA\, 31768\, United States
END:VEVENT
BEGIN:VEVENT
DTSTART;TZID=UTC:20241026T140000
DTEND;TZID=UTC:20241026T150000
DTSTAMP:20260422T102300
CREATED:20241017T161131Z
LAST-MODIFIED:20241017T161131Z
UID:9786-1729951200-1729954800@www.moultriega.com
SUMMARY:Madagascar\, Jr. at The Arts Center
DESCRIPTION:Based on the smash DreamWorks animated motion picture\, Madagascar – A Musical Adventure JR. follows all of your favorite crack-a-lackin’ friends as they escape from their home in New York’s Central Park Zoo and find themselves on an unexpected journey to the madcap world of King Julien’s Madagascar.\nTickets $10
URL:https://www.moultriega.com/event/madagascar-jr-at-the-arts-center-2/
LOCATION:The Arts Center\, 401 7th Avenue S.W.\, Moultrie\, GA\, 31768\, United States
END:VEVENT
BEGIN:VEVENT
DTSTART;TZID=UTC:20241026T150000
DTEND;TZID=UTC:20241026T150000
DTSTAMP:20260422T102300
CREATED:20240930T190552Z
LAST-MODIFIED:20240930T190552Z
UID:9717-1729954800-1729954800@www.moultriega.com
SUMMARY:Topless Night with Halloween "Trick or Treat" at Needmore Speedway
DESCRIPTION:Saturday\, October 26th\, the stars and cars of Needmore Speedway pull the roofs off and showcases what takes place inside the cockpit. There will also be a “Trick or Treat” session during intermission on the front straightaway for all the awesome kiddos\, so make sure you bring your kids dressed up in their Halloween costumes.\n\nThe winner in each division will also receive a guaranteed starting spot in this years 13th Annual Early Bird 50 November 21-23. Make your plans to join us for this event!!!\n\n(604 and 602 Late Models Topless Mandatory\, all other divisions EXCEPT FOR CROWN VIC are Topless Optional)
URL:https://www.moultriega.com/event/topless-night-with-halloween-trick-or-treat-at-needmore-speedway/
LOCATION:Needmore Speedway\, 1060 John Vickers Rd\, Norman Park\, GA\, 31771\, United States
END:VEVENT
BEGIN:VEVENT
DTSTART;TZID=UTC:20241026T200000
DTEND;TZID=UTC:20241026T230000
DTSTAMP:20260422T102300
CREATED:20241021T143341Z
LAST-MODIFIED:20241021T143341Z
UID:9801-1729972800-1729983600@www.moultriega.com
SUMMARY:Todd Trenbony at the Speakeasy on Main
DESCRIPTION:
URL:https://www.moultriega.com/event/todd-trenbony-at-the-speakeasy-on-main-2/
LOCATION:The Speakeasy on Main\, 14 S Main St\, Moultrie\, GA\, 31768\, United States
END:VEVENT
BEGIN:VEVENT
DTSTART;TZID=UTC:20241027T170000
DTEND;TZID=UTC:20241027T190000
DTSTAMP:20260422T102300
CREATED:20241021T134032Z
LAST-MODIFIED:20241021T134032Z
UID:9788-1730048400-1730055600@www.moultriega.com
SUMMARY:Trunk or Treat at Kingwood Baptist Church
DESCRIPTION:
URL:https://www.moultriega.com/event/trunk-or-treat-at-kingwood-baptist-church/
LOCATION:Kingwood Baptist Church\, 310 Lane Street\, Moultrie\, GA\, 31768\, United States
END:VEVENT
BEGIN:VEVENT
DTSTART;TZID=UTC:20241027T173000
DTEND;TZID=UTC:20241027T183000
DTSTAMP:20260422T102300
CREATED:20241021T135254Z
LAST-MODIFIED:20241021T135254Z
UID:9792-1730050200-1730053800@www.moultriega.com
SUMMARY:Trunk or Treat at First Baptist Norman Park
DESCRIPTION:Mark your calendar for Trunk or Treat Fun! We will be gathering at the parking lot by the post office again this year. Get your costume and treat bag ready so you can join us!
URL:https://www.moultriega.com/event/trunk-or-treat-at-first-baptist-norman-park/
LOCATION:First Baptist Church Norman Park\, 100 E Broad\, Norman Park\, GA\, 31771\, United States
END:VEVENT
BEGIN:VEVENT
DTSTART;TZID=UTC:20241027T173000
DTEND;TZID=UTC:20241027T190000
DTSTAMP:20260422T102300
CREATED:20241021T135005Z
LAST-MODIFIED:20241021T135005Z
UID:9790-1730050200-1730055600@www.moultriega.com
SUMMARY:Trunk or Treat at First Baptist Church of Moultrie
DESCRIPTION:
URL:https://www.moultriega.com/event/trunk-or-treat-at-first-baptist-church-of-moultrie/
LOCATION:First Baptist Church Moultrie\, 400 South Main Street\, Moultrie\, GA\, 31768\, United States
END:VEVENT
BEGIN:VEVENT
DTSTART;TZID=UTC:20241027T173000
DTEND;TZID=UTC:20241027T200000
DTSTAMP:20260422T102300
CREATED:20240924T185234Z
LAST-MODIFIED:20240924T185234Z
UID:9685-1730050200-1730059200@www.moultriega.com
SUMMARY:Trunk or Treat at Temple Baptist Church
DESCRIPTION:FREE EVENT. Join us for fun\, games\, sweet shop\, and more.
URL:https://www.moultriega.com/event/trunk-or-treat-at-temple-baptist-church/
LOCATION:Temple Baptist Church\, 2138 US HWY 319 South\, Moultrie\, GA\, 31768\, United States
END:VEVENT
BEGIN:VEVENT
DTSTART;TZID=UTC:20241029T170000
DTEND;TZID=UTC:20241029T190000
DTSTAMP:20260422T102300
CREATED:20241008T185354Z
LAST-MODIFIED:20241008T185354Z
UID:9755-1730221200-1730228400@www.moultriega.com
SUMMARY:Trunk or Treat at Moultrie-Colquitt County Humane Society
DESCRIPTION:
URL:https://www.moultriega.com/event/trunk-or-treat-at-moultrie-colquitt-county-humane-society/
LOCATION:Moultrie/Colquitt County Humane Society\, 1412 1Street NE\, Moultrie\, GA\, 31768\, United States
END:VEVENT
BEGIN:VEVENT
DTSTART;TZID=UTC:20241029T191500
DTEND;TZID=UTC:20241029T201500
DTSTAMP:20260422T102300
CREATED:20240920T135848Z
LAST-MODIFIED:20240920T135848Z
UID:9680-1730229300-1730232900@www.moultriega.com
SUMMARY:Salsa Dancing Class at The Arts Center
DESCRIPTION:October 29 – November 12Tuesdays | 7:15 – 8:15 pmRegistration Fee: $90 per coupleArts Center Ballroom\nSalsa is a dynamic\, vibrant dance characterized by its energetic footwork\, fluid turns\, and rhythmic hip movements. Set to lively Latin music with a strong beat\, it involves a mix of fast and slow movements\, showcasing a playful and passionate interaction between partners. If you want a fun exciting passionate date night don’t forget to sign up!\nAttire: Lightweight non-stick tennis shoes\, casual/comfortable clothes for the introductory class.
URL:https://www.moultriega.com/event/salsa-dancing-class-at-the-arts-center/
LOCATION:The Arts Center\, 401 7th Avenue S.W.\, Moultrie\, GA\, 31768\, United States
END:VEVENT
BEGIN:VEVENT
DTSTART;TZID=UTC:20241031T160000
DTEND;TZID=UTC:20241031T210000
DTSTAMP:20260422T102300
CREATED:20241030T141218Z
LAST-MODIFIED:20241030T141218Z
UID:9901-1730390400-1730408400@www.moultriega.com
SUMMARY:Halloween Trivia Night at Bandwagon Brewing Company
DESCRIPTION:Get Ready for a Spooktacular Night of Trivia! \n\nJoin us at Bandwagon Brewing this Thursday for a Halloween-themed trivia night that will raise your spirits!   Bring your brains (and maybe a witch’s hat)\, and compete for wicked prizes \n Date: This Thursday\n Time: 7 PM\n Prizes for: Best Costume + Trivia Champions\n\nCostumes are encouraged—bonus points if your team’s name makes us laugh!  See you there… if you dare!
URL:https://www.moultriega.com/event/halloween-trivia-night-at-bandwagon-brewing-company/
LOCATION:Bandwagon Brewing Company\, 33 West Central Ave.\, Moultrie\, GA\, 31768\, United States
END:VEVENT
BEGIN:VEVENT
DTSTART;TZID=UTC:20241031T173000
DTEND;TZID=UTC:20241031T200000
DTSTAMP:20260422T102300
CREATED:20240829T173245Z
LAST-MODIFIED:20240903T173415Z
UID:9508-1730395800-1730404800@www.moultriega.com
SUMMARY:Moultrie Police Department Trunk or Treat
DESCRIPTION:2024 Moultrie Police Department Trunk or Treat
URL:https://www.moultriega.com/event/moultrie-police-department-trunk-or-treat/
LOCATION:City of Moultrie Police Department\, 128 1st Street SW\, Moultrie\, GA\, 31768\, United States
END:VEVENT
BEGIN:VEVENT
DTSTART;TZID=UTC:20241031T180000
DTEND;TZID=UTC:20241031T180000
DTSTAMP:20260422T102300
CREATED:20241024T121453Z
LAST-MODIFIED:20241024T121453Z
UID:9856-1730397600-1730397600@www.moultriega.com
SUMMARY:Trick or Treat at Norman Park VFD
DESCRIPTION:
URL:https://www.moultriega.com/event/trick-or-treat-at-norman-park-vfd/
LOCATION:Norman Park VFD\, 160 East Broad\, Norman Park\, GA\, 31771\, United States
END:VEVENT
BEGIN:VEVENT
DTSTART;TZID=UTC:20241101T100000
DTEND;TZID=UTC:20241101T180000
DTSTAMP:20260422T102300
CREATED:20241030T143037Z
LAST-MODIFIED:20241030T143124Z
UID:9903-1730455200-1730484000@www.moultriega.com
SUMMARY:Christmas Open House Merle Norman & Boutique on Main Street
DESCRIPTION:
URL:https://www.moultriega.com/event/christmas-open-house-merle-norman-on-main/
LOCATION:Merle Norman & Boutique on Main Street\, 12 South Main Street\, Moultrie\, GA\, 31788\, United States
END:VEVENT
BEGIN:VEVENT
DTSTART;TZID=UTC:20241101T183000
DTEND;TZID=UTC:20241101T183000
DTSTAMP:20260422T102300
CREATED:20241003T131841Z
LAST-MODIFIED:20241003T131841Z
UID:9737-1730485800-1730485800@www.moultriega.com
SUMMARY:Bring a Ball at Mack Tharpe Stadium
DESCRIPTION:\,   ! \n\n\nMark your calendar for the Packer Football game on Friday\, November 1st! Cheer on the Pack\, and don’t forget to PACK a ball of any kind to donate to our friends at the Children’s Cheer & Toy Shop. Together\, we can help bring smiles to kids in need this holiday season.
URL:https://www.moultriega.com/event/bring-a-ball-at-mack-tharpe-stadium/
LOCATION:Mack Tharpe Stadium\, 1000 Stadium Dr\, Moultrie\, GA\, 31768\, United States
END:VEVENT
BEGIN:VEVENT
DTSTART;TZID=UTC:20241101T200000
DTEND;TZID=UTC:20241101T200000
DTSTAMP:20260422T102300
CREATED:20241021T142947Z
LAST-MODIFIED:20241021T142947Z
UID:9799-1730491200-1730491200@www.moultriega.com
SUMMARY:Halloween Costume Party with DJ Tracy Hunter at The Speakeasy on Main
DESCRIPTION:Win best Costume Male & Female!Each winner receives a FREE DRINK & $25 VISA GIFTCARD!!Music by DJ Tracy
URL:https://www.moultriega.com/event/halloween-costume-party-with-dj-tracy-hunter-at-the-speakeasy-on-main/
LOCATION:The Speakeasy on Main\, 14 S Main St\, Moultrie\, GA\, 31768\, United States
END:VEVENT
BEGIN:VEVENT
DTSTART;TZID=UTC:20241102T090000
DTEND;TZID=UTC:20241102T120000
DTSTAMP:20260422T102300
CREATED:20240925T155025Z
LAST-MODIFIED:20240925T155025Z
UID:9692-1730538000-1730548800@www.moultriega.com
SUMMARY:Holiday Cookie Bake at Ryce Community Center
DESCRIPTION:Spend the morning making and baking delicious holiday treats. Open to k-5th graders. $5 per participant. Everyone will leave with a variety of delicious treats and recipes to make more at home. Register no later than Wednesday October 30th.
URL:https://www.moultriega.com/event/holiday-cookie-bake-at-ryce-community-center/
LOCATION:Ryce  Community Center\, 305 7th Street NW\, Moultrie\, GA\, 31768\, United States
END:VEVENT
BEGIN:VEVENT
DTSTART;TZID=UTC:20241102T100000
DTEND;TZID=UTC:20241102T100000
DTSTAMP:20260422T102300
CREATED:20241030T140511Z
LAST-MODIFIED:20241030T140622Z
UID:9899-1730541600-1730541600@www.moultriega.com
SUMMARY:Novice Intersquad Meet & Cow Patty Bingo at Moss Farms Driving
DESCRIPTION:Happening this Saturday\, November 2\, 2024! Join Moss Farms for an inter-squad meet for our newest divers and then stay for Cow Patty Bingo. Meet starts at 10:00 am. Cow Patty Bingo starts at 11:00 am.If you purchased a Cow Patty Bingo ticket\, you can come out to the lot beside Moultrie-Colquitt County Parks and Recreation Authority offices to watch in person\, or you can watch live on FB to see if you bought the lucky number!
URL:https://www.moultriega.com/event/novice-intersquad-meet-cow-patty-bingo-at-moss-farms-driving/
LOCATION:Moss Farms \, 1020 4th St SW\, Moultrie\, GA\, 31768\, United States
END:VEVENT
END:VCALENDAR