BEGIN:VCALENDAR
VERSION:2.0
PRODID:-//City of Moultrie - ECPv6.15.20//NONSGML v1.0//EN
CALSCALE:GREGORIAN
METHOD:PUBLISH
X-ORIGINAL-URL:https://www.moultriega.com
X-WR-CALDESC:Events for City of Moultrie
REFRESH-INTERVAL;VALUE=DURATION:PT1H
X-Robots-Tag:noindex
X-PUBLISHED-TTL:PT1H
BEGIN:VTIMEZONE
TZID:UTC
BEGIN:STANDARD
TZOFFSETFROM:+0000
TZOFFSETTO:+0000
TZNAME:UTC
DTSTART:20220101T000000
END:STANDARD
END:VTIMEZONE
BEGIN:VEVENT
DTSTART;TZID=UTC:20230513T080000
DTEND;TZID=UTC:20230513T230000
DTSTAMP:20260423T230625
CREATED:20230419T122423Z
LAST-MODIFIED:20230419T122423Z
UID:7512-1683964800-1684018800@www.moultriega.com
SUMMARY:MCCPRA 2023 Fishing Derby
DESCRIPTION:Join Us May 13th for 2023 Fishing Derby sponsored by Larry’s Bait & Tackle! This event is FREE and is going to be so much fun!
URL:https://www.moultriega.com/event/mccpra-2023-fishing-derby/
LOCATION:GA
END:VEVENT
BEGIN:VEVENT
DTSTART;TZID=UTC:20230513T100000
DTEND;TZID=UTC:20230513T153000
DTSTAMP:20260423T230625
CREATED:20230425T145611Z
LAST-MODIFIED:20230501T150945Z
UID:7545-1683972000-1683991800@www.moultriega.com
SUMMARY:Second Saturday in May
DESCRIPTION:
URL:https://www.moultriega.com/event/second-saturday-may/
LOCATION:Downtown Moultrie
END:VEVENT
BEGIN:VEVENT
DTSTART;TZID=UTC:20230513T103000
DTEND;TZID=UTC:20230513T123000
DTSTAMP:20260423T230625
CREATED:20230512T121415Z
LAST-MODIFIED:20230512T121415Z
UID:7653-1683973800-1683981000@www.moultriega.com
SUMMARY:PCOM South GA Presents Mother's Day Brunch
DESCRIPTION:
URL:https://www.moultriega.com/event/pcom-south-ga-presents-mothers-day-brunch/
LOCATION:PCOM South Georgia\, 2100 Block Tallokas Rd and Veterans Parkway\, Moultrie\, GA\, 31776\, United States
END:VEVENT
BEGIN:VEVENT
DTSTART;TZID=UTC:20230513T160000
DTEND;TZID=UTC:20230513T160000
DTSTAMP:20260423T230625
CREATED:20230329T133839Z
LAST-MODIFIED:20230329T133839Z
UID:7432-1683993600-1683993600@www.moultriega.com
SUMMARY:4th Annual Remembering 201 Gene Maine Memorial
DESCRIPTION:
URL:https://www.moultriega.com/event/4th-annual-remembering-201-gene-maine-memorial/
LOCATION:Needmore Speedway\, 1060 John Vickers Rd\, Norman Park\, GA\, 31771\, United States
END:VEVENT
BEGIN:VEVENT
DTSTART;TZID=UTC:20230516T180000
DTEND;TZID=UTC:20230516T190000
DTSTAMP:20260423T230625
CREATED:20230109T205146Z
LAST-MODIFIED:20230109T205146Z
UID:7048-1684260000-1684263600@www.moultriega.com
SUMMARY:City Council Meeting
DESCRIPTION:City Council Room 2nd Floor \n21 1st Avenue NE\nMoultrie\, GA 31768
URL:https://www.moultriega.com/event/city-council-meeting-128/
LOCATION:City Council Room\, 21 1st Avenue NE\, Moultrie\, GA\, 31768\, United States
END:VEVENT
BEGIN:VEVENT
DTSTART;TZID=UTC:20230516T180000
DTEND;TZID=UTC:20230516T193000
DTSTAMP:20260423T230625
CREATED:20230512T122630Z
LAST-MODIFIED:20230512T122630Z
UID:7655-1684260000-1684265400@www.moultriega.com
SUMMARY:Let's Talk Autism
DESCRIPTION:
URL:https://www.moultriega.com/event/lets-talk-autism/
LOCATION:Turning The Key Autism & ABA Therapy Center\, LLC\, 204 5th St. SE\, Moultrie\, GA\, 31768\, United States
END:VEVENT
BEGIN:VEVENT
DTSTART;TZID=UTC:20230517T180000
DTEND;TZID=UTC:20230517T180000
DTSTAMP:20260423T230625
CREATED:20230508T123211Z
LAST-MODIFIED:20230508T123211Z
UID:7635-1684346400-1684346400@www.moultriega.com
SUMMARY:Teen & Adult Workshop Summer Door Hangers
DESCRIPTION:
URL:https://www.moultriega.com/event/teen-adult-workshop-summer-door-hangers/
LOCATION:The Arts Center\, 401 7th Avenue S.W.\, Moultrie\, GA\, 31768\, United States
END:VEVENT
BEGIN:VEVENT
DTSTART;TZID=UTC:20230518T103000
DTEND;TZID=UTC:20230518T103000
DTSTAMP:20260423T230625
CREATED:20230418T193520Z
LAST-MODIFIED:20230418T193520Z
UID:7498-1684405800-1684405800@www.moultriega.com
SUMMARY:Senior Adult Paper Bead Jewelry at The Arts Center
DESCRIPTION:
URL:https://www.moultriega.com/event/senior-adult-paper-bead-jewelry-at-the-arts-center/
LOCATION:The Arts Center\, 401 7th Avenue S.W.\, Moultrie\, GA\, 31768\, United States
END:VEVENT
BEGIN:VEVENT
DTSTART;TZID=UTC:20230518T160000
DTEND;TZID=UTC:20230518T173000
DTSTAMP:20260423T230625
CREATED:20230512T193947Z
LAST-MODIFIED:20230512T193947Z
UID:7677-1684425600-1684431000@www.moultriega.com
SUMMARY:Teen & Adult Paper-Making at The Arts Center
DESCRIPTION:
URL:https://www.moultriega.com/event/teen-adult-paper-making-at-the-arts-center/
LOCATION:The Arts Center\, 401 7th Avenue S.W.\, Moultrie\, GA\, 31768\, United States
END:VEVENT
BEGIN:VEVENT
DTSTART;TZID=UTC:20230518T170000
DTEND;TZID=UTC:20230518T190000
DTSTAMP:20260423T230625
CREATED:20230515T133854Z
LAST-MODIFIED:20230515T133854Z
UID:7682-1684429200-1684436400@www.moultriega.com
SUMMARY:Arts Center T-Shirt Tie-Dye Party
DESCRIPTION:Arts Center T-Shirt Tie-Dye Party\nThursday\, May 18\n\n\n5-7 pm | Order a cool new Arts Center logo t-shirt and join us to tie-dye! Short-sleeve shirts are $15 (YS – Adult XL). $20 for 2XL & 3 XL.\n\n\nCall 229-985-1922 to order you shirt and register!
URL:https://www.moultriega.com/event/arts-center-t-shirt-tie-dye-party/
LOCATION:The Arts Center\, 401 7th Avenue S.W.\, Moultrie\, GA\, 31768\, United States
END:VEVENT
BEGIN:VEVENT
DTSTART;VALUE=DATE:20230519
DTEND;VALUE=DATE:20230520
DTSTAMP:20260423T230625
CREATED:20230419T130009Z
LAST-MODIFIED:20230419T130009Z
UID:7517-1684454400-1684540799@www.moultriega.com
SUMMARY:Last Day of School Colquitt County
DESCRIPTION:
URL:https://www.moultriega.com/event/last-day-of-school-colquitt-county/
LOCATION:GA
END:VEVENT
BEGIN:VEVENT
DTSTART;TZID=UTC:20230519T100000
DTEND;TZID=UTC:20230519T100000
DTSTAMP:20260423T230625
CREATED:20230519T173421Z
LAST-MODIFIED:20230519T173421Z
UID:7763-1684490400-1684490400@www.moultriega.com
SUMMARY:Fallen Officers Memorial Service
DESCRIPTION:
URL:https://www.moultriega.com/event/fallen-officers-memorial-service/
LOCATION:Downtown Moultrie
END:VEVENT
BEGIN:VEVENT
DTSTART;TZID=UTC:20230520T080000
DTEND;TZID=UTC:20230520T110000
DTSTAMP:20260423T230625
CREATED:20230419T130207Z
LAST-MODIFIED:20230419T130207Z
UID:7519-1684569600-1684580400@www.moultriega.com
SUMMARY:CCHS Graduation 2023
DESCRIPTION:
URL:https://www.moultriega.com/event/cchs-graduation-2023/
LOCATION:Mack Tharpe Stadium\, 1000 Stadium Dr\, Moultrie\, GA\, 31768\, United States
END:VEVENT
BEGIN:VEVENT
DTSTART;TZID=UTC:20230521T140000
DTEND;TZID=UTC:20230521T140000
DTSTAMP:20260423T230625
CREATED:20230502T163043Z
LAST-MODIFIED:20230502T163043Z
UID:7592-1684677600-1684677600@www.moultriega.com
SUMMARY:Triathletes\, cross-fitters\, and recreational lap swimmers at SW Memorial Pool Moultrie\, GA
DESCRIPTION:
URL:https://www.moultriega.com/event/triathletes-cross-fitters-and-recreational-lap-swimmers-at-sw-memorial-pool-moultrie-ga/
LOCATION:SW Memorial Pool\, 1020 4th St SW\, Moultrie\, GA\, 31768\, United States
END:VEVENT
BEGIN:VEVENT
DTSTART;TZID=UTC:20230524T143000
DTEND;TZID=UTC:20230524T143000
DTSTAMP:20260423T230625
CREATED:20230516T125120Z
LAST-MODIFIED:20230516T125120Z
UID:7686-1684938600-1684938600@www.moultriega.com
SUMMARY:Senior Adult Pick & Paint at The Arts Center
DESCRIPTION:Supported by Sowega Council on Aging. Call 229.985.1922. Free.
URL:https://www.moultriega.com/event/senior-adult-pick-paint-at-the-arts-center/
LOCATION:The Arts Center\, 401 7th Avenue S.W.\, Moultrie\, GA\, 31768\, United States
END:VEVENT
BEGIN:VEVENT
DTSTART;TZID=UTC:20230525T100000
DTEND;TZID=UTC:20230525T130000
DTSTAMP:20260423T230625
CREATED:20230512T124115Z
LAST-MODIFIED:20230512T124115Z
UID:7664-1685008800-1685019600@www.moultriega.com
SUMMARY:Faith Leader's Behavioral Health Luncheon
DESCRIPTION:
URL:https://www.moultriega.com/event/faith-leaders-behavioral-health-luncheon/
LOCATION:Southern Regional Technical College\, 800 Veterans Parkway North\, Moultrie\, GA\, 31778\, United States
END:VEVENT
BEGIN:VEVENT
DTSTART;TZID=UTC:20230525T160000
DTEND;TZID=UTC:20230525T190000
DTSTAMP:20260423T230625
CREATED:20230524T122440Z
LAST-MODIFIED:20230524T122440Z
UID:7780-1685030400-1685041200@www.moultriega.com
SUMMARY:U-Pick Kickoff at Better Half Farm
DESCRIPTION:
URL:https://www.moultriega.com/event/u-pick-kickoff-at-better-half-farm/
LOCATION:Better Half Farm\, 939 Kendallwood Church Rd\, Moultrie\, GA\, 31768\, United States
END:VEVENT
BEGIN:VEVENT
DTSTART;TZID=UTC:20230525T190000
DTEND;TZID=UTC:20230525T190000
DTSTAMP:20260423T230625
CREATED:20230425T134543Z
LAST-MODIFIED:20230425T134543Z
UID:7543-1685041200-1685041200@www.moultriega.com
SUMMARY:Beyond The Book at The Arts Center
DESCRIPTION:
URL:https://www.moultriega.com/event/beyond-the-book-at-the-arts-center/
LOCATION:The Arts Center\, 401 7th Avenue S.W.\, Moultrie\, GA\, 31768\, United States
END:VEVENT
BEGIN:VEVENT
DTSTART;TZID=UTC:20230526T070000
DTEND;TZID=UTC:20230526T070000
DTSTAMP:20260423T230625
CREATED:20230510T183009Z
LAST-MODIFIED:20230510T183009Z
UID:7638-1685084400-1685084400@www.moultriega.com
SUMMARY:Sunrise Hike at Reed Bingham State Park
DESCRIPTION:
URL:https://www.moultriega.com/event/sunrise-hike-at-reed-bingham-state-park/
LOCATION:Reed Bingham State Park\, 542 Reed Bingham Rd.\, Adel\, GA\, 31620\, United States
END:VEVENT
BEGIN:VEVENT
DTSTART;TZID=UTC:20230526T120000
DTEND;TZID=UTC:20230526T130000
DTSTAMP:20260423T230625
CREATED:20230510T183146Z
LAST-MODIFIED:20230510T183146Z
UID:7640-1685102400-1685106000@www.moultriega.com
SUMMARY:Ask the Naturalist at Reed Bingham State Park
DESCRIPTION:
URL:https://www.moultriega.com/event/ask-the-naturalist-at-reed-bingham-state-park-3/
LOCATION:Reed Bingham State Park\, 542 Reed Bingham Rd.\, Adel\, GA\, 31620\, United States
END:VEVENT
BEGIN:VEVENT
DTSTART;TZID=UTC:20230526T180000
DTEND;TZID=UTC:20230526T180000
DTSTAMP:20260423T230625
CREATED:20230516T125332Z
LAST-MODIFIED:20230516T125332Z
UID:7688-1685124000-1685124000@www.moultriega.com
SUMMARY:Youth Dance Recital at The Arts Center
DESCRIPTION:
URL:https://www.moultriega.com/event/youth-dance-recital-at-the-arts-center/
LOCATION:The Arts Center\, 401 7th Avenue S.W.\, Moultrie\, GA\, 31768\, United States
END:VEVENT
BEGIN:VEVENT
DTSTART;TZID=UTC:20230527T090000
DTEND;TZID=UTC:20230527T090000
DTSTAMP:20260423T230625
CREATED:20230510T183318Z
LAST-MODIFIED:20230510T183318Z
UID:7642-1685178000-1685178000@www.moultriega.com
SUMMARY:Picture This Hike at Reed Bingham State Park
DESCRIPTION:
URL:https://www.moultriega.com/event/picture-this-hike-at-reed-bingham-state-park/
LOCATION:Reed Bingham State Park\, 542 Reed Bingham Rd.\, Adel\, GA\, 31620\, United States
END:VEVENT
BEGIN:VEVENT
DTSTART;TZID=UTC:20230527T140000
DTEND;TZID=UTC:20230527T140000
DTSTAMP:20260423T230625
CREATED:20230511T181326Z
LAST-MODIFIED:20230511T181326Z
UID:7645-1685196000-1685196000@www.moultriega.com
SUMMARY:Turtle Craft at Reed Bingham State Park
DESCRIPTION:
URL:https://www.moultriega.com/event/turtle-craft-at-reed-bingham-state-park/
LOCATION:Reed Bingham State Park\, 542 Reed Bingham Rd.\, Adel\, GA\, 31620\, United States
END:VEVENT
BEGIN:VEVENT
DTSTART;VALUE=DATE:20230529
DTEND;VALUE=DATE:20230530
DTSTAMP:20260423T230625
CREATED:20230426T122628Z
LAST-MODIFIED:20230519T193543Z
UID:7558-1685318400-1685404799@www.moultriega.com
SUMMARY:City of Moultrie Offices Closed: Memorial Day
DESCRIPTION:
URL:https://www.moultriega.com/event/city-of-moultrie-office-closed-memorial-day/
LOCATION:GA
END:VEVENT
BEGIN:VEVENT
DTSTART;TZID=UTC:20230529T090000
DTEND;TZID=UTC:20230529T120000
DTSTAMP:20260423T230625
CREATED:20230523T122106Z
LAST-MODIFIED:20230523T122106Z
UID:7774-1685350800-1685361600@www.moultriega.com
SUMMARY:Memorial Day Weekend U-Pick C & J Berry Farms
DESCRIPTION:
URL:https://www.moultriega.com/event/memorial-day-weekend-u-pick-c-j-berry-farms/
LOCATION:C & J Berry Farms\, 1932-2076 Thigpen Trail\, Hartsfield\, GA\, 31756\, United States
END:VEVENT
BEGIN:VEVENT
DTSTART;TZID=UTC:20230529T100000
DTEND;TZID=UTC:20230529T100000
DTSTAMP:20260423T230625
CREATED:20230522T130014Z
LAST-MODIFIED:20230522T130014Z
UID:7770-1685354400-1685354400@www.moultriega.com
SUMMARY:Memorial Day Remember and Honor Wreath Laying
DESCRIPTION:
URL:https://www.moultriega.com/event/memorial-day-remember-and-honor-wreath-laying/
LOCATION:Downtown Moultrie
END:VEVENT
BEGIN:VEVENT
DTSTART;TZID=UTC:20230529T193000
DTEND;TZID=UTC:20230529T193000
DTSTAMP:20260423T230625
CREATED:20230522T130313Z
LAST-MODIFIED:20230522T130313Z
UID:7773-1685388600-1685388600@www.moultriega.com
SUMMARY:Memorial Day Remember and Honor Taps at Sunset
DESCRIPTION:
URL:https://www.moultriega.com/event/memorial-day-remember-and-honor-taps-at-sunset/
LOCATION:Downtown Moultrie
END:VEVENT
BEGIN:VEVENT
DTSTART;TZID=UTC:20230531T080000
DTEND;TZID=UTC:20230531T170000
DTSTAMP:20260423T230625
CREATED:20230531T142914Z
LAST-MODIFIED:20230531T142914Z
UID:7809-1685520000-1685552400@www.moultriega.com
SUMMARY:34th Annual Booy's Ranch Golf Tournament
DESCRIPTION:
URL:https://www.moultriega.com/event/34th-annual-booys-ranch-golf-tournament/
LOCATION:Sunset Country Club\, 2730 South Main Street\, Moultrie\, GA\, 31768\, United States
END:VEVENT
BEGIN:VEVENT
DTSTART;TZID=UTC:20230531T143000
DTEND;TZID=UTC:20230531T143000
DTSTAMP:20260423T230625
CREATED:20230516T125537Z
LAST-MODIFIED:20230516T125537Z
UID:7690-1685543400-1685543400@www.moultriega.com
SUMMARY:Senior Adult Oyster Art at The Arts Center
DESCRIPTION:
URL:https://www.moultriega.com/event/senior-adult-oyster-art-at-the-arts-center/
LOCATION:The Arts Center\, 401 7th Avenue S.W.\, Moultrie\, GA\, 31768\, United States
END:VEVENT
BEGIN:VEVENT
DTSTART;TZID=UTC:20230531T160000
DTEND;TZID=UTC:20230531T160000
DTSTAMP:20260423T230625
CREATED:20230516T125736Z
LAST-MODIFIED:20230516T125736Z
UID:7692-1685548800-1685548800@www.moultriega.com
SUMMARY:Adult Comic Strip Workshop
DESCRIPTION:$35 per person. Must register at least 3 days in advance.
URL:https://www.moultriega.com/event/adult-comic-strip-workshop/
LOCATION:The Arts Center\, 401 7th Avenue S.W.\, Moultrie\, GA\, 31768\, United States
END:VEVENT
END:VCALENDAR