BEGIN:VCALENDAR
VERSION:2.0
PRODID:-//City of Moultrie - ECPv6.15.20//NONSGML v1.0//EN
CALSCALE:GREGORIAN
METHOD:PUBLISH
X-ORIGINAL-URL:https://www.moultriega.com
X-WR-CALDESC:Events for City of Moultrie
REFRESH-INTERVAL;VALUE=DURATION:PT1H
X-Robots-Tag:noindex
X-PUBLISHED-TTL:PT1H
BEGIN:VTIMEZONE
TZID:UTC
BEGIN:STANDARD
TZOFFSETFROM:+0000
TZOFFSETTO:+0000
TZNAME:UTC
DTSTART:20240101T000000
END:STANDARD
END:VTIMEZONE
BEGIN:VEVENT
DTSTART;TZID=UTC:20250806T180000
DTEND;TZID=UTC:20250806T180000
DTSTAMP:20260423T103439
CREATED:20250728T180927Z
LAST-MODIFIED:20250728T180927Z
UID:11081-1754503200-1754503200@www.moultriega.com
SUMMARY:Boots & Brew Line Dancing Night at The Bandwagon Brewing Company
DESCRIPTION: LINE DANCING NIGHT at Bandwagon Brewing Co.! Bandwagon Brewing Company – Moultrie\, GA Wednesday\, August 6th Starts at 6 PM FREE to join! All ages welcome!\nGet ready\, Moultrie—Line Dancing Night is making its big debut at Bandwagon Brewing Co.\, and you’re invited to help us kick off a brand-new community tradition! Whether you’re a total beginner or a seasoned two-stepper\, this is your chance to hit the dance floor\, have some fun\, and shake up your midweek routine.\nHappening every first Wednesday of the month\, this all-ages\, high-energy evening is all about great music\, good people\, and cutting loose in a laid-back\, family-friendly environment.\n Adults can enjoy our rotating craft beers Cool off with our frozen hard seltzer slushies We’ve also got non-alcoholic sodas and our housemade root beer—perfect for all ages! Don’t forget—HALF-PRICE growler fills all night long!\n FOOD NOTE:We’re working on bringing in a food truck\, but since Wednesdays can be tricky\, we strongly encourage you to bring your own food or grab takeout from a local favorite to enjoy while you’re here. Follow us on social media for any last-minute food truck updates!\nThere’s no ticket required\, no dance experience needed—just show up\, grab a drink\, and jump in. Whether you come solo\, bring the whole family\, or round up your crew\, it’s going to be a fun\, feel-good evening for everyone.\nDancing. Drinks. Community vibes.Mark your calendar for Wednesday\, August 6th at 6 PM—we can’t wait to see you on the dance floor\, Moultrie!  \nSee less\n\n\n\nMoultrie\, Georgia
URL:https://www.moultriega.com/event/boots-brew-line-dancing-night-at-the-bandwagon-brewing-company/
LOCATION:Bandwagon Brewing Company\, 33 West Central Ave.\, Moultrie\, GA\, 31768\, United States
END:VEVENT
BEGIN:VEVENT
DTSTART;TZID=UTC:20250807T190000
DTEND;TZID=UTC:20250807T190000
DTSTAMP:20260423T103439
CREATED:20250806T143900Z
LAST-MODIFIED:20250806T143900Z
UID:11097-1754593200-1754593200@www.moultriega.com
SUMMARY:SP-INGO Bingo Night at The Speakeasy on Main
DESCRIPTION:Games start at 7:00 this week$15 entry includes slushy or beer!5 rounds!!7 – 9 pm!Win prizes!!
URL:https://www.moultriega.com/event/sp-ingo-bingo-night-at-the-speakeasy-on-main-15/
LOCATION:The Speakeasy on Main\, 14 S Main St\, Moultrie\, GA\, 31768\, United States
END:VEVENT
BEGIN:VEVENT
DTSTART;TZID=UTC:20250808T103000
DTEND;TZID=UTC:20250808T110000
DTSTAMP:20260423T103439
CREATED:20250806T143435Z
LAST-MODIFIED:20250806T143435Z
UID:11094-1754649000-1754650800@www.moultriega.com
SUMMARY:Ribbon Cutting RT's Sports Bar & Grill
DESCRIPTION:We’re excited to invite you to a ribbon cutting ceremony celebrating RT’s Sports Bar & Grill! This event will take place this Friday\, August 8th @10:30AM.  Come out to show your support\, meet the team\, and help us officially welcome them to the community and to #TeamChamber!See you there!
URL:https://www.moultriega.com/event/ribbon-cutting-rts-sports-bar-grill/
LOCATION:RT’s Sports Bar & Grill\, 132 South Main Street\, Moultrie\, GA\, 31768\, United States
END:VEVENT
BEGIN:VEVENT
DTSTART;TZID=UTC:20250808T203000
DTEND;TZID=UTC:20250808T203000
DTSTAMP:20260423T103439
CREATED:20250806T144157Z
LAST-MODIFIED:20250806T144157Z
UID:11099-1754685000-1754685000@www.moultriega.com
SUMMARY:Karaoke hosted by Tracy Hunter at The Speakeasy on Main
DESCRIPTION:Karaoke Night\n\n 
URL:https://www.moultriega.com/event/karaoke-hosted-by-tracy-hunter-at-the-speakeasy-on-main-4/
LOCATION:The Speakeasy on Main\, 14 S Main St\, Moultrie\, GA\, 31768\, United States
END:VEVENT
BEGIN:VEVENT
DTSTART;TZID=UTC:20250809T100000
DTEND;TZID=UTC:20250809T180000
DTSTAMP:20260423T103439
CREATED:20250103T180147Z
LAST-MODIFIED:20250103T180147Z
UID:10157-1754733600-1754762400@www.moultriega.com
SUMMARY:Second Saturday
DESCRIPTION:Visit Downtown Moultrie for Second Saturday! Downtown merchants will be holding sidewalk sales\, and several area food trucks will gather around the Courthouse Square. Select downtown eateries will be open as well! For more information on the event\, call 229-890-5455.
URL:https://www.moultriega.com/event/second-saturday-13/
LOCATION:Downtown Moultrie\, MOULTRIE\, GA\, 31776
END:VEVENT
BEGIN:VEVENT
DTSTART;TZID=UTC:20250809T120000
DTEND;TZID=UTC:20250809T120000
DTSTAMP:20260423T103439
CREATED:20250728T180527Z
LAST-MODIFIED:20250728T180527Z
UID:11078-1754740800-1754740800@www.moultriega.com
SUMMARY:Farmers Market at Bandwagon Brewing Company
DESCRIPTION: This isn’t just a market — it’s a local celebration.We’re turning up the good vibes and packing the block with community spirit\, farm-fresh finds\, ice-cold drinks\, and all the local charm you love.\n Cool off with Bandwagon’s small-batch craft brews or our frozen hard seltzers — yes\, the ones everyone’s raving about. Stroll the market and discover:• Local produce\, eggs\, herbs\, and honey• Freshly baked breads & sweets• Handmade goods\, art\, home essentials & more• Moultrie makers and growers doing what they do best
URL:https://www.moultriega.com/event/farmers-market-at-bandwagon-brewing-company-5/
LOCATION:Bandwagon Brewing Company\, 33 West Central Ave.\, Moultrie\, GA\, 31768\, United States
END:VEVENT
BEGIN:VEVENT
DTSTART;TZID=UTC:20250809T203000
DTEND;TZID=UTC:20250809T203000
DTSTAMP:20260423T103439
CREATED:20250806T144353Z
LAST-MODIFIED:20250806T144353Z
UID:11101-1754771400-1754771400@www.moultriega.com
SUMMARY:Lilly King at The Speakeasy on Main
DESCRIPTION:Live Music
URL:https://www.moultriega.com/event/lilly-king-at-the-speakeasy-on-main-2/
LOCATION:The Speakeasy on Main\, 14 S Main St\, Moultrie\, GA\, 31768\, United States
END:VEVENT
BEGIN:VEVENT
DTSTART;TZID=UTC:20250813T110000
DTEND;TZID=UTC:20250813T110000
DTSTAMP:20260423T103439
CREATED:20250716T175152Z
LAST-MODIFIED:20250716T175152Z
UID:11016-1755082800-1755082800@www.moultriega.com
SUMMARY:Canvas Bag Art Night at Doerun Library
DESCRIPTION:Calling all color conjurers\, stencil sorcerers\, and fabric paint fiends! Come bedeck a blank canvas tote with your own dazzling design. This is your enchanted invitation to turn imagination into a bag you can brag about! RSVP required.
URL:https://www.moultriega.com/event/canvas-bag-art-night-at-doerun-library/
LOCATION:Doerun Library\, 185 N Freeman Street\, Doerun\, GA\, 31744\, United States
END:VEVENT
BEGIN:VEVENT
DTSTART;TZID=UTC:20250814T120000
DTEND;TZID=UTC:20250814T120000
DTSTAMP:20260423T103439
CREATED:20241226T131915Z
LAST-MODIFIED:20241226T131915Z
UID:10114-1755172800-1755172800@www.moultriega.com
SUMMARY:Downtown Development Authority Moultrie
DESCRIPTION:
URL:https://www.moultriega.com/event/downtown-development-authority-moultrie-19/
LOCATION:Downtown Moultrie Welcome Center\, 31 East Central Ave.\, Moultrie\, GA\, 31768\, United States
END:VEVENT
BEGIN:VEVENT
DTSTART;TZID=UTC:20250815T160000
DTEND;TZID=UTC:20250815T190000
DTSTAMP:20260423T103439
CREATED:20250808T123931Z
LAST-MODIFIED:20250808T123944Z
UID:11102-1755273600-1755284400@www.moultriega.com
SUMMARY:Ice Cream Social at Canela
DESCRIPTION: BACK TO SCHOOL ICE CREAM SOCIAL! Friday\, August 15 at 4:00 PMSchool’s been back in session— and whether you’re a parent\, a student\, or just ready for a break\, you deserve a little fun! Join us for an afternoon of sweet treats\, good vibes\, and connection — perfect for families\, teens\, and anyone who wants to kick back and enjoy!Here’s what’s in store: 10% OFF ALL ICE CREAM – 4-7PM! FREE board games – for this day only!Enjoy Jumbo Jenga\, UNO\, Monopoly\, Sorry\, and more at every table! Laughter\, games\, and quality time for all ages. 3 1ST ST SE\, Moultrie\, GA 31768 229-999-4123Whether you’re bringing the kids\, meeting up with friends\, or just want a break\, this is your sign to treat yourself. Tag your crew and join the fun! 
URL:https://www.moultriega.com/event/ice-cream-social-at-canelas/
LOCATION:Canela’s\, 3 1st Street SE\, Moultrie\, GA\, 31768\, United States
END:VEVENT
BEGIN:VEVENT
DTSTART;TZID=UTC:20250819T180000
DTEND;TZID=UTC:20250819T180000
DTSTAMP:20260423T103439
CREATED:20240906T174604Z
LAST-MODIFIED:20240906T174604Z
UID:9591-1755626400-1755626400@www.moultriega.com
SUMMARY:City Council Meeting
DESCRIPTION:City Council Room 2nd Floor \n21 1st Avenue NE\nMoultrie\, GA 31768
URL:https://www.moultriega.com/event/city-council-meeting-166/
LOCATION:City Council Room\, 21 1st Avenue NE\, Moultrie\, GA\, 31768\, United States
END:VEVENT
BEGIN:VEVENT
DTSTART;TZID=UTC:20250819T180000
DTEND;TZID=UTC:20250819T180000
DTSTAMP:20260423T103439
CREATED:20250716T175933Z
LAST-MODIFIED:20250716T175933Z
UID:11018-1755626400-1755626400@www.moultriega.com
SUMMARY:Canvas Bag Art Night at Moultrie Library
DESCRIPTION:Get ready to paint\, design\, and decorate your very own canvas tote bag! We’ll provide all the supplies (fabric paint\, stencils\, brushes\, and plenty of creative inspiration.)\nWhether you want bold patterns\, fun shapes\, or something completely one-of-a-kind\, your tote will be uniquely you.\nSpace is limited\, so be sure to save your spot! RSVP by calling (229) 985-6540.
URL:https://www.moultriega.com/event/canvas-bag-art-night-at-moultrie-library/
LOCATION:Moultrie-Colquitt County Library System\, 204 5th St SE\, Moultrie\, GA\, 31768\, United States
END:VEVENT
BEGIN:VEVENT
DTSTART;TZID=UTC:20250821T180000
DTEND;TZID=UTC:20250821T210000
DTSTAMP:20260423T103439
CREATED:20250819T194447Z
LAST-MODIFIED:20250819T194447Z
UID:11132-1755799200-1755810000@www.moultriega.com
SUMMARY:2 Riverstation at Rancho Grande Mexican Grill & Cantina Moultrie\, GA
DESCRIPTION:Come enjoy good Food\, good drinks and great Music!! 2RiverStation\n\n 
URL:https://www.moultriega.com/event/2-riverstation-at-rancho-grande-mexican-grill-cantina-moultrie-ga/
LOCATION:Rancho Grande Mexican Grill & Cantina Moultrie\, 11 2nd Ave. SW\, Moultrie\, GA\, 31768\, United States
END:VEVENT
BEGIN:VEVENT
DTSTART;TZID=UTC:20250821T190000
DTEND;TZID=UTC:20250821T220000
DTSTAMP:20260423T103439
CREATED:20250819T192422Z
LAST-MODIFIED:20250819T192422Z
UID:11130-1755802800-1755813600@www.moultriega.com
SUMMARY:Heath Deloach at Doughboys Downtown
DESCRIPTION:This Thursday Moultrie’s very own\, Heath Deloach\, will be playing from 7-10!
URL:https://www.moultriega.com/event/heath-deloach-at-doughboys-downtown/
LOCATION:DoughBoys Downtown\, 25 1st St SE\, Moultrie\, GA\, 31768\, United States
END:VEVENT
BEGIN:VEVENT
DTSTART;TZID=UTC:20250823T120000
DTEND;TZID=UTC:20250823T120000
DTSTAMP:20260423T103439
CREATED:20250728T180622Z
LAST-MODIFIED:20250728T180622Z
UID:11080-1755950400-1755950400@www.moultriega.com
SUMMARY:Farmers Market at Bandwagon Brewing Company
DESCRIPTION: This isn’t just a market — it’s a local celebration.We’re turning up the good vibes and packing the block with community spirit\, farm-fresh finds\, ice-cold drinks\, and all the local charm you love.\n Cool off with Bandwagon’s small-batch craft brews or our frozen hard seltzers — yes\, the ones everyone’s raving about. Stroll the market and discover:• Local produce\, eggs\, herbs\, and honey• Freshly baked breads & sweets• Handmade goods\, art\, home essentials & more• Moultrie makers and growers doing what they do best
URL:https://www.moultriega.com/event/farmers-market-at-bandwagon-brewing-company-6/
LOCATION:Bandwagon Brewing Company\, 33 West Central Ave.\, Moultrie\, GA\, 31768\, United States
END:VEVENT
BEGIN:VEVENT
DTSTART;TZID=UTC:20250823T140000
DTEND;TZID=UTC:20250823T140000
DTSTAMP:20260423T103439
CREATED:20250815T173501Z
LAST-MODIFIED:20250815T173549Z
UID:11117-1755957600-1755957600@www.moultriega.com
SUMMARY:7th Annual Morgan Sheffield Memorial Race at Needmore Speedway
DESCRIPTION:One day $3\,016 to win for 602 Sportsmans!! What more could you ask for? This race is always so special and always has a HUGE turnout. That means DON’T MISS IT. All information below 602 Sportsman Full Payout!!602 Payout:301615001000800700600500450350300275250225216 – 14th-24thEntry fee $100 includes transponderAlso running 604 Late Models\, Super Street\, Factory Stocks and Crown Vics.: Grandstands $15 | Pits $35Kids 12 and under FREE: Pits 2pm | Grandstands 5pmHotlaps 7pmWe are excited for this year’s Morgan Sheffield Memorial and we can’t wait to see everyone!!!
URL:https://www.moultriega.com/event/11117/
LOCATION:Needmore Speedway\, 1060 John Vickers Rd\, Norman Park\, GA\, 31771\, United States
END:VEVENT
BEGIN:VEVENT
DTSTART;TZID=UTC:20250826T180000
DTEND;TZID=UTC:20250826T180000
DTSTAMP:20260423T103439
CREATED:20250716T180347Z
LAST-MODIFIED:20250716T180821Z
UID:11020-1756231200-1756231200@www.moultriega.com
SUMMARY:(Adult Program) Murder Mystery Party Game "Ultimate Werewolf: Summer's End at Moultrie Library
DESCRIPTION:(Adult Program)It’s the last week of summer camp\, and the campers are soaking up every golden hour. They’re spending nights by the lake\, whispering ghost stories\, and staying up way too late\, but these woods hide more than just a camp…There are werewolves. And they are hungry. Can you survive the night…or will the werewolves devour your bunkmates\, your secrets\, and your soul before the final campfire goes cold?\nUltimate Werewolf is a murder mystery party game where players are given roles at the beginning of the game—Campers or Werewolves. The Werewolves pick off players at night\, and everyone debates and votes by day to find the killers. It’s a battle of lies\, deduction\, and survival!
URL:https://www.moultriega.com/event/murder-mystery-party-game-ultimate-werewolf-summers-end-at-moultrie-library/
LOCATION:Moultrie-Colquitt County Library System\, 204 5th St SE\, Moultrie\, GA\, 31768\, United States
END:VEVENT
BEGIN:VEVENT
DTSTART;TZID=UTC:20250829T210000
DTEND;TZID=UTC:20250829T230000
DTSTAMP:20260423T103439
CREATED:20250728T181307Z
LAST-MODIFIED:20250728T181307Z
UID:11083-1756501200-1756508400@www.moultriega.com
SUMMARY:Ale Yeah Comedy Show + The Shack Food Truck
DESCRIPTION:FINAL FRIDAY: ALE YEAH COMEDY NIGHTPresented by THC Show Malcolm Robertson & Chris Bullard Bandwagon Brewing Co. | Moultrie\, GA Friday | 9 PM – 11 PM Ages 21+ ONLY – No Exceptions(TICKET LINK COMING SOON!)\nMoultrie\, get ready— Ale Yeah Comedy Night is coming in hot! This is your monthly dose of unfiltered\, uncensored stand-up that pulls no punches and guarantees full-throttle laughs all night long.\n DISCLAIMER (aka Please Don’t Yell at the Bartender):Bandwagon Brewing Co. is just the venue. We’re pouring the beers\, not the punchlines!This wild night of comedy is fully produced and presented by THC Show (Totally Hilarious Comedy Show)—they book the comics\, they run the show\, and they take full credit (or blame) for whatever gets said on that stage.\nSO! If a joke makes you gasp\, cringe\, or question humanity…just remember—we only make the craft beer. \n HEADLINER: PLUG CHAPMAN Featuring:EARTH\, SCOTT WALKER\, MATT TALLEY\, HUNTER MEECH\, KENNY MURRAY\, & HOST MALCOLM ROBERTSON\n This show is strictly 21+ after 9pm and absolutely not for the easily offended. Expect raw\, real\, and ridiculously funny. If you missed the last one\, ask anyone who came—this is the most fun you can have on a Friday night in Moultrie.\n Tickets:$15 Online (Credit/Debit)TICKET LINK COMING SOON!$20 At The Door (CASH OR CARD – limited quantity)\n Two-Drink MinimumCraft beers\, frozen fruit seltzers\, and non-alcoholic options available.\n FOOD:Come hungry—The Shack Food Truck will be serving up fire eats from 6–11 PM!Think juicy smash burgers\, loaded brisket & Philly sandwiches\, crispy chicken tenders and wings\, stacked specialty fries\, and hearty salads. Every plate comes with fries. Every bite hits.\n\n This is not just a show—it’s a whole experience. The beer’s cold\, the food’s banging\, and the comedy? Absolutely unmissable. Don’t sleep on it.\n One night. No filters. All fire.It’s the last Friday of the month—ALE YEAH\, baby!
URL:https://www.moultriega.com/event/ale-yeah-comedy-show-the-shack-food-truck/
LOCATION:Bandwagon Brewing Company\, 33 West Central Ave.\, Moultrie\, GA\, 31768\, United States
END:VEVENT
BEGIN:VEVENT
DTSTART;TZID=UTC:20250903T180000
DTEND;TZID=UTC:20250903T200000
DTSTAMP:20260423T103439
CREATED:20250815T141920Z
LAST-MODIFIED:20250815T141920Z
UID:11112-1756922400-1756929600@www.moultriega.com
SUMMARY:Boots & Brews Line Dancing Night! at Bandwagon Brewing Company
DESCRIPTION:Moultrie\, it’s time to dance\, connect\, and cut loose! Whether you’re 7 or 77\, flying solo or bringing the whole crew\, Line Dancing Night at Bandwagon Brewing Co. is your midweek invitation to let go\, have fun\, and be part of something special. Everyone’s welcome—no rhythm\, boots\, or partner required! Meet Your Instructor – Narvareaz “Reaz” Colson!We’re thrilled to welcome the talented Reaz to lead the night with her signature energy and encouragement!With over 25 years of experience\, Reaz is a certified instructor\, choreographer\, and community builder who’s helped dancers of all ages find confidence and joy on the dance floor. From soulful two-steps to high-energy stomps\, her easy-to-follow style makes everyone feel like a natural. You might’ve seen her at the YMCA\, local festivals\, or private events—and now she’s bringing those moves to Bandwagon!
URL:https://www.moultriega.com/event/boots-brews-line-dancing-night-at-bandwagon-brewing-company/
LOCATION:Bandwagon Brewing Company\, 33 West Central Ave.\, Moultrie\, GA\, 31768\, United States
END:VEVENT
BEGIN:VEVENT
DTSTART;TZID=UTC:20250904T190000
DTEND;TZID=UTC:20250904T190000
DTSTAMP:20260423T103439
CREATED:20250902T165248Z
LAST-MODIFIED:20250902T165248Z
UID:11146-1757012400-1757012400@www.moultriega.com
SUMMARY:SPINGO BINGO at The Speakeasy on Main
DESCRIPTION:BINGO Night
URL:https://www.moultriega.com/event/spingo-bingo-at-the-speakeasy-on-main-2/
LOCATION:The Speakeasy on Main\, 14 S Main St\, Moultrie\, GA\, 31768\, United States
END:VEVENT
BEGIN:VEVENT
DTSTART;TZID=UTC:20250905T183000
DTEND;TZID=UTC:20250905T183000
DTSTAMP:20260423T103439
CREATED:20250903T131536Z
LAST-MODIFIED:20250903T131536Z
UID:11152-1757097000-1757097000@www.moultriega.com
SUMMARY:FAM JAM! at Heritage Church
DESCRIPTION:Elementary Families\, Join us Friday\, September 5th for FAM JAM at Heritage Church!\n6:30PM- Doughboys Pizza available by the slice ($1) & Pre-show Fun!\n7:00 PM- The Show Starts!!\nFam Jam is an opportunity for elementary kids and their families to have fun\, learn\, and grow together in a free Friday night experience!\nDon’t miss the fun starting at 6:30 PM\, with the show starting at 7:00 PM! Bring your friends!!
URL:https://www.moultriega.com/event/fam-jam-at-heritage-church-6/
LOCATION:Heritage Church\, 844 GA Highway 33 S\, Moultrie\, GA\, 31788\, United States
END:VEVENT
BEGIN:VEVENT
DTSTART;TZID=UTC:20250905T203000
DTEND;TZID=UTC:20250905T203000
DTSTAMP:20260423T103439
CREATED:20250902T165512Z
LAST-MODIFIED:20250902T165512Z
UID:11148-1757104200-1757104200@www.moultriega.com
SUMMARY:Lilly King at The Speakeasy on Main
DESCRIPTION:Lilly King
URL:https://www.moultriega.com/event/lilly-king-at-the-speakeasy-on-main-3/
LOCATION:The Speakeasy on Main\, 14 S Main St\, Moultrie\, GA\, 31768\, United States
END:VEVENT
BEGIN:VEVENT
DTSTART;TZID=UTC:20250910T180000
DTEND;TZID=UTC:20250910T180000
DTSTAMP:20260423T103439
CREATED:20250728T180019Z
LAST-MODIFIED:20250728T180019Z
UID:11075-1757527200-1757527200@www.moultriega.com
SUMMARY:The 9th Annual Be the Light Night
DESCRIPTION:
URL:https://www.moultriega.com/event/the-9th-annual-be-the-light-night/
LOCATION:Downtown Moultrie\, MOULTRIE\, GA\, 31776
END:VEVENT
BEGIN:VEVENT
DTSTART;TZID=UTC:20250911T120000
DTEND;TZID=UTC:20250911T120000
DTSTAMP:20260423T103439
CREATED:20241226T132050Z
LAST-MODIFIED:20241226T132050Z
UID:10115-1757592000-1757592000@www.moultriega.com
SUMMARY:Downtown Development Authority Moultrie
DESCRIPTION:
URL:https://www.moultriega.com/event/downtown-development-authority-moultrie-20/
LOCATION:Downtown Moultrie Welcome Center\, 31 East Central Ave.\, Moultrie\, GA\, 31768\, United States
END:VEVENT
BEGIN:VEVENT
DTSTART;TZID=UTC:20250911T190000
DTEND;TZID=UTC:20250911T190000
DTSTAMP:20260423T103439
CREATED:20250909T202648Z
LAST-MODIFIED:20250909T202648Z
UID:11169-1757617200-1757617200@www.moultriega.com
SUMMARY:SPINGO BINGO at The Speakeasy on Main
DESCRIPTION:BINGO Night!
URL:https://www.moultriega.com/event/spingo-bingo-at-the-speakeasy-on-main-3/
LOCATION:The Speakeasy on Main\, 14 S Main St\, Moultrie\, GA\, 31768\, United States
END:VEVENT
BEGIN:VEVENT
DTSTART;TZID=UTC:20250912T140000
DTEND;TZID=UTC:20250912T140000
DTSTAMP:20260423T103439
CREATED:20250815T173927Z
LAST-MODIFIED:20250819T200209Z
UID:11119-1757685600-1757685600@www.moultriega.com
SUMMARY:World of Outlaws Needmore Late Model Showdown at Needmore Speedway
DESCRIPTION:Outlaws head down to Georgia A Peach State doubleheader kicks off with a return to Needmore Speedway for the first time since 2011!
URL:https://www.moultriega.com/event/world-of-outlaws-needmore-late-modle-showdown-at-needmore-speedway/
LOCATION:Needmore Speedway\, 1060 John Vickers Rd\, Norman Park\, GA\, 31771\, United States
END:VEVENT
BEGIN:VEVENT
DTSTART;TZID=UTC:20250912T203000
DTEND;TZID=UTC:20250912T203000
DTSTAMP:20260423T103439
CREATED:20250909T202810Z
LAST-MODIFIED:20250909T202810Z
UID:11171-1757709000-1757709000@www.moultriega.com
SUMMARY:Bill Morris at The Speakeasy on Main
DESCRIPTION:Live Music
URL:https://www.moultriega.com/event/bill-morris-at-the-speakeasy-on-main-9/
LOCATION:The Speakeasy on Main\, 14 S Main St\, Moultrie\, GA\, 31768\, United States
END:VEVENT
BEGIN:VEVENT
DTSTART;TZID=UTC:20250913T100000
DTEND;TZID=UTC:20250913T180000
DTSTAMP:20260423T103439
CREATED:20250103T180330Z
LAST-MODIFIED:20250103T180330Z
UID:10158-1757757600-1757786400@www.moultriega.com
SUMMARY:Second Saturday
DESCRIPTION:Visit Downtown Moultrie for Second Saturday! Downtown merchants will be holding sidewalk sales\, and several area food trucks will gather around the Courthouse Square. Select downtown eateries will be open as well! For more information on the event\, call 229-890-5455.
URL:https://www.moultriega.com/event/second-saturday-14/
LOCATION:Downtown Moultrie\, MOULTRIE\, GA\, 31776
END:VEVENT
BEGIN:VEVENT
DTSTART;TZID=UTC:20250913T120000
DTEND;TZID=UTC:20250913T120000
DTSTAMP:20260423T103439
CREATED:20250903T143136Z
LAST-MODIFIED:20250903T143136Z
UID:11156-1757764800-1757764800@www.moultriega.com
SUMMARY:Farmers Market at Bandwagon Brewing Company
DESCRIPTION: This isn’t just a market — it’s a local celebration.We’re turning up the good vibes and packing the block with community spirit\, farm-fresh finds\, ice-cold drinks\, and all the local charm you love.\n Cool off with Bandwagon’s small-batch craft brews or our frozen hard seltzers — yes\, the ones everyone’s raving about. Stroll the market and discover:• Local produce\, eggs\, herbs\, and honey• Freshly baked breads & sweets• Handmade goods\, art\, home essentials & more• Moultrie makers and growers doing what they do best
URL:https://www.moultriega.com/event/farmers-market-at-bandwagon-brewing-company-7/
LOCATION:Bandwagon Brewing Company\, 33 West Central Ave.\, Moultrie\, GA\, 31768\, United States
END:VEVENT
BEGIN:VEVENT
DTSTART;TZID=UTC:20250913T190000
DTEND;TZID=UTC:20250913T210000
DTSTAMP:20260423T103439
CREATED:20250903T135818Z
LAST-MODIFIED:20250903T135818Z
UID:11154-1757790000-1757797200@www.moultriega.com
SUMMARY:Titus Ranch Presents Just June at Bandwagon Brewing Co.
DESCRIPTION: Join Us for an Evening of Music\, Food & Purpose! Hosted by Titus Ranch at Bandwagon Brewing Co. 33 W Central Ave Friday\, September 13th 7:00 PM – 9:00 PMEnjoy a fun night out with live music from Just June\, tasty food\, and a silent auction — all supporting a meaningful cause! Your ticket includes: Admission for one One FREE drink All proceeds help Titus Ranch provide training and support to adults who mentor local youth facing challenges.
URL:https://www.moultriega.com/event/titus-ranch-presents-just-june-at-bandwagon-brewing-co/
LOCATION:Bandwagon Brewing Company\, 33 West Central Ave.\, Moultrie\, GA\, 31768\, United States
END:VEVENT
END:VCALENDAR