BEGIN:VCALENDAR
VERSION:2.0
PRODID:-//City of Moultrie - ECPv6.15.20//NONSGML v1.0//EN
CALSCALE:GREGORIAN
METHOD:PUBLISH
X-WR-CALNAME:City of Moultrie
X-ORIGINAL-URL:https://www.moultriega.com
X-WR-CALDESC:Events for City of Moultrie
REFRESH-INTERVAL;VALUE=DURATION:PT1H
X-Robots-Tag:noindex
X-PUBLISHED-TTL:PT1H
BEGIN:VTIMEZONE
TZID:UTC
BEGIN:STANDARD
TZOFFSETFROM:+0000
TZOFFSETTO:+0000
TZNAME:UTC
DTSTART:20240101T000000
END:STANDARD
END:VTIMEZONE
BEGIN:VEVENT
DTSTART;TZID=UTC:20250517T150000
DTEND;TZID=UTC:20250517T150000
DTSTAMP:20260424T001407
CREATED:20250425T180813Z
LAST-MODIFIED:20250425T180813Z
UID:10621-1747494000-1747494000@www.moultriega.com
SUMMARY:6th Annual Gene Maine Memorial at Needmore Speedway
DESCRIPTION:
URL:https://www.moultriega.com/event/6th-annual-gene-maine-memorial-at-needmore-speedway/
LOCATION:Needmore Speedway\, 1060 John Vickers Rd\, Norman Park\, GA\, 31771\, United States
END:VEVENT
BEGIN:VEVENT
DTSTART;TZID=UTC:20250517T203000
DTEND;TZID=UTC:20250517T203000
DTSTAMP:20260424T001407
CREATED:20250513T122845Z
LAST-MODIFIED:20250513T123045Z
UID:10712-1747513800-1747513800@www.moultriega.com
SUMMARY:Game Night at The Speakeasy on Main
DESCRIPTION:Game Night
URL:https://www.moultriega.com/event/game-night-at-the-speakeasy-o-main/
LOCATION:The Speakeasy on Main\, 14 S Main St\, Moultrie\, GA\, 31768\, United States
END:VEVENT
BEGIN:VEVENT
DTSTART;TZID=UTC:20250520T173000
DTEND;TZID=UTC:20250520T190000
DTSTAMP:20260424T001407
CREATED:20250513T124143Z
LAST-MODIFIED:20250513T124143Z
UID:10714-1747762200-1747767600@www.moultriega.com
SUMMARY:Ladies' Summer Soiree at Sterling Center Women's Health
DESCRIPTION:Come mix and mingle at Sterling Center Women’s Health while enjoying complimentary drinks\, hors d’oeuvres\, and exciting giveaways\, plus we will be offering special discounts on Botox with Dr. Tracey Bastiaans!\nIt’s the perfect opportunity to connect with our care team\, learn more about women’s health\, and enjoy a fun night out with friends—all for FREE! Space is limited\, so RSVP today at https://form.jotform.com/251256305160043 and invite your gal pals to join in on the fun!
URL:https://www.moultriega.com/event/ladies-summer-soiree-at-sterling-center-womens-health/
LOCATION:Sterling Center Women’s Health\, 3 Sweet Bay Ct\, Moultrie\, GA\, 31768\, United States
END:VEVENT
BEGIN:VEVENT
DTSTART;TZID=UTC:20250520T180000
DTEND;TZID=UTC:20250520T180000
DTSTAMP:20260424T001407
CREATED:20240906T174315Z
LAST-MODIFIED:20240906T174315Z
UID:9587-1747764000-1747764000@www.moultriega.com
SUMMARY:City Council Meeting
DESCRIPTION:City Council Room 2nd Floor \n21 1st Avenue NE\nMoultrie\, GA 31768
URL:https://www.moultriega.com/event/city-council-meeting-160/
LOCATION:City Council Room\, 21 1st Avenue NE\, Moultrie\, GA\, 31768\, United States
END:VEVENT
BEGIN:VEVENT
DTSTART;TZID=UTC:20250522T080000
DTEND;TZID=UTC:20250522T170000
DTSTAMP:20260424T001407
CREATED:20250522T142641Z
LAST-MODIFIED:20250522T142641Z
UID:10799-1747900800-1747933200@www.moultriega.com
SUMMARY:Youth Film Camp: Mastering the Reel at The Arts Center
DESCRIPTION:REGISTRATION OPENS MARCH 1\, 2025.Presented by PhilanthroFilms.\nFILM CAMP: Mastering the Reel: Navigating the 5 Stages of Production\nDates: Tuesday – Thursday\, June 3-5Time: 10:00 am – 4:00 pmAges: 14 – 18Fee: $75\nJoin PhilanthroFilms this summer for an exciting\, hands-on film camp designed for high school students of all experience levels! Dive into the five essential stages of film production: Development\, Pre-Production\, Production\, Post-Production\, guided by industry experts. Whether you’re a beginner or have some experience\, you’ll gain practical skills\, explore the filmmaking process\, and work on real-world projects. Don’t miss out on this opportunity to unlock your creative potential in the world of film!\nScholarships are available for those who need financial assistance. Please email finance@moultriearts.org for more information.\nCamp registration closes at midnight on the Thursday before camp begins. Please contact us at 229-985-1922 if you need assistance.\nRegister at https://www.moultriearts.org/camps.
URL:https://www.moultriega.com/event/youth-film-camp-mastering-the-reel-at-the-arts-center/
LOCATION:The Arts Center\, 401 7th Avenue S.W.\, Moultrie\, GA\, 31768\, United States
END:VEVENT
BEGIN:VEVENT
DTSTART;TZID=UTC:20250522T160000
DTEND;TZID=UTC:20250522T210000
DTSTAMP:20260424T001407
CREATED:20250522T164822Z
LAST-MODIFIED:20250522T164822Z
UID:10817-1747929600-1747947600@www.moultriega.com
SUMMARY:Trivia Night with Crave Hot Dog & BBQ Food Truck at Bandwagon Brewing Company
DESCRIPTION:Trivia with Prizes!  Food Truck Crave Hot Dog & BBQ
URL:https://www.moultriega.com/event/trivia-night-with-crave-hot-dog-bbq-food-truck-at-bandwagon-brewing-company/
LOCATION:Bandwagon Brewing Company\, 33 West Central Ave.\, Moultrie\, GA\, 31768\, United States
END:VEVENT
BEGIN:VEVENT
DTSTART;TZID=UTC:20250522T190000
DTEND;TZID=UTC:20250522T190000
DTSTAMP:20260424T001407
CREATED:20250519T182032Z
LAST-MODIFIED:20250519T182032Z
UID:10724-1747940400-1747940400@www.moultriega.com
SUMMARY:SP-INGO BINGO at The Speakeasy on Main
DESCRIPTION:Our version of BINGO
URL:https://www.moultriega.com/event/sp-ingo-bingo-at-the-speakeasy-on-main-10/
LOCATION:The Speakeasy on Main\, 14 S Main St\, Moultrie\, GA\, 31768\, United States
END:VEVENT
BEGIN:VEVENT
DTSTART;TZID=UTC:20250523T203000
DTEND;TZID=UTC:20250523T203000
DTSTAMP:20260424T001407
CREATED:20250519T182415Z
LAST-MODIFIED:20250519T182415Z
UID:10726-1748032200-1748032200@www.moultriega.com
SUMMARY:Randy Wiley at The Speakeasy on Main
DESCRIPTION:Live music!
URL:https://www.moultriega.com/event/randy-wiley-at-the-speakeasy-on-main-8/
LOCATION:The Speakeasy on Main\, 14 S Main St\, Moultrie\, GA\, 31768\, United States
END:VEVENT
BEGIN:VEVENT
DTSTART;TZID=UTC:20250524T190000
DTEND;TZID=UTC:20250524T220000
DTSTAMP:20260424T001407
CREATED:20250522T163302Z
LAST-MODIFIED:20250522T163302Z
UID:10815-1748113200-1748124000@www.moultriega.com
SUMMARY:Dana King & The Grinnin' Possum Food Truck at Bandwagon Brewing Company
DESCRIPTION: This Saturday\, May 24th at Bandwagon Brewing Company Get ready for a night of epic vibes\, unforgettable music\, and next-level eats!\n Dana King Live | 7 PM – 10 PM FREE SHOW • FAMILY FRIENDLY\nPrepare to be blown away—Dana King isn’t just a singer\, she’s a musical force of nature. With a voice that could stop time and a stage presence that radiates pure fire\, she’ll take you on a soul-shaking journey you won’t forget. Her powerful vocals and heart-thumping set list will have the whole place buzzing. \nAnd yes—it’s 100% FREE and perfect for the whole family. Bring your crew\, bring the kids\, and bring your dancing shoes!\n PLUS! The Grinnin’ Possum food truck is BACK!This isn’t just dinner—it’s a 10/10 dining experience. The Grinnin’ Possum is wildly popular for a reason: they take every dish to the next level. Think fresh\, local ingredients\, made-from-scratch recipes\, and flavors that make your taste buds throw a party. \nWhether you’re here for the brews\, the bites\, or the beats—this is the Saturday night move.\n Bandwagon Brewing Company Saturday\, May 24th Live music 7–10 PM Local beer\, incredible food\, and family-friendly fun.
URL:https://www.moultriega.com/event/dana-king-the-grinnin-possum-food-truck-at-bandwagon-brewing-company/
LOCATION:Bandwagon Brewing Company\, 33 West Central Ave.\, Moultrie\, GA\, 31768\, United States
END:VEVENT
BEGIN:VEVENT
DTSTART;TZID=UTC:20250524T203000
DTEND;TZID=UTC:20250524T203000
DTSTAMP:20260424T001407
CREATED:20250519T182736Z
LAST-MODIFIED:20250519T182736Z
UID:10728-1748118600-1748118600@www.moultriega.com
SUMMARY:Karaoke & Dance Night hosted by Tracy Hunter at The Speakeasy on Main
DESCRIPTION:Karaoke Night!
URL:https://www.moultriega.com/event/karaoke-dance-night-hosted-by-tracy-hunter-at-the-speakeasy-on-main/
LOCATION:The Speakeasy on Main\, 14 S Main St\, Moultrie\, GA\, 31768\, United States
END:VEVENT
BEGIN:VEVENT
DTSTART;TZID=UTC:20250525T123000
DTEND;TZID=UTC:20250525T180000
DTSTAMP:20260424T001407
CREATED:20250522T171621Z
LAST-MODIFIED:20250522T171621Z
UID:10819-1748176200-1748196000@www.moultriega.com
SUMMARY:Sunday Funday at Bandwagon Brewing Company
DESCRIPTION:
URL:https://www.moultriega.com/event/sunday-funday-at-bandwagon-brewing-company/
LOCATION:Bandwagon Brewing Company\, 33 West Central Ave.\, Moultrie\, GA\, 31768\, United States
END:VEVENT
BEGIN:VEVENT
DTSTART;VALUE=DATE:20250526
DTEND;VALUE=DATE:20250527
DTSTAMP:20260424T001407
CREATED:20250512T131058Z
LAST-MODIFIED:20250512T131058Z
UID:10706-1748217600-1748303999@www.moultriega.com
SUMMARY:City Offices Closed Memorial Day
DESCRIPTION:https://www.moultriega.com/wp-content/uploads/2025/05/Merry-Christmas-13.mp4
URL:https://www.moultriega.com/event/city-offices-closed-memorial-day/
LOCATION:GA
END:VEVENT
BEGIN:VEVENT
DTSTART;TZID=UTC:20250526T180000
DTEND;TZID=UTC:20250526T200000
DTSTAMP:20260424T001407
CREATED:20250506T143037Z
LAST-MODIFIED:20250506T143037Z
UID:10667-1748282400-1748289600@www.moultriega.com
SUMMARY:Egg Tray Workshop at Dustmade Studio
DESCRIPTION:Date: Monday\, May 26th\nTime: 6 – 8pm\nLocation: Dustmade Studio- 120 S Main St. Moultrie\, GA 31768\nDetails:\nYou are invited to get creative and handcraft your very own EGG TRAY! Whether you’re a seasoned artist or a beginner\, this workshop is perfect for all skill levels!\nAnd\, no worries! If you are feeling uneasy about your artistic skills\, Leah will be there to guide you step-by-step through the hand building process! You’ll also have the chance to personalize your tray with unique textures and additions\, making each one a one-of-a-kind masterpiece!\n *Pieces will be hand built using a cream colored stoneware clay. After you have hand built your piece\, we will fire and glaze the color of your choosing!\nThis is a one-part workshop.\n*Pieces will be ready for pickup 2-3 weeks after workshop.\n* Note * Once you have purchased a workshop ticket\, your spot is reserved and we are unable to refund or exchange your spot.
URL:https://www.moultriega.com/event/egg-tray-workshop-at-dustmade-studio/
LOCATION:Dustmade Studio\, 1201 1st Street NE\, Moultrie\, GA\, 31768\, United States
END:VEVENT
BEGIN:VEVENT
DTSTART;TZID=UTC:20250527T080000
DTEND;TZID=UTC:20250530T170000
DTSTAMP:20260424T001407
CREATED:20250522T140923Z
LAST-MODIFIED:20250522T140923Z
UID:10793-1748332800-1748624400@www.moultriega.com
SUMMARY:Youth Summer Camp: Drawing Foundations at The Arts Center
DESCRIPTION:REGISTRATION OPENS MARCH 1\, 2025.Presented by United Way of Colquitt County.\nDrawing Foundations\, May 27 – 30 | Campers will draw from life\, objects\, & photographs\, learning lines\, lighting\, and shapes. During this camp students will use oil pastels\, pencils\, color pencils\, markers\, and charcoal.\nInstructor: Kathy NelsonDates: Tuesday – FridayTime: 8:00 am – 5:00 pmAges: Rising 3rd – Rising 6th GradersFee: $80 per camper\nScholarships are available for those who need financial assistance. Please email finance@moultriearts.org for more information.\nCamps include morning and afternoon instruction in art\, music\, theater\, and pottery. Campers will go to the MCCPRA pool to swim Wednesday afternoon. Please bring lunch and a water bottle. Snack will be provided\, but campers may bring an additional snack\, if desired.\nDaily Schedule:\nEarly Arrival (must be approved) – 7:45 amStandard Arrival – 8:00 amClass Instruction Begins – 9:00 amLunch – 12:00 pmSnack – 3:00 pmPickup – 4:00 – 5:00 pm\nCamp registration closes at midnight on the Thursday before camp begins. Please contact us at 229-985-1922 if you need assistance.\nRegister at https://www.moultriearts.org/camps.
URL:https://www.moultriega.com/event/youth-summer-camp-drawing-foundations-at-the-arts-center/
LOCATION:The Arts Center\, 401 7th Avenue S.W.\, Moultrie\, GA\, 31768\, United States
END:VEVENT
BEGIN:VEVENT
DTSTART;TZID=UTC:20250529T100000
DTEND;TZID=UTC:20250529T113000
DTSTAMP:20260424T001407
CREATED:20250501T163342Z
LAST-MODIFIED:20250501T163342Z
UID:10637-1748512800-1748518200@www.moultriega.com
SUMMARY:Barbie Dreamhouse Dance Party ages 4~6 at The Arts Center
DESCRIPTION:DANCE PARTY \n\nJoin us on May 29th for the Barbie Dreamhouse Dance Party\, lead by Lovedy Griner! Bring your favorite Barbie dolls for arts and crafts\, games\, and dancing. This event will be held from 10:00-11:30 A.M. for ages 4-6 and from 1:00-2:30 P.M. for ages 7-9.\nVisit the link below to learn more and sign up!\n\nhttps://bit.ly/4lT82J2
URL:https://www.moultriega.com/event/barbie-dreamhouse-dance-party-ages-46-at-the-arts-center/
LOCATION:The Arts Center\, 401 7th Avenue S.W.\, Moultrie\, GA\, 31768\, United States
END:VEVENT
BEGIN:VEVENT
DTSTART;TZID=UTC:20250529T130000
DTEND;TZID=UTC:20250529T143000
DTSTAMP:20260424T001407
CREATED:20250501T163552Z
LAST-MODIFIED:20250501T163552Z
UID:10639-1748523600-1748529000@www.moultriega.com
SUMMARY:Barbie Dreamhouse Dance Party ages 7~9 at The Arts Center
DESCRIPTION: DANCE PARTY \n\nJoin us on May 29th for the Barbie Dreamhouse Dance Party\, lead by Lovedy Griner! Bring your favorite Barbie dolls for arts and crafts\, games\, and dancing. This event will be held from 10:00-11:30 A.M. for ages 4-6 and from 1:00-2:30 P.M. for ages 7-9.\nVisit the link below to learn more and sign up!\n\nhttps://bit.ly/4lT82J2
URL:https://www.moultriega.com/event/barbie-dreamhouse-dance-party-ages-79-at-the-arts-center/
LOCATION:The Arts Center\, 401 7th Avenue S.W.\, Moultrie\, GA\, 31768\, United States
END:VEVENT
BEGIN:VEVENT
DTSTART;TZID=UTC:20250529T190000
DTEND;TZID=UTC:20250529T190000
DTSTAMP:20260424T001407
CREATED:20250528T143635Z
LAST-MODIFIED:20250528T143635Z
UID:10832-1748545200-1748545200@www.moultriega.com
SUMMARY:SP-INGO BINGO Night at The Speakeasy on Main
DESCRIPTION:Our version of BINGO
URL:https://www.moultriega.com/event/sp-ingo-bingo-night-at-the-speakeasy-on-main-13/
LOCATION:The Speakeasy on Main\, 14 S Main St\, Moultrie\, GA\, 31768\, United States
END:VEVENT
BEGIN:VEVENT
DTSTART;TZID=UTC:20250529T190000
DTEND;TZID=UTC:20250529T220000
DTSTAMP:20260424T001407
CREATED:20250528T180733Z
LAST-MODIFIED:20250528T180733Z
UID:10839-1748545200-1748556000@www.moultriega.com
SUMMARY:Randy Wiley at DoughBoys Downtown
DESCRIPTION:Join us in the dining room to watch Randy Wiley kill it 7:00 – 10:00 this Thursday 
URL:https://www.moultriega.com/event/randy-wiley-at-doughboys-downtown-2/
LOCATION:DoughBoys Downtown\, 25 1st St SE\, Moultrie\, GA\, 31768\, United States
END:VEVENT
BEGIN:VEVENT
DTSTART;TZID=UTC:20250530T103000
DTEND;TZID=UTC:20250530T120000
DTSTAMP:20260424T001407
CREATED:20250506T143731Z
LAST-MODIFIED:20250506T143731Z
UID:10669-1748601000-1748606400@www.moultriega.com
SUMMARY:Handbuild & Blooms Children's Workshop: Part 1 at Dustmade Studio
DESCRIPTION:Handbuild & Bloom: A Two-Part Ceramic & Flower Workshop for Kids \nPerfect for Kids Ages 4-12 \n    *Children under the age of 6 MUST be accompanied by an adult. \nTwo-Part Workshop: Handbuilding & Flower Farm Experience \nPart 1: Handbuild your own ceramic bud vase with guided instruction. Kids will dive into the art of handbuilding as they craft their very own ceramic bud vase from clay. \nPart 2 (One Week Later): The following week\, the adventure continues at the beautiful Better Half Flower Farm\, where children will enjoy a guided tour to learn about different flowers and how they grow. They’ll then fill their handmade vases with fresh blooms\, creating a one-of-a-kind masterpiece that blends art and nature! \n✨ What’s Included: \n\n\nAll clay\, tools\, and materials \n\n\nGlazing and firing of vases \n\n\nGuided flower farm tour \n\n\nFreshly picked flowers to take home \n\n\nPart 1: Handbuild \nDate: Friday\, May 30th \nTime: 10:30am \nLocation: Dustmade Studio – 120 South Main St.  Moultrie\, GA 31768 \nPart 2: Blooms \nDate: Saturday\, June 7th \nTime: 10am \nLocation: Better Half Farms – 939 Kendallwood Church Rd – Moultrie\, GA 31768 \n\n\nNote * Once you have purchased a workshop ticket\, your spot is reserved and we are unable to refund or exchange your spot. \n\n\n*If you are unable to attend Part 2 at the farm\, your vase + flowers will be available for pickup the next day at Dustmade Studio.
URL:https://www.moultriega.com/event/handbuild-blooms-childrens-workshop-part-1-at-dustmade-studio/
LOCATION:Dustmade Studio\, 1201 1st Street NE\, Moultrie\, GA\, 31768\, United States
END:VEVENT
BEGIN:VEVENT
DTSTART;TZID=UTC:20250530T203000
DTEND;TZID=UTC:20250530T203000
DTSTAMP:20260424T001407
CREATED:20250528T143851Z
LAST-MODIFIED:20250528T143851Z
UID:10833-1748637000-1748637000@www.moultriega.com
SUMMARY:Bill Morris at The Speakeasy on Main
DESCRIPTION:Live Music
URL:https://www.moultriega.com/event/bill-morris-at-the-speakeasy-on-main-6/
LOCATION:The Speakeasy on Main\, 14 S Main St\, Moultrie\, GA\, 31768\, United States
END:VEVENT
BEGIN:VEVENT
DTSTART;TZID=UTC:20250531T080000
DTEND;TZID=UTC:20250531T080000
DTSTAMP:20260424T001407
CREATED:20250326T120757Z
LAST-MODIFIED:20250326T120757Z
UID:10511-1748678400-1748678400@www.moultriega.com
SUMMARY:Run for the Red
DESCRIPTION:
URL:https://www.moultriega.com/event/run-for-the-red/
LOCATION:GA
END:VEVENT
BEGIN:VEVENT
DTSTART;TZID=UTC:20250531T120000
DTEND;TZID=UTC:20250531T220000
DTSTAMP:20260424T001407
CREATED:20250528T144725Z
LAST-MODIFIED:20250528T144725Z
UID:10837-1748692800-1748728800@www.moultriega.com
SUMMARY:Jen Anders at Bandwagon Brewing Company
DESCRIPTION: This Saturday is Going to Be ELECTRIC at Bandwagon Brewing! \nGet ready for a day full of flavor\, fun\, and unforgettable music!\n6–9 PM – Crave Hot Dog & BBQ Food Truck is bringing the heat with bold flavors that’ll rock your taste buds!\n 7–10 PM – The stage comes alive with the incredible Jen Anders – and guess what? IT’S FREE!!!\n Americana. Soul-Folk. Vintage Roots.Jen Anders brings a fire and raw beauty to the stage like no other. Her music stirs your soul\, shakes your spirit\, and takes you deep into the roots of real storytelling. From the heart of the swamp to the strings of her guitar\, every song is a journey.This isn’t just another night—it’s a musical experience you won’t want to miss.\n Bandwagon Brewing Company Saturday\, May 10th Jen Anders LIVE: 7–10 PM |Crave Hot dogs & BBQ: 6–9 PM |\n Come early\, stay late\, and soak in everything Saturday has to offer. Grab your friends\, bring your appetite\, and get ready to fall in love with live music all over again.
URL:https://www.moultriega.com/event/jen-anders-at-bandwagon-brewing-company-3/
LOCATION:Bandwagon Brewing Company\, 33 West Central Ave.\, Moultrie\, GA\, 31768\, United States
END:VEVENT
BEGIN:VEVENT
DTSTART;TZID=UTC:20250531T203000
DTEND;TZID=UTC:20250531T203000
DTSTAMP:20260424T001407
CREATED:20250528T144122Z
LAST-MODIFIED:20250528T144122Z
UID:10835-1748723400-1748723400@www.moultriega.com
SUMMARY:Karaoke hosted by Tracy Hunter at The Speakeasy on Main
DESCRIPTION:Karaoke Night
URL:https://www.moultriega.com/event/karaoke-hosted-by-tracy-hunter-at-the-speakeasy-on-main-3/
LOCATION:The Speakeasy on Main\, 14 S Main St\, Moultrie\, GA\, 31768\, United States
END:VEVENT
BEGIN:VEVENT
DTSTART;TZID=UTC:20250602T080000
DTEND;TZID=UTC:20250606T170000
DTSTAMP:20260424T001407
CREATED:20250522T141252Z
LAST-MODIFIED:20250522T141252Z
UID:10795-1748851200-1749229200@www.moultriega.com
SUMMARY:Youth Summer Camp: Painting Foundations at The Arts Center
DESCRIPTION:REGISTRATION OPENS MARCH 1\, 2025.Presented by United Way of Colquitt County.\nPainting Foundations\, June 2 – 6 | Campers will be introduced to the color wheel and learn how to mix colors. Students will also learn to use a variety of mediums to engage in painting.\nInstructor: Kathy NelsonDates: Monday – FridayTime: 8:00 am – 5:00 pmAges: Rising 3rd – Rising 6th GradersFee: $100 per camper\nScholarships are available for those who need financial assistance. Please email finance@moultriearts.org for more information.\nCamps include morning and afternoon instruction in art\, music\, theater\, and pottery. Campers will go to the MCCPRA pool to swim Wednesday afternoon. Please bring lunch and a water bottle. Snack will be provided\, but campers may bring an additional snack\, if desired.\nDaily Schedule:\nEarly Arrival (must be approved) – 7:45 amStandard Arrival – 8:00 amClass Instruction Begins – 9:00 amLunch – 12:00 pmSnack – 3:00 pmPickup – 4:00 – 5:00 pm\nCamp registration closes at midnight on the Thursday before camp begins. Please contact us at 229-985-1922 if you need assistance.\nRegister at https://www.moultriearts.org/camps.
URL:https://www.moultriega.com/event/youth-summer-camp-painting-foundations-at-the-arts-center/
LOCATION:The Arts Center\, 401 7th Avenue S.W.\, Moultrie\, GA\, 31768\, United States
END:VEVENT
BEGIN:VEVENT
DTSTART;TZID=UTC:20250602T100000
DTEND;TZID=UTC:20250602T120000
DTSTAMP:20260424T001407
CREATED:20250521T165628Z
LAST-MODIFIED:20250521T165628Z
UID:10738-1748858400-1748865600@www.moultriega.com
SUMMARY:Pete's Colorful Kickoff at Moultrie Library
DESCRIPTION:Drop by Bert Harsh Park between 10:00 a.m. and 12:00 p.m. to retrace Pete the Cat’s steps\, getting covered with colored powders along the way. Dress for mess and water play.
URL:https://www.moultriega.com/event/petes-colorful-kickoff-at-moultrie-library/
LOCATION:Moultrie-Colquitt County Library System\, 204 5th St SE\, Moultrie\, GA\, 31768\, United States
END:VEVENT
BEGIN:VEVENT
DTSTART;TZID=UTC:20250602T100000
DTEND;TZID=UTC:20250606T140000
DTSTAMP:20260424T001407
CREATED:20250522T141640Z
LAST-MODIFIED:20250522T141807Z
UID:10797-1748858400-1749218400@www.moultriega.com
SUMMARY:Youth Summer Camp: Cutie Critters at The Arts Center
DESCRIPTION:REGISTRATION OPENS MARCH 1\, 2025.\nDates: Monday – Friday\, June 2-6Time: 10:00 am – 2:00 pmInstructor: Leah GainesAges: 3-8Fee: $100\nCutie Critters: This camp is perfect for everyone. We are diving into the basics of drawing. Students will explore and create critter themed art work. The week will end with an Art Show and small performance beginning at 1 pm on Friday! Campers must be potty trained. Please send a sack lunch with your child each day.\nScholarships are available for those who need financial assistance. Please email finance@moultriearts.org for more information.\nCamp registration closes at midnight on the Thursday before camp begins. Please contact us at 229-985-1922 if you need assistance.\nRegister at https://www.moultriearts.org/camps.
URL:https://www.moultriega.com/event/youth-summer-camp-cutie-critters-at-the-arts-center/
LOCATION:The Arts Center\, 401 7th Avenue S.W.\, Moultrie\, GA\, 31768\, United States
END:VEVENT
BEGIN:VEVENT
DTSTART;TZID=UTC:20250603T100000
DTEND;TZID=UTC:20250605T160000
DTSTAMP:20260424T001407
CREATED:20250522T150555Z
LAST-MODIFIED:20250522T150555Z
UID:10814-1748944800-1749139200@www.moultriega.com
SUMMARY:Youth Film Camp: Mastering the Reel at The Arts Center
DESCRIPTION:REGISTRATION OPENS MARCH 1\, 2025.Presented by PhilanthroFilms.\nFILM CAMP: Mastering the Reel: Navigating the 5 Stages of Production\nDates: Tuesday – Thursday\, June 3-5Time: 10:00 am – 4:00 pmAges: 14 – 18Fee: $75\nJoin PhilanthroFilms this summer for an exciting\, hands-on film camp designed for high school students of all experience levels! Dive into the five essential stages of film production: Development\, Pre-Production\, Production\, Post-Production\, guided by industry experts. Whether you’re a beginner or have some experience\, you’ll gain practical skills\, explore the filmmaking process\, and work on real-world projects. Don’t miss out on this opportunity to unlock your creative potential in the world of film!\nScholarships are available for those who need financial assistance. Please email finance@moultriearts.org for more information.\nCamp registration closes at midnight on the Thursday before camp begins. Please contact us at 229-985-1922 if you need assistance.\nRegister at https://www.moultriearts.org/camps.
URL:https://www.moultriega.com/event/youth-film-camp-mastering-the-reel-at-the-arts-center-2/
LOCATION:The Arts Center\, 401 7th Avenue S.W.\, Moultrie\, GA\, 31768\, United States
END:VEVENT
BEGIN:VEVENT
DTSTART;TZID=UTC:20250603T180000
DTEND;TZID=UTC:20250603T180000
DTSTAMP:20260424T001407
CREATED:20250521T165956Z
LAST-MODIFIED:20250521T165956Z
UID:10740-1748973600-1748973600@www.moultriega.com
SUMMARY:80's Trivia Glow Party at Moultrie Library
DESCRIPTION:Join us for a totally rad night of throwback fun as we test your knowledge on everything 80’s! Music\, movies\, fashion\, and more! We’ll supply the glow gear\, you bring the brain power. Show off your trivia skills and compete for a prize that’s all that and a bag of chips. It’s gonna be\, like\, totally awesome!
URL:https://www.moultriega.com/event/80s-trivia-glow-party-at-moultrie-library/
LOCATION:Moultrie-Colquitt County Library System\, 204 5th St SE\, Moultrie\, GA\, 31768\, United States
END:VEVENT
BEGIN:VEVENT
DTSTART;TZID=UTC:20250604T103000
DTEND;TZID=UTC:20250604T103000
DTSTAMP:20260424T001407
CREATED:20250521T170557Z
LAST-MODIFIED:20250521T170650Z
UID:10742-1749033000-1749033000@www.moultriega.com
SUMMARY:Movie & Popcorn Tangled at Moultrie Library
DESCRIPTION:Enjoy family favorites on the big screen with hot\, delicious popcorn.
URL:https://www.moultriega.com/event/movie-popcorn-at-moultrie-library/
LOCATION:Moultrie-Colquitt County Library System\, 204 5th St SE\, Moultrie\, GA\, 31768\, United States
END:VEVENT
BEGIN:VEVENT
DTSTART;TZID=UTC:20250605T100000
DTEND;TZID=UTC:20250605T100000
DTSTAMP:20260424T001407
CREATED:20250604T134618Z
LAST-MODIFIED:20250604T134618Z
UID:10891-1749117600-1749117600@www.moultriega.com
SUMMARY:Tommie Lee Jackson\, Jr. Aquatic Center Dedication Ceremony
DESCRIPTION:Moultrie native Tommie Lee Jackson Jr. grew up swimming and diving in the very pool we are dedicating to him. Over his remarkable career\, Coach Jackson has trained champions at every level—from Olympic to Paralympic to Masters—and played a groundbreaking role in advancing diversity and inclusion in the sport. His legacy includes world record holders\, Olympic qualifiers\, and decades of transformative leadership. And these accomplishments are just a glimpse of a lifetime dedicated to inspiring and empowering young people through swimming.\nJoin us on Thursday\, June 5th at 10:00 am as we honor Tommie’s impact and unveil the Tommie Lee Jackson\, Jr. Aquatic Center.
URL:https://www.moultriega.com/event/tommie-lee-jackson-jr-aquatic-center-dedication-ceremony/
LOCATION:Tommie Lee Jackson\, Jr. Aquatic Center\, 605 6th Ave NW\, Moultrie\, GA\, 31768\, United States
END:VEVENT
END:VCALENDAR