BEGIN:VCALENDAR
VERSION:2.0
PRODID:-//City of Moultrie - ECPv6.15.20//NONSGML v1.0//EN
CALSCALE:GREGORIAN
METHOD:PUBLISH
X-WR-CALNAME:City of Moultrie
X-ORIGINAL-URL:https://www.moultriega.com
X-WR-CALDESC:Events for City of Moultrie
REFRESH-INTERVAL;VALUE=DURATION:PT1H
X-Robots-Tag:noindex
X-PUBLISHED-TTL:PT1H
BEGIN:VTIMEZONE
TZID:UTC
BEGIN:STANDARD
TZOFFSETFROM:+0000
TZOFFSETTO:+0000
TZNAME:UTC
DTSTART:20250101T000000
END:STANDARD
END:VTIMEZONE
BEGIN:VEVENT
DTSTART;TZID=UTC:20260813T120000
DTEND;TZID=UTC:20260813T130000
DTSTAMP:20260419T133840
CREATED:20260108T142241Z
LAST-MODIFIED:20260108T142241Z
UID:11627-1786622400-1786626000@www.moultriega.com
SUMMARY:Moultrie Downtown Development Authority
DESCRIPTION:
URL:https://www.moultriega.com/event/moultrie-downtown-development-authority-8/
LOCATION:Downtown Moultrie Welcome Center\, 31 East Central Ave.\, Moultrie\, GA\, 31768\, United States
END:VEVENT
BEGIN:VEVENT
DTSTART;TZID=UTC:20260818T180000
DTEND;TZID=UTC:20260818T180000
DTSTAMP:20260419T133840
CREATED:20260105T221646Z
LAST-MODIFIED:20260105T221646Z
UID:11606-1787076000-1787076000@www.moultriega.com
SUMMARY:City Council Meeting
DESCRIPTION:City Council Room 2nd Floor \n21 1st Avenue NE\nMoultrie\, GA 31768
URL:https://www.moultriega.com/event/city-council-meeting-178/
LOCATION:City Council Room\, 21 1st Avenue NE\, Moultrie\, GA\, 31768\, United States
END:VEVENT
BEGIN:VEVENT
DTSTART;TZID=UTC:20260910T120000
DTEND;TZID=UTC:20260910T130000
DTSTAMP:20260419T133840
CREATED:20260108T142455Z
LAST-MODIFIED:20260108T142455Z
UID:11628-1789041600-1789045200@www.moultriega.com
SUMMARY:Moultrie Downtown Development Authority
DESCRIPTION:
URL:https://www.moultriega.com/event/moultrie-downtown-development-authority-9/
LOCATION:Downtown Moultrie Welcome Center\, 31 East Central Ave.\, Moultrie\, GA\, 31768\, United States
END:VEVENT
BEGIN:VEVENT
DTSTART;TZID=UTC:20260915T180000
DTEND;TZID=UTC:20260915T180000
DTSTAMP:20260419T133840
CREATED:20260105T221816Z
LAST-MODIFIED:20260105T221816Z
UID:11607-1789495200-1789495200@www.moultriega.com
SUMMARY:City Council Meeting
DESCRIPTION:City Council Room 2nd Floor \n21 1st Avenue NE\nMoultrie\, GA 31768
URL:https://www.moultriega.com/event/city-council-meeting-179/
LOCATION:City Council Room\, 21 1st Avenue NE\, Moultrie\, GA\, 31768\, United States
END:VEVENT
BEGIN:VEVENT
DTSTART;TZID=UTC:20261008T120000
DTEND;TZID=UTC:20261008T130000
DTSTAMP:20260419T133840
CREATED:20260108T142658Z
LAST-MODIFIED:20260108T142658Z
UID:11629-1791460800-1791464400@www.moultriega.com
SUMMARY:Moultrie Downtown Development Authority
DESCRIPTION:
URL:https://www.moultriega.com/event/moultrie-downtown-development-authority-10/
LOCATION:Downtown Moultrie Welcome Center\, 31 East Central Ave.\, Moultrie\, GA\, 31768\, United States
END:VEVENT
BEGIN:VEVENT
DTSTART;TZID=UTC:20261020T180000
DTEND;TZID=UTC:20261020T180000
DTSTAMP:20260419T133840
CREATED:20260105T221944Z
LAST-MODIFIED:20260105T221944Z
UID:11608-1792519200-1792519200@www.moultriega.com
SUMMARY:City Council Meeting
DESCRIPTION:City Council Room 2nd Floor \n21 1st Avenue NE\nMoultrie\, GA 31768
URL:https://www.moultriega.com/event/city-council-meeting-180/
LOCATION:City Council Room\, 21 1st Avenue NE\, Moultrie\, GA\, 31768\, United States
END:VEVENT
BEGIN:VEVENT
DTSTART;TZID=UTC:20261112T120000
DTEND;TZID=UTC:20261112T130000
DTSTAMP:20260419T133840
CREATED:20260108T142829Z
LAST-MODIFIED:20260108T142829Z
UID:11630-1794484800-1794488400@www.moultriega.com
SUMMARY:Moultrie Downtown Development Authority
DESCRIPTION:
URL:https://www.moultriega.com/event/moultrie-downtown-development-authority-11/
LOCATION:Downtown Moultrie Welcome Center\, 31 East Central Ave.\, Moultrie\, GA\, 31768\, United States
END:VEVENT
BEGIN:VEVENT
DTSTART;TZID=UTC:20261117T180000
DTEND;TZID=UTC:20261117T180000
DTSTAMP:20260419T133840
CREATED:20260105T222125Z
LAST-MODIFIED:20260105T222125Z
UID:11609-1794938400-1794938400@www.moultriega.com
SUMMARY:City Council Meeting
DESCRIPTION:City Council Room 2nd Floor \n21 1st Avenue NE\nMoultrie\, GA 31768
URL:https://www.moultriega.com/event/city-council-meeting-181/
LOCATION:City Council Room\, 21 1st Avenue NE\, Moultrie\, GA\, 31768\, United States
END:VEVENT
BEGIN:VEVENT
DTSTART;TZID=UTC:20261210T120000
DTEND;TZID=UTC:20261210T130000
DTSTAMP:20260419T133840
CREATED:20260108T143008Z
LAST-MODIFIED:20260108T143008Z
UID:11631-1796904000-1796907600@www.moultriega.com
SUMMARY:Moultrie Downtown Development Authority
DESCRIPTION:
URL:https://www.moultriega.com/event/moultrie-downtown-development-authority-12/
LOCATION:Downtown Moultrie Welcome Center\, 31 East Central Ave.\, Moultrie\, GA\, 31768\, United States
END:VEVENT
BEGIN:VEVENT
DTSTART;TZID=UTC:20261215T180000
DTEND;TZID=UTC:20261215T180000
DTSTAMP:20260419T133840
CREATED:20260105T222254Z
LAST-MODIFIED:20260105T222254Z
UID:11610-1797357600-1797357600@www.moultriega.com
SUMMARY:City Council Meeting
DESCRIPTION:City Council Room 2nd Floor \n21 1st Avenue NE\nMoultrie\, GA 31768
URL:https://www.moultriega.com/event/city-council-meeting-182/
LOCATION:City Council Room\, 21 1st Avenue NE\, Moultrie\, GA\, 31768\, United States
END:VEVENT
END:VCALENDAR