BEGIN:VCALENDAR
VERSION:2.0
PRODID:-//City of Moultrie - ECPv6.15.20//NONSGML v1.0//EN
CALSCALE:GREGORIAN
METHOD:PUBLISH
X-ORIGINAL-URL:https://www.moultriega.com
X-WR-CALDESC:Events for City of Moultrie
REFRESH-INTERVAL;VALUE=DURATION:PT1H
X-Robots-Tag:noindex
X-PUBLISHED-TTL:PT1H
BEGIN:VTIMEZONE
TZID:UTC
BEGIN:STANDARD
TZOFFSETFROM:+0000
TZOFFSETTO:+0000
TZNAME:UTC
DTSTART:20240101T000000
END:STANDARD
END:VTIMEZONE
BEGIN:VEVENT
DTSTART;TZID=UTC:20250214T180000
DTEND;TZID=UTC:20250214T180000
DTSTAMP:20260425T110157
CREATED:20250127T160257Z
LAST-MODIFIED:20250127T160257Z
UID:10286-1739556000-1739556000@www.moultriega.com
SUMMARY:Valentine's Bowling Night at Strike Zone 10
DESCRIPTION: Valentine’s Bowling Night! \nJoin us for a special Valentine’s Bowling Night on Friday\, February 14\, from 6 PM – 12 AM! \nFor only $59.99\, enjoy: A charcuterie board for two One bottle of wine of your choice One hour of bowling for two\nAdd-ons available: Chocolate-Covered Strawberries – 6 for $15 | 12 for $24 Large 1-Topping Pizza – $10.99 15 Wings – $18.99\n Reservation Only! To secure your spot\, please call us at 229-890-0891 and half payment is required at the time of booking. Deadline is February 9th.\nDon’t miss out on this romantic and fun-filled night! Reserve now! \n#ValentinesBowling #DateNight #BowlingAndWine #CelebrateLove #strikezone10 #TeamChambe
URL:https://www.moultriega.com/event/valentines-bowling-night-at-strike-zone-10/
LOCATION:Strike Zone 10\, 28 Industrial Drive\, Moultrie\, GA\, 31788\, United States
END:VEVENT
BEGIN:VEVENT
DTSTART;TZID=UTC:20250215T203000
DTEND;TZID=UTC:20250215T203000
DTSTAMP:20260425T110157
CREATED:20250114T193607Z
LAST-MODIFIED:20250114T193607Z
UID:10220-1739651400-1739651400@www.moultriega.com
SUMMARY:Bartender Brittney's Birthday Bash!! Hosted by DJ Tracy Hunter at The Speakeasy on Main
DESCRIPTION:Bartender Brittney is turning 21+ 13  come celebrate with us!Hosted by DJ TRACY HUNTER
URL:https://www.moultriega.com/event/bartender-brittneys-birthday-bash-hosted-by-dj-tracy-hunter-at-the-speakeasy-on-main/
LOCATION:The Speakeasy on Main\, 14 S Main St\, Moultrie\, GA\, 31768\, United States
END:VEVENT
BEGIN:VEVENT
DTSTART;TZID=UTC:20250216T140000
DTEND;TZID=UTC:20250216T140000
DTSTAMP:20260425T110157
CREATED:20250115T152304Z
LAST-MODIFIED:20250115T152356Z
UID:10256-1739714400-1739714400@www.moultriega.com
SUMMARY:Festeiando El Dia Del Amor Y LA Amistad at Plaza De Toros Luminosa
DESCRIPTION:
URL:https://www.moultriega.com/event/festeiando-le-dia-del-amor-y-la-amistad-at-plaza-de-toros-luminosa/
LOCATION:Plaza De Toros La Lumiosa\, 131 US 319 N\, Norman Park\, GA\, 31771\, United States
END:VEVENT
BEGIN:VEVENT
DTSTART;TZID=UTC:20250218T170000
DTEND;TZID=UTC:20250218T190000
DTSTAMP:20260425T110157
CREATED:20250203T145443Z
LAST-MODIFIED:20250203T145443Z
UID:10309-1739898000-1739905200@www.moultriega.com
SUMMARY:"Spay"ghetti Fundraiser at Colquitt Co. Ag Building
DESCRIPTION:Pick up tickets at any of these locations:MCCHS: Tues-Sat\, 9:30am-5:30pmDawn @ City of Moultrie HR Dept: M-F\, 8am-5pmMelissa @ County Annex Building RM 261\, 2nd Floor: M-F\, 8am-5pmTonya @ County Maintenance: M-F\, 8am-5pm
URL:https://www.moultriega.com/event/spayghetti-fundraiser-at-colquitt-co-ag-building/
LOCATION:Colquitt County Ag Building\, 350 North Veterans Pkwy #132\, Moultrie\, GA\, 31788\, United States
ORGANIZER;CN="Humane Society of Moultrie & Colquitt County":MAILTO:societymoultriehumane@gmail.com
END:VEVENT
BEGIN:VEVENT
DTSTART;TZID=UTC:20250218T180000
DTEND;TZID=UTC:20250218T180000
DTSTAMP:20260425T110157
CREATED:20240906T174025Z
LAST-MODIFIED:20240906T174025Z
UID:9584-1739901600-1739901600@www.moultriega.com
SUMMARY:City Council Meeting
DESCRIPTION:City Council Room 2nd Floor \n21 1st Avenue NE\nMoultrie\, GA 31768
URL:https://www.moultriega.com/event/city-council-meeting-154/
LOCATION:City Council Room\, 21 1st Avenue NE\, Moultrie\, GA\, 31768\, United States
END:VEVENT
BEGIN:VEVENT
DTSTART;TZID=UTC:20250218T180000
DTEND;TZID=UTC:20250218T180000
DTSTAMP:20260425T110157
CREATED:20250108T144222Z
LAST-MODIFIED:20250108T144222Z
UID:10169-1739901600-1739901600@www.moultriega.com
SUMMARY:Lisa Frankenstein Movie Night at Moultrie-Colquitt County Library
DESCRIPTION:Join us for a movie night featuring Lisa Frankenstein in the auditorium! Enjoy popcorn and hot chocolate\, bring some blankets\, or use our chairs. Perfect for a date night or family outing. See you there!
URL:https://www.moultriega.com/event/lisa-frankenstein-movie-night-at-moultrie-colquitt-county-library/
LOCATION:Moultrie-Colquitt County Library System\, 204 5th St SE\, Moultrie\, GA\, 31768\, United States
END:VEVENT
BEGIN:VEVENT
DTSTART;TZID=UTC:20250220T090000
DTEND;TZID=UTC:20250220T130000
DTSTAMP:20260425T110157
CREATED:20250115T141542Z
LAST-MODIFIED:20250115T141542Z
UID:10227-1740042000-1740056400@www.moultriega.com
SUMMARY:Free Health Fair at Ameris Bank Medical Education Center
DESCRIPTION:We’re hosting a FREE Health Fair on Thursday\, February 20th from 9 AM to 1 PM at the Ameris Bank Medical Education Center! Enjoy FREE screenings including blood pressure\, blood sugar\, BMI\, skin checks\, and more! Heart-healthy snacks and educational resources will be available\, along with PSA screenings. Come for the screenings\, stay for the education and tools to help you live a healthier life! RSVP today by calling 229-890-3552 or visiting https://form.jotform.com/250094163351147!
URL:https://www.moultriega.com/event/free-health-fair-at-ameris-bank-medical-education-center/
LOCATION:Ameris Bank Medical Education Center\, 3131 South Main Street\, Moultrie\, GA\, 31768\, United States
END:VEVENT
BEGIN:VEVENT
DTSTART;TZID=UTC:20250220T180000
DTEND;TZID=UTC:20250220T180000
DTSTAMP:20260425T110157
CREATED:20250214T133720Z
LAST-MODIFIED:20250214T133720Z
UID:10341-1740074400-1740074400@www.moultriega.com
SUMMARY:Hunting Heritage Banquet at Spence Field Family Life Building
DESCRIPTION:
URL:https://www.moultriega.com/event/hunting-heritage-banquet-at-spence-field-family-life-building/
LOCATION:Spence Field Family Living Building\, 290 Harper Blvd Ste. GA\, Moultrie\, GA\, 31788\, United States
END:VEVENT
BEGIN:VEVENT
DTSTART;TZID=UTC:20250220T190000
DTEND;TZID=UTC:20250220T190000
DTSTAMP:20260425T110157
CREATED:20250218T190326Z
LAST-MODIFIED:20250218T190326Z
UID:10357-1740078000-1740078000@www.moultriega.com
SUMMARY:Spingo BINGO Night at The Speakeasy on Main
DESCRIPTION:
URL:https://www.moultriega.com/event/spingo-bingo-night-at-the-speakeasy-on-main/
LOCATION:The Speakeasy on Main\, 14 S Main St\, Moultrie\, GA\, 31768\, United States
END:VEVENT
BEGIN:VEVENT
DTSTART;TZID=UTC:20250221T203000
DTEND;TZID=UTC:20250221T233000
DTSTAMP:20260425T110157
CREATED:20250218T190526Z
LAST-MODIFIED:20250218T190526Z
UID:10359-1740169800-1740180600@www.moultriega.com
SUMMARY:Randy Wiley at The Speakeasy on Main
DESCRIPTION:
URL:https://www.moultriega.com/event/randy-wiley-at-the-speakeasy-on-main-5/
LOCATION:The Speakeasy on Main\, 14 S Main St\, Moultrie\, GA\, 31768\, United States
END:VEVENT
BEGIN:VEVENT
DTSTART;TZID=UTC:20250222T203000
DTEND;TZID=UTC:20250222T203000
DTSTAMP:20260425T110157
CREATED:20250218T190655Z
LAST-MODIFIED:20250218T190655Z
UID:10361-1740256200-1740256200@www.moultriega.com
SUMMARY:Josh Pridemore at The Speakeasy on Main
DESCRIPTION:
URL:https://www.moultriega.com/event/josh-pridemore-at-the-speakeasy-on-main-7/
LOCATION:The Speakeasy on Main\, 14 S Main St\, Moultrie\, GA\, 31768\, United States
END:VEVENT
BEGIN:VEVENT
DTSTART;TZID=UTC:20250227T160000
DTEND;TZID=UTC:20250227T173000
DTSTAMP:20260425T110157
CREATED:20250130T172201Z
LAST-MODIFIED:20250130T172201Z
UID:10299-1740672000-1740677400@www.moultriega.com
SUMMARY:Learn to Crochet at Ryce Community Center
DESCRIPTION:
URL:https://www.moultriega.com/event/learn-to-crochet-at-ryce-community-center-3/
LOCATION:Ryce  Community Center\, 305 7th Street NW\, Moultrie\, GA\, 31768\, United States
END:VEVENT
BEGIN:VEVENT
DTSTART;TZID=UTC:20250227T183000
DTEND;TZID=UTC:20250227T183000
DTSTAMP:20260425T110157
CREATED:20250214T133953Z
LAST-MODIFIED:20250214T133953Z
UID:10343-1740681000-1740681000@www.moultriega.com
SUMMARY:The Wizard of Oz at The Arts Center
DESCRIPTION:CCA theatre presents The Wizard of Oz. Thursday\, Friday\, and Saturday at 6:30 and Sunday at 2:30. Tickets can be purchased at CCA or from our student actors. $15 per person or $40 for an all access pass to all performances per person. Lap babies free admission.
URL:https://www.moultriega.com/event/the-wizard-of-oz-at-the-arts-center/
LOCATION:The Arts Center\, 401 7th Avenue S.W.\, Moultrie\, GA\, 31768\, United States
END:VEVENT
BEGIN:VEVENT
DTSTART;TZID=UTC:20250227T190000
DTEND;TZID=UTC:20250227T190000
DTSTAMP:20260425T110157
CREATED:20250227T195205Z
LAST-MODIFIED:20250227T195205Z
UID:10408-1740682800-1740682800@www.moultriega.com
SUMMARY:Spingo Bingo Night at The Speakeasy on Main
DESCRIPTION:Games start at 7:00
URL:https://www.moultriega.com/event/spingo-bingo-night-at-the-speakeasy-on-main-2/
LOCATION:The Speakeasy on Main\, 14 S Main St\, Moultrie\, GA\, 31768\, United States
END:VEVENT
BEGIN:VEVENT
DTSTART;TZID=UTC:20250228T180000
DTEND;TZID=UTC:20250228T200000
DTSTAMP:20260425T110158
CREATED:20250130T172746Z
LAST-MODIFIED:20250130T172746Z
UID:10300-1740765600-1740772800@www.moultriega.com
SUMMARY:Nerf War & Pizza Night at Tommy Meredith Gym
DESCRIPTION:
URL:https://www.moultriega.com/event/nerf-war-pizza-night-at-tommy-meredith-gym/
LOCATION:Tommy Meredith Gym\, 1100 11th Ave SW\, Moultrie\, GA\, 31768\, United States
END:VEVENT
BEGIN:VEVENT
DTSTART;TZID=UTC:20250228T183000
DTEND;TZID=UTC:20250228T183000
DTSTAMP:20260425T110158
CREATED:20250214T134128Z
LAST-MODIFIED:20250214T134128Z
UID:10345-1740767400-1740767400@www.moultriega.com
SUMMARY:The Wizard of Oz at The Arts Center
DESCRIPTION:CCA theatre presents The Wizard of Oz. Thursday\, Friday\, and Saturday at 6:30 and Sunday at 2:30. Tickets can be purchased at CCA or from our student actors. $15 per person or $40 for an all access pass to all performances per person. Lap babies free admission.
URL:https://www.moultriega.com/event/the-wizard-of-oz-at-the-arts-center-2/
LOCATION:The Arts Center\, 401 7th Avenue S.W.\, Moultrie\, GA\, 31768\, United States
END:VEVENT
BEGIN:VEVENT
DTSTART;TZID=UTC:20250228T203000
DTEND;TZID=UTC:20250228T203000
DTSTAMP:20260425T110158
CREATED:20250227T194832Z
LAST-MODIFIED:20250227T194832Z
UID:10406-1740774600-1740774600@www.moultriega.com
SUMMARY:Thomas Merritt at The Speakeasy on Main
DESCRIPTION:Go ahead and make this Friday night plans with us
URL:https://www.moultriega.com/event/thomas-merritt-at-the-speakeasy-on-main-2/
LOCATION:The Speakeasy on Main\, 14 S Main St\, Moultrie\, GA\, 31768\, United States
END:VEVENT
BEGIN:VEVENT
DTSTART;TZID=UTC:20250301T080000
DTEND;TZID=UTC:20250301T110000
DTSTAMP:20260425T110158
CREATED:20250114T174335Z
LAST-MODIFIED:20250114T174335Z
UID:10212-1740816000-1740826800@www.moultriega.com
SUMMARY:Pancake Breakfast Fundraiser at Boys & Girls Club of Moultrie
DESCRIPTION:I hope you’re doing well! Guess what’s back? Our Annual Boys & Girls Club Pancake Breakfast Fundraiser! It’s happening on Saturday\, March 1\, 2025\, from 8 AM to 11 AM.For just $10.00\, you can join us for a delicious breakfast and support a great cause. Just swing by the club to purchase your tickets at 420 West Central Ave\, Moultrie\, GA 31768. We hope to see you soon! @highlight Boys-Girls Clubs Moultrie BgcMoultrie ColquittCounty
URL:https://www.moultriega.com/event/pancake-breakfast-fundraiser-at-boys-girls-club-of-moultrie/
LOCATION:Boys & Girls Clun of Moultrie-Colquit County\, 420 West Central Ave.\, Moultrie\, GA\, 31768\, United States
END:VEVENT
BEGIN:VEVENT
DTSTART;TZID=UTC:20250301T100000
DTEND;TZID=UTC:20250301T160000
DTSTAMP:20260425T110158
CREATED:20250218T193046Z
LAST-MODIFIED:20250218T193046Z
UID:10363-1740823200-1740844800@www.moultriega.com
SUMMARY:Forever Southern Boutique's First Birthday!
DESCRIPTION:Join us Saturday\, March 1st from 10:00-4:00 to celebrate ONE year of FSB under NEW ownership!We will have Spin the Wheel of DEALS\, Refreshments\, Giveaways\, and MUCH MORE! We hope you can stop by and join us! 
URL:https://www.moultriega.com/event/forever-southern-boutiques-first-birthday/
LOCATION:Forever Southern Boutique\, 115 1st Street SE\, Moultrie\, GA\, 31768\, United States
END:VEVENT
BEGIN:VEVENT
DTSTART;TZID=UTC:20250301T110000
DTEND;TZID=UTC:20250301T130000
DTSTAMP:20260425T110158
CREATED:20250224T191701Z
LAST-MODIFIED:20250224T191701Z
UID:10380-1740826800-1740834000@www.moultriega.com
SUMMARY:Paint Party Door Mat Edition at Beans & Strings
DESCRIPTION:Limited space is available!!!
URL:https://www.moultriega.com/event/paint-party-door-mat-edition-at-beans-strings/
LOCATION:Beans & String\, 19 1st St SE\, Moultrie\, GA\, 31768\, United States
END:VEVENT
BEGIN:VEVENT
DTSTART;TZID=UTC:20250301T140000
DTEND;TZID=UTC:20250301T160000
DTSTAMP:20260425T110158
CREATED:20250219T210719Z
LAST-MODIFIED:20250219T210719Z
UID:10366-1740837600-1740844800@www.moultriega.com
SUMMARY:Kite Flying at Main Steet Park
DESCRIPTION:Let’s Go Fly a Kite! \n\n\nJoin us for an afternoon of fresh air and high-flying fun at Main Street Park! \n\n\n When: Friday\, March 1st\n Time: 2:00 – 4:00 PM\n Where: Main Street Park\n\n\nBring your favorite kite and let’s fill the sky with color! Whether you’re a seasoned pro or flying for the first time\, this is a perfect way to enjoy the outdoors with family and friends.\n\n\nTag a friend and let’s catch the wind together! \n\n\n#FlyAKite #SpringFun #MainStreetPark #LetsGoOutside #MCCPRA
URL:https://www.moultriega.com/event/kite-flying-at-main-steet-park/
LOCATION:Main Street Park\, 1220 South Main Street\, Moultrie\, GA\, 31768\, United States
END:VEVENT
BEGIN:VEVENT
DTSTART;TZID=UTC:20250301T183000
DTEND;TZID=UTC:20250301T183000
DTSTAMP:20260425T110158
CREATED:20250214T134214Z
LAST-MODIFIED:20250214T134214Z
UID:10346-1740853800-1740853800@www.moultriega.com
SUMMARY:The Wizard of Oz at The Arts Center
DESCRIPTION:CCA theatre presents The Wizard of Oz. Thursday\, Friday\, and Saturday at 6:30 and Sunday at 2:30. Tickets can be purchased at CCA or from our student actors. $15 per person or $40 for an all access pass to all performances per person. Lap babies free admission.
URL:https://www.moultriega.com/event/the-wizard-of-oz-at-the-arts-center-3/
LOCATION:The Arts Center\, 401 7th Avenue S.W.\, Moultrie\, GA\, 31768\, United States
END:VEVENT
BEGIN:VEVENT
DTSTART;TZID=UTC:20250301T210000
DTEND;TZID=UTC:20250301T210000
DTSTAMP:20260425T110158
CREATED:20250227T195505Z
LAST-MODIFIED:20250227T195505Z
UID:10411-1740862800-1740862800@www.moultriega.com
SUMMARY:KARAOKE Party by Jimmy Ausburn at The Speakeasy on Main
DESCRIPTION:
URL:https://www.moultriega.com/event/karaoke-party-by-jimmy-ausburn-at-the-speakeasy-on-main/
LOCATION:The Speakeasy on Main\, 14 S Main St\, Moultrie\, GA\, 31768\, United States
END:VEVENT
BEGIN:VEVENT
DTSTART;TZID=UTC:20250302T143000
DTEND;TZID=UTC:20250302T143000
DTSTAMP:20260425T110158
CREATED:20250214T134306Z
LAST-MODIFIED:20250214T134306Z
UID:10347-1740925800-1740925800@www.moultriega.com
SUMMARY:The Wizard of Oz at The Arts Center
DESCRIPTION:CCA theatre presents The Wizard of Oz. Thursday\, Friday\, and Saturday at 6:30 and Sunday at 2:30. Tickets can be purchased at CCA or from our student actors. $15 per person or $40 for an all access pass to all performances per person. Lap babies free admission.
URL:https://www.moultriega.com/event/the-wizard-of-oz-at-the-arts-center-4/
LOCATION:The Arts Center\, 401 7th Avenue S.W.\, Moultrie\, GA\, 31768\, United States
END:VEVENT
BEGIN:VEVENT
DTSTART;TZID=UTC:20250304T140000
DTEND;TZID=UTC:20250304T210000
DTSTAMP:20260425T110158
CREATED:20250304T202716Z
LAST-MODIFIED:20250304T202716Z
UID:10425-1741096800-1741122000@www.moultriega.com
SUMMARY:Fat Tuesday at The Speakeasy on Main
DESCRIPTION:
URL:https://www.moultriega.com/event/fat-tuesday-at-the-speakeasy-on-main/
LOCATION:The Speakeasy on Main\, 14 S Main St\, Moultrie\, GA\, 31768\, United States
END:VEVENT
BEGIN:VEVENT
DTSTART;TZID=UTC:20250304T160000
DTEND;TZID=UTC:20250304T210000
DTSTAMP:20260425T110158
CREATED:20250227T155146Z
LAST-MODIFIED:20250227T155146Z
UID:10401-1741104000-1741122000@www.moultriega.com
SUMMARY:Mardi Gras Celebration at Bandwagon Brewing Company
DESCRIPTION: Mardi Gras Comes to Moultrie! \n Ever wanted to experience Mardi Gras magic without the travel? Look no further – Bandwagon Brewing Company is bringing the Big Easy straight to YOU! \nDate: Tuesday\, March 4th Time: 4:00 PM – 9:00 PM Location: Bandwagon Brewing Company\, Moultrie\, GA33 W Central Ave Moultrie GA 31768\nSavor the Flavor of New Orleans with ChiTown Eatz Food Truck to bring you an unforgettable Cajun-inspired menu that’ll have your taste buds dancing!\n King Cake Fun: What’s Mardi Gras without the iconic King Cake? We’re serving up authentic $5 slices straight from the world famous Gambino’s Bakery in New Orleans! And here’s the twist – THREE hidden babies! Find one and win a prize growler + a fill of your choice! \nVibe to the Rhythms of New Orleans: Our New Orleans-inspired playlist will keep you in the Mardi Gras mood as you sip on local brews and enjoy the party atmosphere \nWhether you’re celebrating with friends or looking for a fun night out\, this Mardi Gras bash will be one to remember! So grab your beads\, put on your dancing shoes\, and come join the fun!
URL:https://www.moultriega.com/event/mardi-gras-celebration-at-bandwagon-brewing-company/
LOCATION:Bandwagon Brewing Company\, 33 West Central Ave.\, Moultrie\, GA\, 31768\, United States
END:VEVENT
BEGIN:VEVENT
DTSTART;TZID=UTC:20250306T190000
DTEND;TZID=UTC:20250306T190000
DTSTAMP:20260425T110158
CREATED:20250304T202340Z
LAST-MODIFIED:20250304T202340Z
UID:10421-1741287600-1741287600@www.moultriega.com
SUMMARY:Spingo BINGO Night at The Speakeasy on Main
DESCRIPTION:
URL:https://www.moultriega.com/event/spingo-bingo-night-at-the-speakeasy-on-main-3/
LOCATION:The Speakeasy on Main\, 14 S Main St\, Moultrie\, GA\, 31768\, United States
END:VEVENT
BEGIN:VEVENT
DTSTART;TZID=UTC:20250307T170000
DTEND;TZID=UTC:20250307T200000
DTSTAMP:20260425T110158
CREATED:20250227T153059Z
LAST-MODIFIED:20250227T153059Z
UID:10398-1741366800-1741377600@www.moultriega.com
SUMMARY:Family Fun Night with Mustard Seed Cottage at Dalton's
DESCRIPTION:Bring the family out for Live Music\, Inflatables\, Face Painting\, and Ballon Art. 10% of all sales will go to benefit the Mustard Seed Cottage.
URL:https://www.moultriega.com/event/family-fun-night-with-mustard-seed-cottage-at-daltons/
LOCATION:Dalton’s\, 715 Rowland Dr.\, Moultrie\, GA\, 31768\, United States
END:VEVENT
BEGIN:VEVENT
DTSTART;TZID=UTC:20250307T203000
DTEND;TZID=UTC:20250307T203000
DTSTAMP:20260425T110158
CREATED:20250304T203130Z
LAST-MODIFIED:20250304T203130Z
UID:10427-1741379400-1741379400@www.moultriega.com
SUMMARY:Karaoke Party by Tracy Hunter at The Speakeasy on Main
DESCRIPTION:
URL:https://www.moultriega.com/event/karaoke-party-by-tracy-hunter-at-the-speakeasy-on-main/
LOCATION:The Speakeasy on Main\, 14 S Main St\, Moultrie\, GA\, 31768\, United States
END:VEVENT
BEGIN:VEVENT
DTSTART;TZID=UTC:20250308T090000
DTEND;TZID=UTC:20250308T120000
DTSTAMP:20260425T110158
CREATED:20250115T190140Z
LAST-MODIFIED:20250115T190140Z
UID:10258-1741424400-1741435200@www.moultriega.com
SUMMARY:MJWC Color Fun Run and 5K at Moultrie YMCA
DESCRIPTION:� Ready for a morning of FUN and COLOR? Join the Moultrie Junior Women’s Club Color Fun Run & 5K on Saturday\, March 8\, 2025\, 9 AM – 12 PM at the Moultrie YMCA! �\n� Walk\, run\, or stroll through a vibrant course while supporting local non-profits. Enjoy music\, bounce houses\, raffles\, food trucks\, and more – fun for the whole family!Don’t miss out on this colorful fundraiser. Tag your crew and join the fun! ��#ColorFunRun #MJWCEvents #SupportNonProfits #FamilyFun #GetColorful
URL:https://www.moultriega.com/event/mjwc-color-fun-run-and-5k-at-moultrie-ymca/
LOCATION:Moultrie YMCA\, 601 26th Ave\, SE\, Moultrie\, 31768\, United States
END:VEVENT
END:VCALENDAR