BEGIN:VCALENDAR
VERSION:2.0
PRODID:-//City of Moultrie - ECPv6.15.20//NONSGML v1.0//EN
CALSCALE:GREGORIAN
METHOD:PUBLISH
X-WR-CALNAME:City of Moultrie
X-ORIGINAL-URL:https://www.moultriega.com
X-WR-CALDESC:Events for City of Moultrie
REFRESH-INTERVAL;VALUE=DURATION:PT1H
X-Robots-Tag:noindex
X-PUBLISHED-TTL:PT1H
BEGIN:VTIMEZONE
TZID:UTC
BEGIN:STANDARD
TZOFFSETFROM:+0000
TZOFFSETTO:+0000
TZNAME:UTC
DTSTART:20240101T000000
END:STANDARD
END:VTIMEZONE
BEGIN:VEVENT
DTSTART;TZID=UTC:20250621T110000
DTEND;TZID=UTC:20250621T140000
DTSTAMP:20260424T104340
CREATED:20250618T120650Z
LAST-MODIFIED:20250618T120650Z
UID:10949-1750503600-1750514400@www.moultriega.com
SUMMARY:Everweld at Merle Norman
DESCRIPTION:
URL:https://www.moultriega.com/event/everweld-at-merle-norman/
LOCATION:GA
END:VEVENT
BEGIN:VEVENT
DTSTART;TZID=UTC:20250621T100000
DTEND;TZID=UTC:20250621T180000
DTSTAMP:20260424T104340
CREATED:20250324T193012Z
LAST-MODIFIED:20250324T193012Z
UID:10487-1750500000-1750528800@www.moultriega.com
SUMMARY:Juneteenth Fest
DESCRIPTION:
URL:https://www.moultriega.com/event/juneteenth-fest/
LOCATION:GA
END:VEVENT
BEGIN:VEVENT
DTSTART;TZID=UTC:20250620T103000
DTEND;TZID=UTC:20250620T113000
DTSTAMP:20260424T104340
CREATED:20250522T124015Z
LAST-MODIFIED:20250522T124015Z
UID:10767-1750415400-1750419000@www.moultriega.com
SUMMARY:Moultrie Craft Club Perler Beads at Moultrie Library
DESCRIPTION:Color your world with a weekly craft at the Moultrie Library.
URL:https://www.moultriega.com/event/moultrie-craft-club-perler-beads-at-moultrie-library/
LOCATION:Moultrie-Colquitt County Library System\, 204 5th St SE\, Moultrie\, GA\, 31768\, United States
END:VEVENT
BEGIN:VEVENT
DTSTART;TZID=UTC:20250620T090000
DTEND;TZID=UTC:20250620T090000
DTSTAMP:20260424T104340
CREATED:20250612T183333Z
LAST-MODIFIED:20250612T183333Z
UID:10931-1750410000-1750410000@www.moultriega.com
SUMMARY:Ribbon Cutting for Só Dança
DESCRIPTION:We’re excited to invite you to a ribbon cutting ceremony celebrating Só Dança! This event will take place on Friday\, June 20th @9AM.  Come out to show your support\, meet the team\, and help us officially welcome them #TeamChamber! See you there!
URL:https://www.moultriega.com/event/ribbon-cutting-for-so-danca/
LOCATION:Só Dança\, 209 3rs Street NE\, Moultrie\, GA\, 31768\, United States
END:VEVENT
BEGIN:VEVENT
DTSTART;VALUE=DATE:20250620
DTEND;VALUE=DATE:20250621
DTSTAMP:20260424T104340
CREATED:20250522T125446Z
LAST-MODIFIED:20250605T144804Z
UID:10769-1750377600-1750463999@www.moultriega.com
SUMMARY:JUNETEENTH City Offices Closed
DESCRIPTION:
URL:https://www.moultriega.com/event/juneteenth-city-office-closed/
LOCATION:Downtown Moultrie Welcome Center\, 31 East Central Ave.\, Moultrie\, GA\, 31768\, United States
END:VEVENT
BEGIN:VEVENT
DTSTART;TZID=UTC:20250619T190000
DTEND;TZID=UTC:20250619T210000
DTSTAMP:20260424T104340
CREATED:20250604T191659Z
LAST-MODIFIED:20250604T191659Z
UID:10900-1750359600-1750366800@www.moultriega.com
SUMMARY:Trivia Night! at Bandwagon Brewing Company
DESCRIPTION: TRIVIA NIGHT THURSDAYS at Bandwagon Brewing Co.! \nDo you think you’ve got what it takes to be a trivia champ? Grab your smartest friends (or your funniest ones!) and join us every Thursday for a night full of laughs\, brain busters\, and good vibes — hosted by Challenge Entertainment! \n Challenge Entertainment brings fresh trivia topics every week\, so no two nights are the same! Whether you’re a pop culture junkie\, history buff\, or random fact wizard — there’s something for everyone.\n FREE TO PLAY | PRIZES FOR TOP 3 TEAMS!Bring the fam\, your date\, your neighbors — even your fur babies — because EVERYONE is welcome at Bandwagon!\n Trivia starts at 7PM | Doors open at 4PM Come early to grab your seat\, get a drink\, and fuel up!\n We’re pouring a huge variety of craft beers\, plus our NEW & IMPROVED! legendary Frozen Fruity Hard Seltzers (gluten-free!)\, and a refreshing lineup of non-alcoholic sodas — including our house-made root beer! \n Snack on bar bites like kettle chips\, popcorn\, hard pretzels\, and peanuts — and if there’s no food truck on site\, feel free to BYO food\, order takeout\, or get delivery from any of the amazing local restaurants nearby! \n Keep an eye on our posts & stories to see if a food truck will be rolling in each week!\n Bandwagon Brewing Company Every Thursday 4–9PM | Trivia kicks off at 7PM sharp Free to play • Fun to win • Memories to make\n Support local. Drink local. Think local. See you Thursday!
URL:https://www.moultriega.com/event/trivia-night-at-bandwagon-brewing-company-32/
LOCATION:Bandwagon Brewing Company\, 33 West Central Ave.\, Moultrie\, GA\, 31768\, United States
END:VEVENT
BEGIN:VEVENT
DTSTART;TZID=UTC:20250618T103000
DTEND;TZID=UTC:20250618T103000
DTSTAMP:20260424T104340
CREATED:20250522T123551Z
LAST-MODIFIED:20250522T123551Z
UID:10765-1750242600-1750242600@www.moultriega.com
SUMMARY:Movie & Popcorn IF at Moultrie Library
DESCRIPTION:Enjoy family favorites on the big screen with hot\, delicious popcorn.
URL:https://www.moultriega.com/event/movie-popcorn-if-at-moultrie-library/
LOCATION:Moultrie-Colquitt County Library System\, 204 5th St SE\, Moultrie\, GA\, 31768\, United States
END:VEVENT
BEGIN:VEVENT
DTSTART;TZID=UTC:20250617T180000
DTEND;TZID=UTC:20250617T180000
DTSTAMP:20260424T104340
CREATED:20250521T202135Z
LAST-MODIFIED:20250521T202708Z
UID:10763-1750183200-1750183200@www.moultriega.com
SUMMARY:Moultrie Cake Trinket Box Craft at Moultrie Library
DESCRIPTION:Get ready to pipe\, swirl\, and decorate as we transform ordinary trinket boxes into realistic faux cakes! Using textured piping techniques\, paint\, and embellishments\, you’ll create a trinket box that looks good enough to eat (without the calories)!RSVP Required. RSVP by calling us at (229) 985-6540!
URL:https://www.moultriega.com/event/moultrie-cake-trinket-box-craft-at-moultrie-library/
LOCATION:Moultrie-Colquitt County Library System\, 204 5th St SE\, Moultrie\, GA\, 31768\, United States
END:VEVENT
BEGIN:VEVENT
DTSTART;TZID=UTC:20250617T180000
DTEND;TZID=UTC:20250617T180000
DTSTAMP:20260424T104340
CREATED:20240906T174410Z
LAST-MODIFIED:20240906T174410Z
UID:9588-1750183200-1750183200@www.moultriega.com
SUMMARY:City Council Meeting
DESCRIPTION:City Council Room 2nd Floor \n21 1st Avenue NE\nMoultrie\, GA 31768
URL:https://www.moultriega.com/event/city-council-meeting-162/
LOCATION:City Council Room\, 21 1st Avenue NE\, Moultrie\, GA\, 31768\, United States
END:VEVENT
BEGIN:VEVENT
DTSTART;TZID=UTC:20250617T103000
DTEND;TZID=UTC:20250617T120000
DTSTAMP:20260424T104340
CREATED:20250506T150211Z
LAST-MODIFIED:20250506T150211Z
UID:10678-1750156200-1750161600@www.moultriega.com
SUMMARY:Berry Creative! Strawberry Bowl Children's Worshop at Dustmade Studio
DESCRIPTION:Looking for a berry fun and creative experience for your little ones? Join Us for the Berry Creative! Strawberry Bowl Workshop! Let their imaginations run wild as they hand-build\, paint\, and glaze their very own strawberry-shaped berry bowl! Perfect for snacks\, fruits\, or just showing off their incredible creativity.\nPerfect for Kids Ages 4-12\n*Children under the age of 6 MUST be accompanied by an adult.\nDate: Tuesday\, June 17th\nTime: 10:30am-12pm\nLocation: Dustmade Studio – 120 South Main St.  Moultrie\, GA 31768\nThis is a one-part workshop.\nNote * Once you have purchased a workshop ticket\, your spot is reserved and we are unable to refund or exchange your spot.\n*Pieces will be ready for pickup 2-3 weeks following workshop.
URL:https://www.moultriega.com/event/berry-creative-strawberry-bowl-childrens-worshop-at-dustmade-studio/
LOCATION:Dustmade Studio\, 1201 1st Street NE\, Moultrie\, GA\, 31768\, United States
END:VEVENT
BEGIN:VEVENT
DTSTART;TZID=UTC:20250616T143000
DTEND;TZID=UTC:20250616T143000
DTSTAMP:20260424T104340
CREATED:20250521T201656Z
LAST-MODIFIED:20250521T201742Z
UID:10762-1750084200-1750084200@www.moultriega.com
SUMMARY:Animal Tales Live Animal Show at Doerun Library
DESCRIPTION:Our friends from Animal Tales will take us on a fun and interactive Zoofari around the globe\, with live animals from six different continents!
URL:https://www.moultriega.com/event/animal-tales-live-animal-show-at-doerun-library/
LOCATION:Doerun Library\, 185 N Freeman Street\, Doerun\, GA\, 31744\, United States
END:VEVENT
BEGIN:VEVENT
DTSTART;TZID=UTC:20250616T103000
DTEND;TZID=UTC:20250616T103000
DTSTAMP:20260424T104340
CREATED:20250521T201134Z
LAST-MODIFIED:20250521T201134Z
UID:10760-1750069800-1750069800@www.moultriega.com
SUMMARY:Animal Tales Live Animal Show at Moultrie Library
DESCRIPTION:Our friends from Animal Tales will take us on a fun and interactive Zoofari around the globe\, with live animals from six different continents!
URL:https://www.moultriega.com/event/animal-tales-live-animal-show-at-moultrie-library/
LOCATION:Moultrie-Colquitt County Library System\, 204 5th St SE\, Moultrie\, GA\, 31768\, United States
END:VEVENT
BEGIN:VEVENT
DTSTART;TZID=UTC:20250616T080000
DTEND;TZID=UTC:20250618T170000
DTSTAMP:20260424T104340
CREATED:20250522T144842Z
LAST-MODIFIED:20250522T144842Z
UID:10805-1750060800-1750266000@www.moultriega.com
SUMMARY:Youth Summer Camp: "Under the Sea" Painting at The Arts Center
DESCRIPTION:REGISTRATION OPENS MARCH 1\, 2025.Presented by United Way of Colquitt County.\n“Under the Sea” Painting | June 16-18 – Campers will learn how to use a variety of paint mediums and color mixing techniques. During this camp students will create their own paintings capturing the whimsical world of life under the sea.\nInstructor: Kathy Nelson\nDates: Monday – WednesdayTime: 8:00 am – 5:00 pmAges: Rising 3rd – Rising 6th GradersFee: $60 per camper\nScholarships are available for those who need financial assistance. Please email finance@moultriearts.org for more information.\nCamps include morning and afternoon instruction in art\, music\, theater\, and pottery. Campers will go to the MCCPRA pool to swim Wednesday afternoon. Please bring lunch and a water bottle. Snack will be provided\, but campers may bring an additional snack\, if desired.\nDaily Schedule:\nEarly Arrival (must be approved) – 7:45 amStandard Arrival – 8:00 amClass Instruction Begins – 9:00 amLunch – 12:00 pmSnack – 3:00 pmPickup – 4:00 – 5:00 pm\nCamp registration closes at midnight on the Thursday before camp begins. Please contact us at 229-985-1922 if you need assistance.\nRegister at https://www.moultriearts.org/camps.
URL:https://www.moultriega.com/event/youth-summer-camp-under-the-sea-painting-at-the-arts-center/
LOCATION:The Arts Center\, 401 7th Avenue S.W.\, Moultrie\, GA\, 31768\, United States
END:VEVENT
BEGIN:VEVENT
DTSTART;TZID=UTC:20250614T190000
DTEND;TZID=UTC:20250614T220000
DTSTAMP:20260424T104340
CREATED:20250612T180157Z
LAST-MODIFIED:20250612T180157Z
UID:10929-1749927600-1749938400@www.moultriega.com
SUMMARY:Ladies Night Live Music by Eric Hatcher at Bandwagon Brewing Company
DESCRIPTION:MARKET\, MUSIC & ‘MERICA! This Saturday\, June 14th\, join us at Bandwagon Brewing Co. for a full day of fun\, flavor\, and local love \n Farmers Market | 12–4PMStroll the patio and shop 20+ incredible local vendors—farm-fresh produce\, sourdough\, eggs\, flowers\, preserves\, gluten-free goodies\, sweet treats\, self-care products\, local art & even a pop-up photoshoot \n Live Music | 7PMEric Hatcher takes the stage with a show just for the ladies (but everyone’s invited). It’s the perfect night to bring your boo\, your crew\, or just your dancing shoes \n Ladies’ Night Frozen Hard Seltzer Special | Starts at 6PM$2 off Frozen Fruity Hard Seltzer Slushies—just in time to sip\, sway\, and sing along all evening \n Flag Day SpecialCelebrate the stars & stripes with $5 “Old Glory” beers ALL DAY long \n Tortilleria la Oaxaqueña | 5–10PMServing up mouthwatering\, authentic Mexican dishes that bring bold\, soulful flavor straight from Oaxaca to Moultrie \nSupport farmers. Support artists. Support local.Dance\, sing\, sip\, eat\, and repeat.See you at Moultrie\, Georgia’s one and only craft brewery!\n#SupportLocal #BandwagonBrewing #FarmersMarketVibes #FlagDayFun #LiveMusic #CraftBeerLovers #LadiesNight #OaxaqueñaEats #MoultrieGAEvents
URL:https://www.moultriega.com/event/ladies-night-live-music-by-eric-hatcher-at-bandwagon-brewing-company/
LOCATION:Bandwagon Brewing Company\, 33 West Central Ave.\, Moultrie\, GA\, 31768\, United States
END:VEVENT
BEGIN:VEVENT
DTSTART;TZID=UTC:20250614T190000
DTEND;TZID=UTC:20250614T190000
DTSTAMP:20260424T104340
CREATED:20250612T150139Z
LAST-MODIFIED:20250612T150139Z
UID:10928-1749927600-1749927600@www.moultriega.com
SUMMARY:Game Night: Corn Whole & Beer Pong at The Speakeasy on Main
DESCRIPTION:Game Night: Corn Whole & Beer Pong
URL:https://www.moultriega.com/event/game-night-corn-whole-beer-pong-at-the-speakeasy-on-main/
LOCATION:The Speakeasy on Main\, 14 S Main St\, Moultrie\, GA\, 31768\, United States
END:VEVENT
BEGIN:VEVENT
DTSTART;TZID=UTC:20250614T120000
DTEND;TZID=UTC:20250614T160000
DTSTAMP:20260424T104340
CREATED:20250519T183621Z
LAST-MODIFIED:20250519T183621Z
UID:10730-1749902400-1749916800@www.moultriega.com
SUMMARY:Farmers Market at Bandwagon Brewing Company
DESCRIPTION: Join the Fun at Bandwagon Brewing Company! \n Want to be a vendor?Email Kimberly Carreras ONLY at: Cheers@BandwagonBrewing.com This is the ONLY point of contact to join the market!\n Moultrie\, Georgia |  June 14th |  12PM–4PM\nGet ready for an unforgettable afternoon at the Bandwagon Brewing Company Farmers Market — your new favorite vibrant community hub! With 20+ local vendors\, handcrafted goods\, and mouthwatering treats\, there’s something for everyone. \n Sip on locally brewed craft beer or try our NEW & IMPROVED frozen hard seltzer as you stroll through artisan stalls and meet the amazing makers behind your favorite local products. From fresh produce\, eggs and small batch preserves\, to handmade goods\, art and MORE — this is a Shop Small\, Shop Local celebration you won’t want to miss!\n Pet friendly.  Family friendly.\n Conveniently located off the Downtown Square\, near even more fantastic restaurants and boutiques!\n FARMERS & PRODUCERS WANTED!We’re still looking for local vendors offering produce\, eggs\, dairy\, meat\, honey\, herbs\, spices\, flowers etc.\n Why Shop Small & Local? When you support small businesses\, you’re doing more than making a purchase — you’re investing in your community’s future. Here’s why it matters: Stronger Local Economy – Every dollar spent locally stays in the community\, supporting families\, creating jobs\, and boosting local services. Higher Quality Products – Small businesses often handcraft or carefully curate their goods\, offering unique\, higher-quality items you won’t find in big-box stores. Sustainable & Eco-Friendly – Shopping local reduces transportation emissions and supports producers who often use more ethical and sustainable practices. Personal Connections – Get to know the faces behind the products. Local shopping builds trust and relationships that make your community stronger.\nWhen you support small\, local businesses\, you’re doing more than just shopping — you’re investing in your community. You’re helping hardworking families put food on the table\, supporting dreams built from the ground up\, and strengthening the local economy. Every purchase is a vote for craftsmanship\, dedication\, and the unique character that makes your neighborhood feel like home\n Shop Small. Shop Local. Make a Big Impact.\nLet’s come together and support our local small businesses — see you there! \n Want to be a vendor?Email Kimberly Carreras ONLY at: Cheers@BandwagonBrewing.com This is the ONLY point of contact to join the market!\n\n 
URL:https://www.moultriega.com/event/farmers-market-at-bandwagon-brewing-company-3/
LOCATION:Bandwagon Brewing Company\, 33 West Central Ave.\, Moultrie\, GA\, 31768\, United States
END:VEVENT
BEGIN:VEVENT
DTSTART;TZID=UTC:20250614T103000
DTEND;TZID=UTC:20250614T123000
DTSTAMP:20260424T104340
CREATED:20250506T145624Z
LAST-MODIFIED:20250506T145624Z
UID:10676-1749897000-1749904200@www.moultriega.com
SUMMARY:The Berry Best Bowl Workshop at Dustmade Studio
DESCRIPTION: Date: Saturday\, June 14th\nTime: 10:30am – 12:30pm\nLocation: Dustmade Studio- 120 S Main St. Moultrie\, GA 31768\nDetails:\nYou are invited to get creative and handcraft your very own ceramic strawBERRY bowl!\nBrighten up your kitchen with this charming\, handbuilt ceramic strawberry bowl—designed with berry lovers in mind! Perfect for rinsing\, serving\, and displaying your favorite fruits\, this whimsical bowl can be made with or without drainage holes.\nWhether you’re a seasoned artist or a beginner\, this workshop is perfect for all skill levels!\n *Pieces will be hand built using a cream colored stoneware clay. After you have hand built your piece\, we will fire and glaze the color of your choosing!\nThis is a one-part workshop.\n*Pieces will be ready for pickup 2-3 weeks after workshop.\n* Note * Once you have purchased a workshop ticket\, your spot is reserved and we are unable to refund or exchange your spot.
URL:https://www.moultriega.com/event/the-berry-best-bowl-workshop-at-dustmade-studio/
LOCATION:Dustmade Studio\, 1201 1st Street NE\, Moultrie\, GA\, 31768\, United States
END:VEVENT
BEGIN:VEVENT
DTSTART;TZID=UTC:20250614T100000
DTEND;TZID=UTC:20250614T180000
DTSTAMP:20260424T104340
CREATED:20250103T175810Z
LAST-MODIFIED:20250103T175810Z
UID:10155-1749895200-1749924000@www.moultriega.com
SUMMARY:Second Saturday
DESCRIPTION:Visit Downtown Moultrie for Second Saturday! Downtown merchants will be holding sidewalk sales\, and several area food trucks will gather around the Courthouse Square. Select downtown eateries will be open as well! For more information on the event\, call 229-890-5455.
URL:https://www.moultriega.com/event/second-saturday-11/
LOCATION:Downtown Moultrie\, MOULTRIE\, GA\, 31776
END:VEVENT
BEGIN:VEVENT
DTSTART;TZID=UTC:20250613T203000
DTEND;TZID=UTC:20250613T203000
DTSTAMP:20260424T104340
CREATED:20250612T141124Z
LAST-MODIFIED:20250612T141124Z
UID:10923-1749846600-1749846600@www.moultriega.com
SUMMARY:Bill Morris at The Speakeasy on Main
DESCRIPTION:Live Music
URL:https://www.moultriega.com/event/bill-morris-at-the-speakeasy-on-main-7/
LOCATION:The Speakeasy on Main\, 14 S Main St\, Moultrie\, GA\, 31768\, United States
END:VEVENT
BEGIN:VEVENT
DTSTART;TZID=UTC:20250613T103000
DTEND;TZID=UTC:20250613T103000
DTSTAMP:20260424T104340
CREATED:20250521T200749Z
LAST-MODIFIED:20250521T200749Z
UID:10758-1749810600-1749810600@www.moultriega.com
SUMMARY:Moultrie Craft Club Slap Bracelets at Moultrie Library
DESCRIPTION:Color your world with a weekly craft at the Moultrie Library.
URL:https://www.moultriega.com/event/moultrie-craft-club-slap-bracelets-at-moultrie-library/
LOCATION:Moultrie-Colquitt County Library System\, 204 5th St SE\, Moultrie\, GA\, 31768\, United States
END:VEVENT
BEGIN:VEVENT
DTSTART;TZID=UTC:20250612T190000
DTEND;TZID=UTC:20250612T210000
DTSTAMP:20260424T104340
CREATED:20250604T191619Z
LAST-MODIFIED:20250604T191619Z
UID:10899-1749754800-1749762000@www.moultriega.com
SUMMARY:Trivia Night! at Bandwagon Brewing Company
DESCRIPTION: TRIVIA NIGHT THURSDAYS at Bandwagon Brewing Co.! \nDo you think you’ve got what it takes to be a trivia champ? Grab your smartest friends (or your funniest ones!) and join us every Thursday for a night full of laughs\, brain busters\, and good vibes — hosted by Challenge Entertainment! \n Challenge Entertainment brings fresh trivia topics every week\, so no two nights are the same! Whether you’re a pop culture junkie\, history buff\, or random fact wizard — there’s something for everyone.\n FREE TO PLAY | PRIZES FOR TOP 3 TEAMS!Bring the fam\, your date\, your neighbors — even your fur babies — because EVERYONE is welcome at Bandwagon!\n Trivia starts at 7PM | Doors open at 4PM Come early to grab your seat\, get a drink\, and fuel up!\n We’re pouring a huge variety of craft beers\, plus our NEW & IMPROVED! legendary Frozen Fruity Hard Seltzers (gluten-free!)\, and a refreshing lineup of non-alcoholic sodas — including our house-made root beer! \n Snack on bar bites like kettle chips\, popcorn\, hard pretzels\, and peanuts — and if there’s no food truck on site\, feel free to BYO food\, order takeout\, or get delivery from any of the amazing local restaurants nearby! \n Keep an eye on our posts & stories to see if a food truck will be rolling in each week!\n Bandwagon Brewing Company Every Thursday 4–9PM | Trivia kicks off at 7PM sharp Free to play • Fun to win • Memories to make\n Support local. Drink local. Think local. See you Thursday!
URL:https://www.moultriega.com/event/trivia-night-at-bandwagon-brewing-company-31/
LOCATION:Bandwagon Brewing Company\, 33 West Central Ave.\, Moultrie\, GA\, 31768\, United States
END:VEVENT
BEGIN:VEVENT
DTSTART;TZID=UTC:20250612T190000
DTEND;TZID=UTC:20250612T190000
DTSTAMP:20260424T104340
CREATED:20250610T172045Z
LAST-MODIFIED:20250610T172045Z
UID:10911-1749754800-1749754800@www.moultriega.com
SUMMARY:Sp-INGO BINGO at The Speakeasy on Main
DESCRIPTION:Games start at 7:00 this week$15 entry includes slushy or beer!5 rounds!!7 – 9 pm!Win prizes!!
URL:https://www.moultriega.com/event/sp-ingo-bingo-at-the-speakeasy-on-main-11/
LOCATION:The Speakeasy on Main\, 14 S Main St\, Moultrie\, GA\, 31768\, United States
END:VEVENT
BEGIN:VEVENT
DTSTART;TZID=UTC:20250612T170000
DTEND;TZID=UTC:20250612T210000
DTSTAMP:20260424T104340
CREATED:20250611T145133Z
LAST-MODIFIED:20250611T145133Z
UID:10913-1749747600-1749762000@www.moultriega.com
SUMMARY:Soccer Skeeball at Hometown Bar and Grill
DESCRIPTION:Come out Thursday to Hometown Bar & Grill and try yourself out to win some Atlanta United sideline tickets
URL:https://www.moultriega.com/event/soccer-skeeball-at-hometown-bar-and-grill/
LOCATION:GA
END:VEVENT
BEGIN:VEVENT
DTSTART;TZID=UTC:20250612T120000
DTEND;TZID=UTC:20250612T120000
DTSTAMP:20260424T104340
CREATED:20241226T131535Z
LAST-MODIFIED:20241226T131535Z
UID:10112-1749729600-1749729600@www.moultriega.com
SUMMARY:Downtown Development Authority Moultrie
DESCRIPTION:
URL:https://www.moultriega.com/event/downtown-development-authority-moultrie-17/
LOCATION:Downtown Moultrie Welcome Center\, 31 East Central Ave.\, Moultrie\, GA\, 31768\, United States
END:VEVENT
BEGIN:VEVENT
DTSTART;TZID=UTC:20250612T103000
DTEND;TZID=UTC:20250612T103000
DTSTAMP:20260424T104340
CREATED:20250521T200230Z
LAST-MODIFIED:20250521T200230Z
UID:10756-1749724200-1749724200@www.moultriega.com
SUMMARY:Ken Scott Comedy Magic Show at Moultrie Library
DESCRIPTION:Crowd favorite Ken Scott is back for an amazing magic show with plenty of audience participation and sidesplitting comedy.
URL:https://www.moultriega.com/event/ken-scott-comedy-magic-show-at-moultrie-library/
LOCATION:Moultrie-Colquitt County Library System\, 204 5th St SE\, Moultrie\, GA\, 31768\, United States
END:VEVENT
BEGIN:VEVENT
DTSTART;TZID=UTC:20250611T103000
DTEND;TZID=UTC:20250611T120000
DTSTAMP:20260424T104340
CREATED:20250506T144429Z
LAST-MODIFIED:20250506T144429Z
UID:10672-1749637800-1749643200@www.moultriega.com
SUMMARY:Berry Creative! Strawberry Plate Children's Workshop at Dustmade Studio
DESCRIPTION:Let’s get creative and berry inspired! In this fun and interactive workshop\, kids will sculpt and paint their very own strawberry-themed ceramic plate. Little artists will learn the basics of shaping clay\, adding playful textures\, and painting their plates with vibrant glazes.\nPerfect for Kids Ages 4-12\n    *Children under the age of 6 MUST be accompanied by an adult.\nDate: Wednesday\, June 11th\nTime: 10:30am-12pm\nLocation: Dustmade Studio – 120 South Main St.  Moultrie\, GA 31768\nThis is a one-part workshop.\nNote * Once you have purchased a workshop ticket\, your spot is reserved and we are unable to refund or exchange your spot.\n*Pieces will be ready for pickup 1-2 weeks following workshop.
URL:https://www.moultriega.com/event/berry-creative-strawberry-plate-childrens-workshop-at-dustmade-studio/
LOCATION:Dustmade Studio\, 1201 1st Street NE\, Moultrie\, GA\, 31768\, United States
END:VEVENT
BEGIN:VEVENT
DTSTART;TZID=UTC:20250611T103000
DTEND;TZID=UTC:20250611T103000
DTSTAMP:20260424T104340
CREATED:20250521T195352Z
LAST-MODIFIED:20250521T195945Z
UID:10753-1749637800-1749637800@www.moultriega.com
SUMMARY:Movie & Popcorn Harold and The Purple Crayon at Moultrie Library
DESCRIPTION:Enjoy family favorites on the big screen with hot\, delicious popcorn.
URL:https://www.moultriega.com/event/movie-popcorn-harold-and-the-purple-crayon-at-moultrie-library/
LOCATION:Moultrie-Colquitt County Library System\, 204 5th St SE\, Moultrie\, GA\, 31768\, United States
END:VEVENT
BEGIN:VEVENT
DTSTART;TZID=UTC:20250610T100000
DTEND;TZID=UTC:20250610T120000
DTSTAMP:20260424T104340
CREATED:20250604T132921Z
LAST-MODIFIED:20250604T132921Z
UID:10885-1749549600-1749556800@www.moultriega.com
SUMMARY:Mickey & Minnie at Main Street Park
DESCRIPTION:Come to Main Street Park and meet Mickey & Minnie. Do a little arts & crafts\, enjoy a snack and take your picture with Mickey & Minnie. This is a free event.
URL:https://www.moultriega.com/event/mickey-minnie-at-main-street-park/
LOCATION:Main Street Park\, 1220 South Main Street\, Moultrie\, GA\, 31768\, United States
END:VEVENT
BEGIN:VEVENT
DTSTART;TZID=UTC:20250609T103000
DTEND;TZID=UTC:20250609T103000
DTSTAMP:20260424T104340
CREATED:20250521T195005Z
LAST-MODIFIED:20250521T195005Z
UID:10751-1749465000-1749465000@www.moultriega.com
SUMMARY:Squishmallow Portraits at Moultrie Library
DESCRIPTION:Paint a portrait of your favorite squishy friend.
URL:https://www.moultriega.com/event/squishmallow-portraits-at-moultrie-library/
LOCATION:Moultrie-Colquitt County Library System\, 204 5th St SE\, Moultrie\, GA\, 31768\, United States
END:VEVENT
BEGIN:VEVENT
DTSTART;TZID=UTC:20250609T100000
DTEND;TZID=UTC:20250613T140000
DTSTAMP:20260424T104340
CREATED:20250522T144435Z
LAST-MODIFIED:20250522T144435Z
UID:10803-1749463200-1749823200@www.moultriega.com
SUMMARY:Youth Summer Camp: Princess Power at The Arts Center
DESCRIPTION:REGISTRATION OPENS MARCH 1\, 2025.\nDates: Monday – Friday\, June 9-13Time: 10:00 am – 2:00 pmInstructor: Leah GainesAges: 3-8Fee: $100\nGirls Just Wanna Have Fun! Princess Power – It’s all about girls this week. Come enjoy a variety of princess themed projects with a wide range of mediums\, and of course lots of glitter! The week will end with an Art Show and small performance beginning at 1 pm on Friday! Campers must be potty trained. Please send a sack lunch with your child each day.\nScholarships are available for those who need financial assistance. Please email finance@moultriearts.org for more information.\nCamp registration closes at midnight on the Thursday before camp begins. Please contact us at 229-985-1922 if you need assistance.\nRegister at https://www.moultriearts.org/camps.
URL:https://www.moultriega.com/event/youth-summer-camp-princess-power-at-the-arts-center/
LOCATION:The Arts Center\, 401 7th Avenue S.W.\, Moultrie\, GA\, 31768\, United States
END:VEVENT
END:VCALENDAR