BEGIN:VCALENDAR
VERSION:2.0
PRODID:-//City of Moultrie - ECPv6.15.20//NONSGML v1.0//EN
CALSCALE:GREGORIAN
METHOD:PUBLISH
X-WR-CALNAME:City of Moultrie
X-ORIGINAL-URL:https://www.moultriega.com
X-WR-CALDESC:Events for City of Moultrie
REFRESH-INTERVAL;VALUE=DURATION:PT1H
X-Robots-Tag:noindex
X-PUBLISHED-TTL:PT1H
BEGIN:VTIMEZONE
TZID:UTC
BEGIN:STANDARD
TZOFFSETFROM:+0000
TZOFFSETTO:+0000
TZNAME:UTC
DTSTART:20220101T000000
END:STANDARD
END:VTIMEZONE
BEGIN:VEVENT
DTSTART;TZID=UTC:20231224T170000
DTEND;TZID=UTC:20231224T170000
DTSTAMP:20260419T221833
CREATED:20231220T155435Z
LAST-MODIFIED:20231220T155435Z
UID:8586-1703437200-1703437200@www.moultriega.com
SUMMARY:Christmas Communion First Baptist Church Moultrie
DESCRIPTION:
URL:https://www.moultriega.com/event/christmas-communion-first-baptist-church-moultrie/
LOCATION:First Baptist Church Moultrie\, 400 South Main Street\, Moultrie\, GA\, 31768\, United States
END:VEVENT
BEGIN:VEVENT
DTSTART;VALUE=DATE:20231225
DTEND;VALUE=DATE:20231227
DTSTAMP:20260419T221833
CREATED:20230503T131231Z
LAST-MODIFIED:20230503T143150Z
UID:7613-1703462400-1703635199@www.moultriega.com
SUMMARY:City of Moultrie Offices Closed: Christmas
DESCRIPTION:
URL:https://www.moultriega.com/event/city-of-moultrie-offices-closed-19/
LOCATION:GA
END:VEVENT
BEGIN:VEVENT
DTSTART;TZID=UTC:20231229T200000
DTEND;TZID=UTC:20231229T200000
DTSTAMP:20260419T221833
CREATED:20231229T155010Z
LAST-MODIFIED:20231229T155010Z
UID:8605-1703880000-1703880000@www.moultriega.com
SUMMARY:Brent Saunders at The Speakeasy on Main
DESCRIPTION:
URL:https://www.moultriega.com/event/brent-saunders-at-the-speakeasy-on-main-2/
LOCATION:The Speakeasy on Main\, 14 S Main St\, Moultrie\, GA\, 31768\, United States
END:VEVENT
BEGIN:VEVENT
DTSTART;TZID=UTC:20231231T103000
DTEND;TZID=UTC:20231231T103000
DTSTAMP:20260419T221833
CREATED:20231220T154609Z
LAST-MODIFIED:20231220T154609Z
UID:8584-1704018600-1704018600@www.moultriega.com
SUMMARY:First Baptist Church Moultrie Holiday Worship Schedule
DESCRIPTION:
URL:https://www.moultriega.com/event/first-baptist-church-moultrie-holiday-worship-schedule-2/
LOCATION:GA
END:VEVENT
BEGIN:VEVENT
DTSTART;VALUE=DATE:20240101
DTEND;VALUE=DATE:20240102
DTSTAMP:20260419T221833
CREATED:20230503T130829Z
LAST-MODIFIED:20230503T143246Z
UID:7611-1704067200-1704153599@www.moultriega.com
SUMMARY:City of Moultrie Offices Closed: New Years Day
DESCRIPTION:
URL:https://www.moultriega.com/event/city-of-moultrie-offices-closed-18/
LOCATION:GA
END:VEVENT
BEGIN:VEVENT
DTSTART;TZID=UTC:20240102T180000
DTEND;TZID=UTC:20240102T180000
DTSTAMP:20260419T221833
CREATED:20240103T181035Z
LAST-MODIFIED:20240103T181035Z
UID:8633-1704218400-1704218400@www.moultriega.com
SUMMARY:City Council Meeting
DESCRIPTION:City Council Room 2nd Floor \n21 1st Avenue NE\nMoultrie\, GA 31768
URL:https://www.moultriega.com/event/city-council-meeting-142/
LOCATION:City Council Room\, 21 1st Avenue NE\, Moultrie\, GA\, 31768\, United States
END:VEVENT
BEGIN:VEVENT
DTSTART;TZID=UTC:20240104T160000
DTEND;TZID=UTC:20240104T160000
DTSTAMP:20260419T221833
CREATED:20240103T201320Z
LAST-MODIFIED:20240103T201320Z
UID:8680-1704384000-1704384000@www.moultriega.com
SUMMARY:Cooking with Connie Every Thursday in January
DESCRIPTION:
URL:https://www.moultriega.com/event/cooking-with-connie-every-thursday-in-january/
LOCATION:Ryce  Community Center\, 305 7th Street NW\, Moultrie\, GA\, 31768\, United States
END:VEVENT
BEGIN:VEVENT
DTSTART;TZID=UTC:20240104T190000
DTEND;TZID=UTC:20240104T190000
DTSTAMP:20260419T221833
CREATED:20240104T211206Z
LAST-MODIFIED:20240104T211206Z
UID:8709-1704394800-1704394800@www.moultriega.com
SUMMARY:BINGO at The Speakeasy on Main
DESCRIPTION:
URL:https://www.moultriega.com/event/bingo-at-the-speakeasy-on-main-2/
LOCATION:The Speakeasy on Main\, 14 S Main St\, Moultrie\, GA\, 31768\, United States
END:VEVENT
BEGIN:VEVENT
DTSTART;TZID=UTC:20240105T130000
DTEND;TZID=UTC:20240105T170000
DTSTAMP:20260419T221833
CREATED:20240103T203220Z
LAST-MODIFIED:20240103T203220Z
UID:8684-1704459600-1704474000@www.moultriega.com
SUMMARY:Cooking for One
DESCRIPTION:
URL:https://www.moultriega.com/event/cooking-for-one/
LOCATION:Ryce  Community Center\, 305 7th Street NW\, Moultrie\, GA\, 31768\, United States
END:VEVENT
BEGIN:VEVENT
DTSTART;TZID=UTC:20240105T180000
DTEND;TZID=UTC:20240105T180000
DTSTAMP:20260419T221833
CREATED:20231221T193903Z
LAST-MODIFIED:20231221T193903Z
UID:8594-1704477600-1704477600@www.moultriega.com
SUMMARY:Twelfth Night in Downtown Moultrie
DESCRIPTION:
URL:https://www.moultriega.com/event/twelfth-night-in-downtown-moultrie/
LOCATION:Downtown Moultrie\, MOULTRIE\, GA\, 31776
END:VEVENT
BEGIN:VEVENT
DTSTART;TZID=UTC:20240106T190000
DTEND;TZID=UTC:20240106T220000
DTSTAMP:20260419T221833
CREATED:20240103T195520Z
LAST-MODIFIED:20240103T195520Z
UID:8677-1704567600-1704578400@www.moultriega.com
SUMMARY:Heath DeLoach at Bandwagon Brewing Company
DESCRIPTION:
URL:https://www.moultriega.com/event/heath-deloach-at-bandwagon-brewing-company/
LOCATION:Bandwagon Brewing Company\, 33 West Central Ave.\, Moultrie\, GA\, 31768\, United States
END:VEVENT
BEGIN:VEVENT
DTSTART;TZID=UTC:20240106T200000
DTEND;TZID=UTC:20240106T230000
DTSTAMP:20260419T221833
CREATED:20240103T140544Z
LAST-MODIFIED:20240103T140544Z
UID:8617-1704571200-1704582000@www.moultriega.com
SUMMARY:Josh Pridemore at The Speakeasy on Main
DESCRIPTION:
URL:https://www.moultriega.com/event/josh-pridemore-at-the-speakeasy-on-main-2/
LOCATION:The Speakeasy on Main\, 14 S Main St\, Moultrie\, GA\, 31768\, United States
END:VEVENT
BEGIN:VEVENT
DTSTART;TZID=UTC:20240109T173000
DTEND;TZID=UTC:20240109T173000
DTSTAMP:20260419T221833
CREATED:20240105T150253Z
LAST-MODIFIED:20240105T150253Z
UID:8715-1704821400-1704821400@www.moultriega.com
SUMMARY:NAMI Night to Learn & Discuss
DESCRIPTION:
URL:https://www.moultriega.com/event/nami-night-to-learn-discuss/
LOCATION:First Methodist Church\, 409 1st Street SE\, Moultrie\, GA\, 31768\, United States
END:VEVENT
BEGIN:VEVENT
DTSTART;TZID=UTC:20240111T120000
DTEND;TZID=UTC:20240111T120000
DTSTAMP:20260419T221833
CREATED:20240103T160154Z
LAST-MODIFIED:20240103T175256Z
UID:8620-1704974400-1704974400@www.moultriega.com
SUMMARY:Downtown Development Authority Moultrie
DESCRIPTION:
URL:https://www.moultriega.com/event/downtown-development-authority-moultrie/
LOCATION:Downtown Moultrie Welcome Center\, 31 East Central Ave.\, Moultrie\, GA\, 31768\, United States
END:VEVENT
BEGIN:VEVENT
DTSTART;TZID=UTC:20240111T160000
DTEND;TZID=UTC:20240111T160000
DTSTAMP:20260419T221833
CREATED:20240103T202336Z
LAST-MODIFIED:20240103T202336Z
UID:8681-1704988800-1704988800@www.moultriega.com
SUMMARY:Cooking with Connie Every Thursday in January
DESCRIPTION:
URL:https://www.moultriega.com/event/cooking-with-connie-every-thursday-in-january-2/
LOCATION:Ryce  Community Center\, 305 7th Street NW\, Moultrie\, GA\, 31768\, United States
END:VEVENT
BEGIN:VEVENT
DTSTART;TZID=UTC:20240111T190000
DTEND;TZID=UTC:20240111T190000
DTSTAMP:20260419T221833
CREATED:20231229T155346Z
LAST-MODIFIED:20231229T155346Z
UID:8606-1704999600-1704999600@www.moultriega.com
SUMMARY:Vision Board Workshop at The Arts Center
DESCRIPTION:What’s your vision for 2024?\n\n\nJoin us on Thursday\, January 11 at 7:00 pm to cast your personal vision for 2024 at our annual Vision Board workshop. We’ll revisit our boards mid-year to check in on your progress toward your goals. $10 per person.
URL:https://www.moultriega.com/event/vision-board-workshop-at-the-arts-center-2/
LOCATION:The Arts Center\, 401 7th Avenue S.W.\, Moultrie\, GA\, 31768\, United States
END:VEVENT
BEGIN:VEVENT
DTSTART;TZID=UTC:20240112T113000
DTEND;TZID=UTC:20240112T120000
DTSTAMP:20260419T221833
CREATED:20240103T203845Z
LAST-MODIFIED:20240103T203845Z
UID:8685-1705059000-1705060800@www.moultriega.com
SUMMARY:Cardio Drumming
DESCRIPTION:
URL:https://www.moultriega.com/event/cardio-drumming/
LOCATION:Ryce  Community Center\, 305 7th Street NW\, Moultrie\, GA\, 31768\, United States
END:VEVENT
BEGIN:VEVENT
DTSTART;TZID=UTC:20240112T203000
DTEND;TZID=UTC:20240112T203000
DTSTAMP:20260419T221833
CREATED:20240111T132928Z
LAST-MODIFIED:20240111T132928Z
UID:8730-1705091400-1705091400@www.moultriega.com
SUMMARY:Karaoke Party Night at The Speakeasy on Main
DESCRIPTION:
URL:https://www.moultriega.com/event/karaoke-party-night-at-the-speakeasy-on-main/
LOCATION:The Speakeasy on Main\, 14 S Main St\, Moultrie\, GA\, 31768\, United States
END:VEVENT
BEGIN:VEVENT
DTSTART;VALUE=DATE:20240115
DTEND;VALUE=DATE:20240116
DTSTAMP:20260419T221833
CREATED:20231220T181239Z
LAST-MODIFIED:20231220T181239Z
UID:8590-1705276800-1705363199@www.moultriega.com
SUMMARY:City of Moultrie Offices Closed: Dr. Martin Luther King Jr. Day
DESCRIPTION:
URL:https://www.moultriega.com/event/city-of-moultrie-offices-closed-dr-martin-luther-king-jr-day/
LOCATION:GA
END:VEVENT
BEGIN:VEVENT
DTSTART;TZID=UTC:20240115T140000
DTEND;TZID=UTC:20240115T140000
DTSTAMP:20260419T221833
CREATED:20231127T185542Z
LAST-MODIFIED:20231127T185636Z
UID:8523-1705327200-1705327200@www.moultriega.com
SUMMARY:Dr. Martin Luther King Jr. Birthday Celebration Parade
DESCRIPTION:24.MLK Parade Entry Form\n24.NAACP Letters-Community\n  \n2024 MLK Day Parade Registration Form
URL:https://www.moultriega.com/event/mlk-parade/
LOCATION:GA
END:VEVENT
BEGIN:VEVENT
DTSTART;TZID=UTC:20240116T100000
DTEND;TZID=UTC:20240116T120000
DTSTAMP:20260419T221833
CREATED:20240104T132913Z
LAST-MODIFIED:20240105T151522Z
UID:8691-1705399200-1705406400@www.moultriega.com
SUMMARY:Arts\, Crafts\, Games\, Coffee\, and Doughnuts
DESCRIPTION:
URL:https://www.moultriega.com/event/arts-crafts-games-and-puzzles/
LOCATION:Ryce  Community Center\, 305 7th Street NW\, Moultrie\, GA\, 31768\, United States
END:VEVENT
BEGIN:VEVENT
DTSTART;TZID=UTC:20240116T180000
DTEND;TZID=UTC:20240116T180000
DTSTAMP:20260419T221833
CREATED:20240103T181208Z
LAST-MODIFIED:20240103T181208Z
UID:8634-1705428000-1705428000@www.moultriega.com
SUMMARY:City Council Meeting
DESCRIPTION:City Council Room 2nd Floor \n21 1st Avenue NE\nMoultrie\, GA 31768
URL:https://www.moultriega.com/event/city-council-meeting-143/
LOCATION:City Council Room\, 21 1st Avenue NE\, Moultrie\, GA\, 31768\, United States
END:VEVENT
BEGIN:VEVENT
DTSTART;TZID=UTC:20240117T100000
DTEND;TZID=UTC:20240117T100000
DTSTAMP:20260419T221833
CREATED:20231229T154533Z
LAST-MODIFIED:20231229T154533Z
UID:8604-1705485600-1705485600@www.moultriega.com
SUMMARY:Pickleball Learn and Play at Tommy Meredith Gym
DESCRIPTION:
URL:https://www.moultriega.com/event/pickleball-learn-and-play-at-tommy-meredith-gym/
LOCATION:Tommy Meredith Gym\, 1100 11th Ave SW\, Moultrie\, GA\, 31768\, United States
END:VEVENT
BEGIN:VEVENT
DTSTART;TZID=UTC:20240117T160000
DTEND;TZID=UTC:20240117T163000
DTSTAMP:20260419T221833
CREATED:20240105T150514Z
LAST-MODIFIED:20240105T150514Z
UID:8717-1705507200-1705509000@www.moultriega.com
SUMMARY:Ribbon Cutting Strike Zone 10
DESCRIPTION:
URL:https://www.moultriega.com/event/ribbon-cutting-strike-zone-10/
LOCATION:Strike Zone 10\, 28 Industrial Drive\, Moultrie\, GA\, 31788\, United States
END:VEVENT
BEGIN:VEVENT
DTSTART;TZID=UTC:20240118T160000
DTEND;TZID=UTC:20240118T160000
DTSTAMP:20260419T221833
CREATED:20240103T202517Z
LAST-MODIFIED:20240103T202517Z
UID:8682-1705593600-1705593600@www.moultriega.com
SUMMARY:Cooking with Connie Every Thursday in January
DESCRIPTION:
URL:https://www.moultriega.com/event/cooking-with-connie-every-thursday-in-january-3/
LOCATION:Ryce  Community Center\, 305 7th Street NW\, Moultrie\, GA\, 31768\, United States
END:VEVENT
BEGIN:VEVENT
DTSTART;TZID=UTC:20240118T170000
DTEND;TZID=UTC:20240118T190000
DTSTAMP:20260419T221833
CREATED:20240105T150702Z
LAST-MODIFIED:20240105T150702Z
UID:8719-1705597200-1705604400@www.moultriega.com
SUMMARY:Game Night at Legacy Village at Park Regency
DESCRIPTION:
URL:https://www.moultriega.com/event/game-night-at-legacy-village-at-park-regency/
LOCATION:Legacy Village at Park Regency\, 3000 Veterans Pkwy S\, Moultrie\, GA\, 31788\, United States
END:VEVENT
BEGIN:VEVENT
DTSTART;TZID=UTC:20240118T190000
DTEND;TZID=UTC:20240118T190000
DTSTAMP:20260419T221833
CREATED:20240117T133232Z
LAST-MODIFIED:20240117T133232Z
UID:8738-1705604400-1705604400@www.moultriega.com
SUMMARY:BINGO Night at The Speakeasy on Main
DESCRIPTION:
URL:https://www.moultriega.com/event/bingo-night-at-the-speakeasy-on-main/
LOCATION:The Speakeasy on Main\, 14 S Main St\, Moultrie\, GA\, 31768\, United States
END:VEVENT
BEGIN:VEVENT
DTSTART;TZID=UTC:20240119T100000
DTEND;TZID=UTC:20240121T150000
DTSTAMP:20260419T221833
CREATED:20231214T172226Z
LAST-MODIFIED:20231214T172226Z
UID:8571-1705658400-1705849200@www.moultriega.com
SUMMARY:Party In The Pines at Warrior Creek Off-Road Park
DESCRIPTION:
URL:https://www.moultriega.com/event/party-in-the-pines-at-warrior-creek-off-road-park-2/
LOCATION:Warrior Creek Off-Road Park\, 1121 GA highway 256\, Norman Park\, GA\, 31771\, United States
END:VEVENT
BEGIN:VEVENT
DTSTART;TZID=UTC:20240119T173000
DTEND;TZID=UTC:20240119T180000
DTSTAMP:20260419T221833
CREATED:20240103T204534Z
LAST-MODIFIED:20240103T204534Z
UID:8686-1705685400-1705687200@www.moultriega.com
SUMMARY:Cardio Drumming
DESCRIPTION:
URL:https://www.moultriega.com/event/cardio-drumming-2/
LOCATION:Ryce  Community Center\, 305 7th Street NW\, Moultrie\, GA\, 31768\, United States
END:VEVENT
BEGIN:VEVENT
DTSTART;TZID=UTC:20240119T200000
DTEND;TZID=UTC:20240119T230000
DTSTAMP:20260419T221833
CREATED:20240117T133327Z
LAST-MODIFIED:20240117T133327Z
UID:8739-1705694400-1705705200@www.moultriega.com
SUMMARY:Josh Pridemore at The Speakeasy on Main
DESCRIPTION:
URL:https://www.moultriega.com/event/josh-pridemore-at-the-speakeasy-on-main-3/
LOCATION:The Speakeasy on Main\, 14 S Main St\, Moultrie\, GA\, 31768\, United States
END:VEVENT
END:VCALENDAR