BEGIN:VCALENDAR
VERSION:2.0
PRODID:-//City of Moultrie - ECPv6.15.20//NONSGML v1.0//EN
CALSCALE:GREGORIAN
METHOD:PUBLISH
X-ORIGINAL-URL:https://www.moultriega.com
X-WR-CALDESC:Events for City of Moultrie
REFRESH-INTERVAL;VALUE=DURATION:PT1H
X-Robots-Tag:noindex
X-PUBLISHED-TTL:PT1H
BEGIN:VTIMEZONE
TZID:UTC
BEGIN:STANDARD
TZOFFSETFROM:+0000
TZOFFSETTO:+0000
TZNAME:UTC
DTSTART:20220101T000000
END:STANDARD
END:VTIMEZONE
BEGIN:VEVENT
DTSTART;TZID=UTC:20230415T180000
DTEND;TZID=UTC:20230415T180000
DTSTAMP:20260420T063340
CREATED:20230403T143206Z
LAST-MODIFIED:20230403T143206Z
UID:7444-1681581600-1681581600@www.moultriega.com
SUMMARY:Maestro G. Michael Ryce Tribute Concert
DESCRIPTION:
URL:https://www.moultriega.com/event/maestro-g-michael-ryce-tribute-concert/
LOCATION:The Arts Center\, 401 7th Avenue S.W.\, Moultrie\, GA\, 31768\, United States
END:VEVENT
BEGIN:VEVENT
DTSTART;TZID=UTC:20230417T090000
DTEND;TZID=UTC:20230421T160000
DTSTAMP:20260420T063340
CREATED:20230303T155031Z
LAST-MODIFIED:20230303T155458Z
UID:7310-1681722000-1682092800@www.moultriega.com
SUMMARY:Watercolor Workshop with Janet Rogers at The Arts Center
DESCRIPTION:9:00am – 4:00pm Workshop fee is $400. Meals are provided for $8 per day. \nDays 1 & 2 will concentrate on florals. \nDays 3 & 4 are portraits\, and Day 5 is landscapes and buildings.
URL:https://www.moultriega.com/event/watercolor-workshop-with-janet-rogers-at-the-arts-center/
LOCATION:The Arts Center\, 401 7th Avenue S.W.\, Moultrie\, GA\, 31768\, United States
END:VEVENT
BEGIN:VEVENT
DTSTART;TZID=UTC:20230418T180000
DTEND;TZID=UTC:20230418T180000
DTSTAMP:20260420T063340
CREATED:20230404T151339Z
LAST-MODIFIED:20230404T151339Z
UID:7454-1681840800-1681840800@www.moultriega.com
SUMMARY:Reversing Diabetes Seminar
DESCRIPTION:REVERSING
URL:https://www.moultriega.com/event/reversing-diabetes-seminar-3/
LOCATION:GA
END:VEVENT
BEGIN:VEVENT
DTSTART;TZID=UTC:20230418T180000
DTEND;TZID=UTC:20230418T190000
DTSTAMP:20260420T063340
CREATED:20230109T204946Z
LAST-MODIFIED:20230109T204946Z
UID:7046-1681840800-1681844400@www.moultriega.com
SUMMARY:City Council Meeting
DESCRIPTION:City Council Room 2nd Floor \n21 1st Avenue NE\nMoultrie\, GA 31768
URL:https://www.moultriega.com/event/city-council-meeting-126/
LOCATION:City Council Room\, 21 1st Avenue NE\, Moultrie\, GA\, 31768\, United States
END:VEVENT
BEGIN:VEVENT
DTSTART;TZID=UTC:20230420T170000
DTEND;TZID=UTC:20230420T190000
DTSTAMP:20260420T063340
CREATED:20230324T145438Z
LAST-MODIFIED:20230324T145438Z
UID:7408-1682010000-1682017200@www.moultriega.com
SUMMARY:Spring Carnival at Legacy Village
DESCRIPTION:
URL:https://www.moultriega.com/event/spring-carnival-at-legacy-village/
LOCATION:Legacy Village at Park Regency\, 3000 Veterans Pkwy S\, Moultrie\, GA\, 31788\, United States
END:VEVENT
BEGIN:VEVENT
DTSTART;TZID=UTC:20230421T100000
DTEND;TZID=UTC:20230423T170000
DTSTAMP:20260420T063340
CREATED:20230206T131423Z
LAST-MODIFIED:20230206T131423Z
UID:7184-1682071200-1682269200@www.moultriega.com
SUMMARY:Spring Mudd Fling at Warrior Creek
DESCRIPTION:
URL:https://www.moultriega.com/event/spring-mudd-fling-at-warrior-creek/
LOCATION:Warrior Creek Off-Road Park\, 1121 GA highway 256\, Norman Park\, GA\, 31771\, United States
END:VEVENT
BEGIN:VEVENT
DTSTART;TZID=UTC:20230422T193000
DTEND;TZID=UTC:20230422T220000
DTSTAMP:20260420T063340
CREATED:20230419T130520Z
LAST-MODIFIED:20230419T130520Z
UID:7521-1682191800-1682200800@www.moultriega.com
SUMMARY:CCHS Prom Night 2023
DESCRIPTION:
URL:https://www.moultriega.com/event/cchs-prom-night-2023/
LOCATION:GA
END:VEVENT
BEGIN:VEVENT
DTSTART;TZID=UTC:20230424T090000
DTEND;TZID=UTC:20230428T150000
DTSTAMP:20260420T063340
CREATED:20230418T204952Z
LAST-MODIFIED:20230418T204952Z
UID:7505-1682326800-1682694000@www.moultriega.com
SUMMARY:Spring Clean-Up Week
DESCRIPTION:
URL:https://www.moultriega.com/event/spring-clean-up-week/
LOCATION:Georgia State Farmers Market\, 1525 1st Ave SE\, Moultrie\, 31768\, United States
END:VEVENT
BEGIN:VEVENT
DTSTART;TZID=UTC:20230425T170000
DTEND;TZID=UTC:20230425T200000
DTSTAMP:20260420T063340
CREATED:20230406T191337Z
LAST-MODIFIED:20230406T191337Z
UID:7481-1682442000-1682452800@www.moultriega.com
SUMMARY:Family Game Night at Chick-Fil-A Moultrie
DESCRIPTION:Family Game Night is back with a fun\, new twist! Join us for our first ever UNO Tournament Night on April 25th 5-8pm!! Let’s see who has what it takes to walk away with a week of free treats.\nJoin the tournament\, or grab some other games to enjoy with your friends and family!
URL:https://www.moultriega.com/event/family-game-night-at-chick-fil-a-moultrie/
LOCATION:Chick-fil-A\, 502 Lane St\, Moultrie\, GA\, 31768\, United States
END:VEVENT
BEGIN:VEVENT
DTSTART;TZID=UTC:20230425T180000
DTEND;TZID=UTC:20230425T180000
DTSTAMP:20260420T063340
CREATED:20230404T151405Z
LAST-MODIFIED:20230404T151405Z
UID:7455-1682445600-1682445600@www.moultriega.com
SUMMARY:Reversing Diabetes Seminar
DESCRIPTION:REVERSING
URL:https://www.moultriega.com/event/reversing-diabetes-seminar-4/
LOCATION:GA
END:VEVENT
BEGIN:VEVENT
DTSTART;TZID=UTC:20230427T180000
DTEND;TZID=UTC:20230427T180000
DTSTAMP:20260420T063340
CREATED:20230307T163658Z
LAST-MODIFIED:20230307T163658Z
UID:7339-1682618400-1682618400@www.moultriega.com
SUMMARY:Fashions & Dinner
DESCRIPTION:
URL:https://www.moultriega.com/event/fashions-dinner/
LOCATION:GA
END:VEVENT
BEGIN:VEVENT
DTSTART;TZID=UTC:20230428T120000
DTEND;TZID=UTC:20230428T130000
DTSTAMP:20260420T063340
CREATED:20230308T211456Z
LAST-MODIFIED:20230308T211456Z
UID:7354-1682683200-1682686800@www.moultriega.com
SUMMARY:Women in the Workforce Luncheon
DESCRIPTION:
URL:https://www.moultriega.com/event/women-in-the-workforce-luncheon/
LOCATION:GA
END:VEVENT
BEGIN:VEVENT
DTSTART;TZID=UTC:20230428T140000
DTEND;TZID=UTC:20230428T150000
DTSTAMP:20260420T063340
CREATED:20230424T174359Z
LAST-MODIFIED:20230428T134738Z
UID:7540-1682690400-1682694000@www.moultriega.com
SUMMARY:Ask the Naturalist Reed Bingham State Park
DESCRIPTION:
URL:https://www.moultriega.com/event/ask-the-naturalist-reed-bingham-state-park-2/
LOCATION:Reed Bingham State Park\, 542 Reed Bingham Rd.\, Adel\, GA\, 31620\, United States
END:VEVENT
BEGIN:VEVENT
DTSTART;TZID=UTC:20230428T190000
DTEND;TZID=UTC:20230428T190000
DTSTAMP:20260420T063340
CREATED:20230418T204029Z
LAST-MODIFIED:20230418T204029Z
UID:7501-1682708400-1682708400@www.moultriega.com
SUMMARY:Mou-Town Melodies at The Arts Center
DESCRIPTION:Come and enjoy some of MOU-ltrie’s finest talent! An evening of live music\, lyrics and laughter with comedian Johnny Sweat and music by Yon Ra El & The YoFunk Experience.                   Tickets $10 each.
URL:https://www.moultriega.com/event/mou-town-melodies-at-the-arts-center/
LOCATION:The Arts Center\, 401 7th Avenue S.W.\, Moultrie\, GA\, 31768\, United States
END:VEVENT
BEGIN:VEVENT
DTSTART;VALUE=DATE:20230429
DTEND;VALUE=DATE:20230430
DTSTAMP:20260420T063340
CREATED:20230306T203004Z
LAST-MODIFIED:20230306T203109Z
UID:7321-1682726400-1682812799@www.moultriega.com
SUMMARY:Plaza De Toros La Luminosa
DESCRIPTION:
URL:https://www.moultriega.com/event/gran-jaripeo-baile/
LOCATION:GA
END:VEVENT
BEGIN:VEVENT
DTSTART;TZID=UTC:20230429T080000
DTEND;TZID=UTC:20230429T080000
DTSTAMP:20260420T063340
CREATED:20230320T125639Z
LAST-MODIFIED:20230320T125639Z
UID:7386-1682755200-1682755200@www.moultriega.com
SUMMARY:Hero House Tournament of Heros
DESCRIPTION:
URL:https://www.moultriega.com/event/hero-house-tournament-of-heros/
LOCATION:Colquitt County High School\, 105 Darbyshire Rd\, Norman Park\, GA\, 31771\, United States
END:VEVENT
BEGIN:VEVENT
DTSTART;TZID=UTC:20230429T100000
DTEND;TZID=UTC:20230429T130000
DTSTAMP:20260420T063340
CREATED:20230328T145902Z
LAST-MODIFIED:20230328T145902Z
UID:7424-1682762400-1682773200@www.moultriega.com
SUMMARY:Hearts & Handprints
DESCRIPTION:  \nWho is ready to make a keepsake with us?!  \nJoin us on April 29th from 10-1pm at the Clubhouse for brunch\, a silent action\, and to make a personalized platter for that special someone to look back on for years to come! \nAll proceeds benefit the Mustard Seed Cottage\, Inc. The Mustard Seed Cottage is a maternity home that will service and help women until their baby reaches 18 months; the next step for these families. Helping mothers become confident in their new roles whole providing them with services and support to help ensure they continue to thrive in this community. \nHelp us support this new ministry in town as they begin providing a much needed service to our community and surrounding area. 
URL:https://www.moultriega.com/event/hearts-handprints/
LOCATION:GA
END:VEVENT
BEGIN:VEVENT
DTSTART;TZID=UTC:20230429T103000
DTEND;TZID=UTC:20230429T123000
DTSTAMP:20260420T063340
CREATED:20230403T122632Z
LAST-MODIFIED:20230403T122632Z
UID:7438-1682764200-1682771400@www.moultriega.com
SUMMARY:African American Genealogy 101 – Laying the Foundation with Dr. Juanita Gaston
DESCRIPTION:
URL:https://www.moultriega.com/event/african-american-genealogy-101-laying-the-foundation-with-dr-juanita-gaston/
LOCATION:Moultrie-Colquitt County Library System\, 204 5th St SE\, Moultrie\, GA\, 31768\, United States
END:VEVENT
BEGIN:VEVENT
DTSTART;TZID=UTC:20230430T160000
DTEND;TZID=UTC:20230430T160000
DTSTAMP:20260420T063340
CREATED:20230418T204239Z
LAST-MODIFIED:20230425T134618Z
UID:7504-1682870400-1682870400@www.moultriega.com
SUMMARY:Mou-Town Melodies at The Arts Center
DESCRIPTION:Come and enjoy some of MOU-ltrie’s finest talent! An evening of live music\, lyrics and laughter with comedian Johnny Sweat and music by Yon Ra El & The YoFunk Experience.                   Tickets $10 each.
URL:https://www.moultriega.com/event/mou-town-melodies-at-the-arts-center-2/
LOCATION:The Arts Center\, 401 7th Avenue S.W.\, Moultrie\, GA\, 31768\, United States
END:VEVENT
BEGIN:VEVENT
DTSTART;VALUE=DATE:20230501
DTEND;VALUE=DATE:20230506
DTSTAMP:20260420T063340
CREATED:20230501T154524Z
LAST-MODIFIED:20230501T154549Z
UID:7566-1682899200-1683331199@www.moultriega.com
SUMMARY:FREE Pet Adoption | Moultrie Colquitt County Humane Society
DESCRIPTION:The Moultrie Colquitt County Humane Society is over capacity with multiple dogs needing to come in daily\, so this week they are waiving the adoption fee!\n\nPlease take a look at the available dogs we have currently at the shelter. If you would like to give a dog a furr-ever home\, please come in and fill out an application. We are open Mon – Fri 10am – 5pm.\n\n\n** All restrictions still apply. **\n If you rent\, please submit a letter from landlord giving permission to adopt at time of filling out the application.\n You will need to be 18 years old to adopt.\n You will need to provide your driver’s license to process the application\n\n\n** Due to staff caring for the dogs\, please email your questions to societymoultriehumane@gmail.com and your question will be answered as quickly as possible. **
URL:https://www.moultriega.com/event/free-pet-adoption/
LOCATION:GA
END:VEVENT
BEGIN:VEVENT
DTSTART;TZID=UTC:20230501T160000
DTEND;TZID=UTC:20230501T160000
DTSTAMP:20260420T063340
CREATED:20230424T173912Z
LAST-MODIFIED:20230424T173912Z
UID:7536-1682956800-1682956800@www.moultriega.com
SUMMARY:Guided Hike Reed Bingham State Park
DESCRIPTION:
URL:https://www.moultriega.com/event/guided-hike-reed-bingham-state-park/
LOCATION:Reed Bingham State Park\, 542 Reed Bingham Rd.\, Adel\, GA\, 31620\, United States
END:VEVENT
BEGIN:VEVENT
DTSTART;TZID=UTC:20230502T120000
DTEND;TZID=UTC:20230502T120000
DTSTAMP:20260420T063340
CREATED:20230424T173701Z
LAST-MODIFIED:20230424T173701Z
UID:7534-1683028800-1683028800@www.moultriega.com
SUMMARY:NAMI Moultrie Rally
DESCRIPTION:
URL:https://www.moultriega.com/event/nami-moultrie-rally/
LOCATION:Downtown Moultrie
END:VEVENT
BEGIN:VEVENT
DTSTART;TZID=UTC:20230502T180000
DTEND;TZID=UTC:20230502T180000
DTSTAMP:20260420T063340
CREATED:20230404T151446Z
LAST-MODIFIED:20230404T151446Z
UID:7456-1683050400-1683050400@www.moultriega.com
SUMMARY:Reversing Diabetes Seminar
DESCRIPTION:REVERSING
URL:https://www.moultriega.com/event/reversing-diabetes-seminar-5/
LOCATION:GA
END:VEVENT
BEGIN:VEVENT
DTSTART;TZID=UTC:20230502T180000
DTEND;TZID=UTC:20230502T190000
DTSTAMP:20260420T063340
CREATED:20230109T205035Z
LAST-MODIFIED:20230109T205035Z
UID:7047-1683050400-1683054000@www.moultriega.com
SUMMARY:City Council Meeting
DESCRIPTION:City Council Room 2nd Floor \n21 1st Avenue NE\nMoultrie\, GA 31768
URL:https://www.moultriega.com/event/city-council-meeting-127/
LOCATION:City Council Room\, 21 1st Avenue NE\, Moultrie\, GA\, 31768\, United States
END:VEVENT
BEGIN:VEVENT
DTSTART;TZID=UTC:20230503T143000
DTEND;TZID=UTC:20230503T143000
DTSTAMP:20260420T063340
CREATED:20230502T132930Z
LAST-MODIFIED:20230502T132930Z
UID:7573-1683124200-1683124200@www.moultriega.com
SUMMARY:Senior Adult Activity Acrylic Painting Flowers
DESCRIPTION:
URL:https://www.moultriega.com/event/senior-adult-activity-acrylic-painting-flowers/
LOCATION:The Arts Center\, 401 7th Avenue S.W.\, Moultrie\, GA\, 31768\, United States
END:VEVENT
BEGIN:VEVENT
DTSTART;TZID=UTC:20230504T160000
DTEND;TZID=UTC:20230504T160000
DTSTAMP:20260420T063340
CREATED:20230502T132727Z
LAST-MODIFIED:20230502T132727Z
UID:7571-1683216000-1683216000@www.moultriega.com
SUMMARY:Youth Workshop Star Wars Crafts
DESCRIPTION:
URL:https://www.moultriega.com/event/youth-workshop-star-wars-crafts/
LOCATION:The Arts Center\, 401 7th Avenue S.W.\, Moultrie\, GA\, 31768\, United States
END:VEVENT
BEGIN:VEVENT
DTSTART;TZID=UTC:20230504T190000
DTEND;TZID=UTC:20230504T190000
DTSTAMP:20260420T063340
CREATED:20230418T170834Z
LAST-MODIFIED:20230418T170834Z
UID:7495-1683226800-1683226800@www.moultriega.com
SUMMARY:High School Jazz Band Concert at The Arts Center
DESCRIPTION:
URL:https://www.moultriega.com/event/high-school-jazz-band-concert-at-the-arts-center/
LOCATION:The Arts Center\, 401 7th Avenue S.W.\, Moultrie\, GA\, 31768\, United States
END:VEVENT
BEGIN:VEVENT
DTSTART;TZID=UTC:20230505T160000
DTEND;TZID=UTC:20230505T190000
DTSTAMP:20260420T063340
CREATED:20230418T144539Z
LAST-MODIFIED:20230418T144539Z
UID:7490-1683302400-1683313200@www.moultriega.com
SUMMARY:Cinco de Mayo Fiesta at The Arts Centers
DESCRIPTION:
URL:https://www.moultriega.com/event/cinco-de-mayo-fiesta-at-the-arts-centers/
LOCATION:The Arts Center\, 401 7th Avenue S.W.\, Moultrie\, GA\, 31768\, United States
END:VEVENT
BEGIN:VEVENT
DTSTART;TZID=UTC:20230505T181500
DTEND;TZID=UTC:20230505T200000
DTSTAMP:20260420T063340
CREATED:20230425T202633Z
LAST-MODIFIED:20230425T202703Z
UID:7554-1683310500-1683316800@www.moultriega.com
SUMMARY:Fam Jam Field Day Finale! at Heritage Church
DESCRIPTION:Fam Jam is a free event planned for families with elementary aged kids to come and have a blast together!!! Each Fam Jam we focus on a different character quality and this month we will be learning about CONFIDENCE IN GOD. We’re defining confidence as living like you believe God is with you!!\nWe’ll start the Field Day Finale at 6:15pm with lots of field day games and FOOD. All kids and parents can participate for points for their team (red or blue team). Hotdogs and chips will be served while supplies last! The Show starts at 7PM!\nJoin us for a night full of FUN\, FAITH\, FRIENDS\, AND FAMILY!
URL:https://www.moultriega.com/event/fam-jam-at-heritage-church/
LOCATION:Heritage Church\, 844 GA Highway 33 S\, Moultrie\, GA\, 31788\, United States
END:VEVENT
BEGIN:VEVENT
DTSTART;VALUE=DATE:20230506
DTEND;VALUE=DATE:20230507
DTSTAMP:20260420T063340
CREATED:20230419T122054Z
LAST-MODIFIED:20230419T122054Z
UID:7508-1683331200-1683417599@www.moultriega.com
SUMMARY:May Day Festival in Doerun
DESCRIPTION:
URL:https://www.moultriega.com/event/may-day-festival-in-doerun/
LOCATION:GA
END:VEVENT
END:VCALENDAR